BEGIN:VCALENDAR
VERSION:2.0
PRODID:-//Troup County Archives &amp; Legacy Museum on Main - ECPv6.15.20//NONSGML v1.0//EN
CALSCALE:GREGORIAN
METHOD:PUBLISH
X-WR-CALNAME:Troup County Archives &amp; Legacy Museum on Main
X-ORIGINAL-URL:https://www.trouphistory.org
X-WR-CALDESC:Events for Troup County Archives &amp; Legacy Museum on Main
REFRESH-INTERVAL;VALUE=DURATION:PT1H
X-Robots-Tag:noindex
X-PUBLISHED-TTL:PT1H
BEGIN:VTIMEZONE
TZID:America/New_York
BEGIN:DAYLIGHT
TZOFFSETFROM:-0500
TZOFFSETTO:-0400
TZNAME:EDT
DTSTART:20230312T070000
END:DAYLIGHT
BEGIN:STANDARD
TZOFFSETFROM:-0400
TZOFFSETTO:-0500
TZNAME:EST
DTSTART:20231105T060000
END:STANDARD
BEGIN:DAYLIGHT
TZOFFSETFROM:-0500
TZOFFSETTO:-0400
TZNAME:EDT
DTSTART:20240310T070000
END:DAYLIGHT
BEGIN:STANDARD
TZOFFSETFROM:-0400
TZOFFSETTO:-0500
TZNAME:EST
DTSTART:20241103T060000
END:STANDARD
BEGIN:DAYLIGHT
TZOFFSETFROM:-0500
TZOFFSETTO:-0400
TZNAME:EDT
DTSTART:20250309T070000
END:DAYLIGHT
BEGIN:STANDARD
TZOFFSETFROM:-0400
TZOFFSETTO:-0500
TZNAME:EST
DTSTART:20251102T060000
END:STANDARD
END:VTIMEZONE
BEGIN:VEVENT
DTSTART;TZID=America/New_York:20240718T090000
DTEND;TZID=America/New_York:20240718T130000
DTSTAMP:20260422T152840
CREATED:20240515T163234Z
LAST-MODIFIED:20240515T163234Z
UID:10000532-1721293200-1721307600@www.trouphistory.org
SUMMARY:Hands on Summer
DESCRIPTION:Stop by anytime between 9am-1pm\, Monday-Thursday for a different activity every week this summer. From rock painting to historic crafts\, there is something for everyone. Starting June 3rd. No registration required! Tailored for ages 5-12\, but all are welcome. 
URL:https://www.trouphistory.org/events/hands-on-summer/2024-07-18/
LOCATION:Legacy Museum on Main\, 136 Main Street\, LaGrange\, GA\, 30241\, United States
ATTACH;FMTTYPE=image/png:https://www.trouphistory.org/wp-content/uploads/Hands-on-Summer-2.png
ORGANIZER;CN="Troup County Archives":MAILTO:info@trouphistory.org
END:VEVENT
BEGIN:VEVENT
DTSTART;TZID=America/New_York:20240717T090000
DTEND;TZID=America/New_York:20240717T130000
DTSTAMP:20260422T152840
CREATED:20240515T163234Z
LAST-MODIFIED:20240515T163234Z
UID:10000531-1721206800-1721221200@www.trouphistory.org
SUMMARY:Hands on Summer
DESCRIPTION:Stop by anytime between 9am-1pm\, Monday-Thursday for a different activity every week this summer. From rock painting to historic crafts\, there is something for everyone. Starting June 3rd. No registration required! Tailored for ages 5-12\, but all are welcome. 
URL:https://www.trouphistory.org/events/hands-on-summer/2024-07-17/
LOCATION:Legacy Museum on Main\, 136 Main Street\, LaGrange\, GA\, 30241\, United States
ATTACH;FMTTYPE=image/png:https://www.trouphistory.org/wp-content/uploads/Hands-on-Summer-2.png
ORGANIZER;CN="Troup County Archives":MAILTO:info@trouphistory.org
END:VEVENT
BEGIN:VEVENT
DTSTART;TZID=America/New_York:20240716T090000
DTEND;TZID=America/New_York:20240716T130000
DTSTAMP:20260422T152840
CREATED:20240515T163234Z
LAST-MODIFIED:20240515T163234Z
UID:10000530-1721120400-1721134800@www.trouphistory.org
SUMMARY:Hands on Summer
DESCRIPTION:Stop by anytime between 9am-1pm\, Monday-Thursday for a different activity every week this summer. From rock painting to historic crafts\, there is something for everyone. Starting June 3rd. No registration required! Tailored for ages 5-12\, but all are welcome. 
URL:https://www.trouphistory.org/events/hands-on-summer/2024-07-16/
LOCATION:Legacy Museum on Main\, 136 Main Street\, LaGrange\, GA\, 30241\, United States
ATTACH;FMTTYPE=image/png:https://www.trouphistory.org/wp-content/uploads/Hands-on-Summer-2.png
ORGANIZER;CN="Troup County Archives":MAILTO:info@trouphistory.org
END:VEVENT
BEGIN:VEVENT
DTSTART;TZID=America/New_York:20240715T090000
DTEND;TZID=America/New_York:20240715T130000
DTSTAMP:20260422T152840
CREATED:20240515T163234Z
LAST-MODIFIED:20240515T163234Z
UID:10000529-1721034000-1721048400@www.trouphistory.org
SUMMARY:Hands on Summer
DESCRIPTION:Stop by anytime between 9am-1pm\, Monday-Thursday for a different activity every week this summer. From rock painting to historic crafts\, there is something for everyone. Starting June 3rd. No registration required! Tailored for ages 5-12\, but all are welcome. 
URL:https://www.trouphistory.org/events/hands-on-summer/2024-07-15/
LOCATION:Legacy Museum on Main\, 136 Main Street\, LaGrange\, GA\, 30241\, United States
ATTACH;FMTTYPE=image/png:https://www.trouphistory.org/wp-content/uploads/Hands-on-Summer-2.png
ORGANIZER;CN="Troup County Archives":MAILTO:info@trouphistory.org
END:VEVENT
BEGIN:VEVENT
DTSTART;TZID=America/New_York:20240712T190000
DTEND;TZID=America/New_York:20240712T210000
DTSTAMP:20260422T152840
CREATED:20240405T142441Z
LAST-MODIFIED:20240529T155432Z
UID:10000762-1720810800-1720818000@www.trouphistory.org
SUMMARY:Strange LaGrange: A Walking Tour
DESCRIPTION:Created and led by Lewis Powell\, a historian and researcher with the Troup County Archives\, this walking tour thrills as it winds through downtown LaGrange. The tour touches on places where history manifests itself in the form the unexplainable. This tour is family friendly.
URL:https://www.trouphistory.org/events/strange-lagrange-a-walking-tour-2/2024-07-12/
LOCATION:Legacy Museum on Main\, 136 Main Street\, LaGrange\, GA\, 30241\, United States
CATEGORIES:Walking Tours
ATTACH;FMTTYPE=image/png:https://www.trouphistory.org/wp-content/uploads/wepik-strange-lagrange-poster-20240405140545lZld.png
ORGANIZER;CN="Troup County Archives":MAILTO:info@trouphistory.org
END:VEVENT
BEGIN:VEVENT
DTSTART;TZID=America/New_York:20240712T180000
DTEND;TZID=America/New_York:20240712T220000
DTSTAMP:20260422T152840
CREATED:20240708T141206Z
LAST-MODIFIED:20240708T141206Z
UID:10000765-1720807200-1720821600@www.trouphistory.org
SUMMARY:Night at the Museum
DESCRIPTION:Calling all young historians! Come in your pj’s and explore Legacy Museum after hours. Create crafts\, play games\, and more as we explore the wonders of ANCIENT GREECE. Tailored for ages 6-10. Sign up at the link quickly\, this event will fill up!
URL:https://www.trouphistory.org/events/night-at-the-museum-2/
LOCATION:Legacy Museum on Main\, 136 Main Street\, LaGrange\, GA\, 30241\, United States
CATEGORIES:Young Historians
ATTACH;FMTTYPE=image/png:https://www.trouphistory.org/wp-content/uploads/KIDS-NIGHT-AT-THE-MUSEUM-2.png
ORGANIZER;CN="Troup County Archives":MAILTO:info@trouphistory.org
END:VEVENT
BEGIN:VEVENT
DTSTART;TZID=America/New_York:20240711T090000
DTEND;TZID=America/New_York:20240711T130000
DTSTAMP:20260422T152840
CREATED:20240515T163234Z
LAST-MODIFIED:20240515T163234Z
UID:10000528-1720688400-1720702800@www.trouphistory.org
SUMMARY:Hands on Summer
DESCRIPTION:Stop by anytime between 9am-1pm\, Monday-Thursday for a different activity every week this summer. From rock painting to historic crafts\, there is something for everyone. Starting June 3rd. No registration required! Tailored for ages 5-12\, but all are welcome. 
URL:https://www.trouphistory.org/events/hands-on-summer/2024-07-11/
LOCATION:Legacy Museum on Main\, 136 Main Street\, LaGrange\, GA\, 30241\, United States
ATTACH;FMTTYPE=image/png:https://www.trouphistory.org/wp-content/uploads/Hands-on-Summer-2.png
ORGANIZER;CN="Troup County Archives":MAILTO:info@trouphistory.org
END:VEVENT
BEGIN:VEVENT
DTSTART;TZID=America/New_York:20240710T090000
DTEND;TZID=America/New_York:20240710T130000
DTSTAMP:20260422T152840
CREATED:20240515T163234Z
LAST-MODIFIED:20240515T163234Z
UID:10000527-1720602000-1720616400@www.trouphistory.org
SUMMARY:Hands on Summer
DESCRIPTION:Stop by anytime between 9am-1pm\, Monday-Thursday for a different activity every week this summer. From rock painting to historic crafts\, there is something for everyone. Starting June 3rd. No registration required! Tailored for ages 5-12\, but all are welcome. 
URL:https://www.trouphistory.org/events/hands-on-summer/2024-07-10/
LOCATION:Legacy Museum on Main\, 136 Main Street\, LaGrange\, GA\, 30241\, United States
ATTACH;FMTTYPE=image/png:https://www.trouphistory.org/wp-content/uploads/Hands-on-Summer-2.png
ORGANIZER;CN="Troup County Archives":MAILTO:info@trouphistory.org
END:VEVENT
BEGIN:VEVENT
DTSTART;TZID=America/New_York:20240709T090000
DTEND;TZID=America/New_York:20240709T130000
DTSTAMP:20260422T152840
CREATED:20240515T163234Z
LAST-MODIFIED:20240515T163234Z
UID:10000526-1720515600-1720530000@www.trouphistory.org
SUMMARY:Hands on Summer
DESCRIPTION:Stop by anytime between 9am-1pm\, Monday-Thursday for a different activity every week this summer. From rock painting to historic crafts\, there is something for everyone. Starting June 3rd. No registration required! Tailored for ages 5-12\, but all are welcome. 
URL:https://www.trouphistory.org/events/hands-on-summer/2024-07-09/
LOCATION:Legacy Museum on Main\, 136 Main Street\, LaGrange\, GA\, 30241\, United States
ATTACH;FMTTYPE=image/png:https://www.trouphistory.org/wp-content/uploads/Hands-on-Summer-2.png
ORGANIZER;CN="Troup County Archives":MAILTO:info@trouphistory.org
END:VEVENT
BEGIN:VEVENT
DTSTART;TZID=America/New_York:20240708T090000
DTEND;TZID=America/New_York:20240708T130000
DTSTAMP:20260422T152840
CREATED:20240515T163234Z
LAST-MODIFIED:20240515T163234Z
UID:10000525-1720429200-1720443600@www.trouphistory.org
SUMMARY:Hands on Summer
DESCRIPTION:Stop by anytime between 9am-1pm\, Monday-Thursday for a different activity every week this summer. From rock painting to historic crafts\, there is something for everyone. Starting June 3rd. No registration required! Tailored for ages 5-12\, but all are welcome. 
URL:https://www.trouphistory.org/events/hands-on-summer/2024-07-08/
LOCATION:Legacy Museum on Main\, 136 Main Street\, LaGrange\, GA\, 30241\, United States
ATTACH;FMTTYPE=image/png:https://www.trouphistory.org/wp-content/uploads/Hands-on-Summer-2.png
ORGANIZER;CN="Troup County Archives":MAILTO:info@trouphistory.org
END:VEVENT
BEGIN:VEVENT
DTSTART;TZID=America/New_York:20240705T190000
DTEND;TZID=America/New_York:20240705T210000
DTSTAMP:20260422T152840
CREATED:20240405T142441Z
LAST-MODIFIED:20240529T155432Z
UID:10000761-1720206000-1720213200@www.trouphistory.org
SUMMARY:Strange LaGrange: A Walking Tour
DESCRIPTION:Created and led by Lewis Powell\, a historian and researcher with the Troup County Archives\, this walking tour thrills as it winds through downtown LaGrange. The tour touches on places where history manifests itself in the form the unexplainable. This tour is family friendly.
URL:https://www.trouphistory.org/events/strange-lagrange-a-walking-tour-2/2024-07-05/
LOCATION:Legacy Museum on Main\, 136 Main Street\, LaGrange\, GA\, 30241\, United States
CATEGORIES:Walking Tours
ATTACH;FMTTYPE=image/png:https://www.trouphistory.org/wp-content/uploads/wepik-strange-lagrange-poster-20240405140545lZld.png
ORGANIZER;CN="Troup County Archives":MAILTO:info@trouphistory.org
END:VEVENT
BEGIN:VEVENT
DTSTART;TZID=America/New_York:20240704T090000
DTEND;TZID=America/New_York:20240704T130000
DTSTAMP:20260422T152840
CREATED:20240515T163234Z
LAST-MODIFIED:20240515T163234Z
UID:10000524-1720083600-1720098000@www.trouphistory.org
SUMMARY:Hands on Summer
DESCRIPTION:Stop by anytime between 9am-1pm\, Monday-Thursday for a different activity every week this summer. From rock painting to historic crafts\, there is something for everyone. Starting June 3rd. No registration required! Tailored for ages 5-12\, but all are welcome. 
URL:https://www.trouphistory.org/events/hands-on-summer/2024-07-04/
LOCATION:Legacy Museum on Main\, 136 Main Street\, LaGrange\, GA\, 30241\, United States
ATTACH;FMTTYPE=image/png:https://www.trouphistory.org/wp-content/uploads/Hands-on-Summer-2.png
ORGANIZER;CN="Troup County Archives":MAILTO:info@trouphistory.org
END:VEVENT
BEGIN:VEVENT
DTSTART;TZID=America/New_York:20240703T090000
DTEND;TZID=America/New_York:20240703T130000
DTSTAMP:20260422T152840
CREATED:20240515T163234Z
LAST-MODIFIED:20240515T163234Z
UID:10000523-1719997200-1720011600@www.trouphistory.org
SUMMARY:Hands on Summer
DESCRIPTION:Stop by anytime between 9am-1pm\, Monday-Thursday for a different activity every week this summer. From rock painting to historic crafts\, there is something for everyone. Starting June 3rd. No registration required! Tailored for ages 5-12\, but all are welcome. 
URL:https://www.trouphistory.org/events/hands-on-summer/2024-07-03/
LOCATION:Legacy Museum on Main\, 136 Main Street\, LaGrange\, GA\, 30241\, United States
ATTACH;FMTTYPE=image/png:https://www.trouphistory.org/wp-content/uploads/Hands-on-Summer-2.png
ORGANIZER;CN="Troup County Archives":MAILTO:info@trouphistory.org
END:VEVENT
BEGIN:VEVENT
DTSTART;TZID=America/New_York:20240702T090000
DTEND;TZID=America/New_York:20240702T130000
DTSTAMP:20260422T152840
CREATED:20240515T163234Z
LAST-MODIFIED:20240515T163234Z
UID:10000522-1719910800-1719925200@www.trouphistory.org
SUMMARY:Hands on Summer
DESCRIPTION:Stop by anytime between 9am-1pm\, Monday-Thursday for a different activity every week this summer. From rock painting to historic crafts\, there is something for everyone. Starting June 3rd. No registration required! Tailored for ages 5-12\, but all are welcome. 
URL:https://www.trouphistory.org/events/hands-on-summer/2024-07-02/
LOCATION:Legacy Museum on Main\, 136 Main Street\, LaGrange\, GA\, 30241\, United States
ATTACH;FMTTYPE=image/png:https://www.trouphistory.org/wp-content/uploads/Hands-on-Summer-2.png
ORGANIZER;CN="Troup County Archives":MAILTO:info@trouphistory.org
END:VEVENT
BEGIN:VEVENT
DTSTART;TZID=America/New_York:20240701T090000
DTEND;TZID=America/New_York:20240701T130000
DTSTAMP:20260422T152840
CREATED:20240515T163234Z
LAST-MODIFIED:20240515T163234Z
UID:10000521-1719824400-1719838800@www.trouphistory.org
SUMMARY:Hands on Summer
DESCRIPTION:Stop by anytime between 9am-1pm\, Monday-Thursday for a different activity every week this summer. From rock painting to historic crafts\, there is something for everyone. Starting June 3rd. No registration required! Tailored for ages 5-12\, but all are welcome. 
URL:https://www.trouphistory.org/events/hands-on-summer/2024-07-01/
LOCATION:Legacy Museum on Main\, 136 Main Street\, LaGrange\, GA\, 30241\, United States
ATTACH;FMTTYPE=image/png:https://www.trouphistory.org/wp-content/uploads/Hands-on-Summer-2.png
ORGANIZER;CN="Troup County Archives":MAILTO:info@trouphistory.org
END:VEVENT
BEGIN:VEVENT
DTSTART;TZID=America/New_York:20240628T190000
DTEND;TZID=America/New_York:20240628T210000
DTSTAMP:20260422T152840
CREATED:20240405T142441Z
LAST-MODIFIED:20240529T155432Z
UID:10000760-1719601200-1719608400@www.trouphistory.org
SUMMARY:Strange LaGrange: A Walking Tour
DESCRIPTION:Created and led by Lewis Powell\, a historian and researcher with the Troup County Archives\, this walking tour thrills as it winds through downtown LaGrange. The tour touches on places where history manifests itself in the form the unexplainable. This tour is family friendly.
URL:https://www.trouphistory.org/events/strange-lagrange-a-walking-tour-2/2024-06-28/
LOCATION:Legacy Museum on Main\, 136 Main Street\, LaGrange\, GA\, 30241\, United States
CATEGORIES:Walking Tours
ATTACH;FMTTYPE=image/png:https://www.trouphistory.org/wp-content/uploads/wepik-strange-lagrange-poster-20240405140545lZld.png
ORGANIZER;CN="Troup County Archives":MAILTO:info@trouphistory.org
END:VEVENT
BEGIN:VEVENT
DTSTART;TZID=America/New_York:20240627T090000
DTEND;TZID=America/New_York:20240627T130000
DTSTAMP:20260422T152840
CREATED:20240515T163234Z
LAST-MODIFIED:20240515T163234Z
UID:10000520-1719478800-1719493200@www.trouphistory.org
SUMMARY:Hands on Summer
DESCRIPTION:Stop by anytime between 9am-1pm\, Monday-Thursday for a different activity every week this summer. From rock painting to historic crafts\, there is something for everyone. Starting June 3rd. No registration required! Tailored for ages 5-12\, but all are welcome. 
URL:https://www.trouphistory.org/events/hands-on-summer/2024-06-27/
LOCATION:Legacy Museum on Main\, 136 Main Street\, LaGrange\, GA\, 30241\, United States
ATTACH;FMTTYPE=image/png:https://www.trouphistory.org/wp-content/uploads/Hands-on-Summer-2.png
ORGANIZER;CN="Troup County Archives":MAILTO:info@trouphistory.org
END:VEVENT
BEGIN:VEVENT
DTSTART;TZID=America/New_York:20240626T090000
DTEND;TZID=America/New_York:20240626T130000
DTSTAMP:20260422T152840
CREATED:20240515T163234Z
LAST-MODIFIED:20240515T163234Z
UID:10000519-1719392400-1719406800@www.trouphistory.org
SUMMARY:Hands on Summer
DESCRIPTION:Stop by anytime between 9am-1pm\, Monday-Thursday for a different activity every week this summer. From rock painting to historic crafts\, there is something for everyone. Starting June 3rd. No registration required! Tailored for ages 5-12\, but all are welcome. 
URL:https://www.trouphistory.org/events/hands-on-summer/2024-06-26/
LOCATION:Legacy Museum on Main\, 136 Main Street\, LaGrange\, GA\, 30241\, United States
ATTACH;FMTTYPE=image/png:https://www.trouphistory.org/wp-content/uploads/Hands-on-Summer-2.png
ORGANIZER;CN="Troup County Archives":MAILTO:info@trouphistory.org
END:VEVENT
BEGIN:VEVENT
DTSTART;TZID=America/New_York:20240625T090000
DTEND;TZID=America/New_York:20240625T130000
DTSTAMP:20260422T152840
CREATED:20240515T163234Z
LAST-MODIFIED:20240515T163234Z
UID:10000518-1719306000-1719320400@www.trouphistory.org
SUMMARY:Hands on Summer
DESCRIPTION:Stop by anytime between 9am-1pm\, Monday-Thursday for a different activity every week this summer. From rock painting to historic crafts\, there is something for everyone. Starting June 3rd. No registration required! Tailored for ages 5-12\, but all are welcome. 
URL:https://www.trouphistory.org/events/hands-on-summer/2024-06-25/
LOCATION:Legacy Museum on Main\, 136 Main Street\, LaGrange\, GA\, 30241\, United States
ATTACH;FMTTYPE=image/png:https://www.trouphistory.org/wp-content/uploads/Hands-on-Summer-2.png
ORGANIZER;CN="Troup County Archives":MAILTO:info@trouphistory.org
END:VEVENT
BEGIN:VEVENT
DTSTART;TZID=America/New_York:20240624T090000
DTEND;TZID=America/New_York:20240624T130000
DTSTAMP:20260422T152840
CREATED:20240515T163234Z
LAST-MODIFIED:20240515T163234Z
UID:10000517-1719219600-1719234000@www.trouphistory.org
SUMMARY:Hands on Summer
DESCRIPTION:Stop by anytime between 9am-1pm\, Monday-Thursday for a different activity every week this summer. From rock painting to historic crafts\, there is something for everyone. Starting June 3rd. No registration required! Tailored for ages 5-12\, but all are welcome. 
URL:https://www.trouphistory.org/events/hands-on-summer/2024-06-24/
LOCATION:Legacy Museum on Main\, 136 Main Street\, LaGrange\, GA\, 30241\, United States
ATTACH;FMTTYPE=image/png:https://www.trouphistory.org/wp-content/uploads/Hands-on-Summer-2.png
ORGANIZER;CN="Troup County Archives":MAILTO:info@trouphistory.org
END:VEVENT
BEGIN:VEVENT
DTSTART;TZID=America/New_York:20240621T190000
DTEND;TZID=America/New_York:20240621T210000
DTSTAMP:20260422T152840
CREATED:20240405T142441Z
LAST-MODIFIED:20240529T155432Z
UID:10000759-1718996400-1719003600@www.trouphistory.org
SUMMARY:Strange LaGrange: A Walking Tour
DESCRIPTION:Created and led by Lewis Powell\, a historian and researcher with the Troup County Archives\, this walking tour thrills as it winds through downtown LaGrange. The tour touches on places where history manifests itself in the form the unexplainable. This tour is family friendly.
URL:https://www.trouphistory.org/events/strange-lagrange-a-walking-tour-2/2024-06-21/
LOCATION:Legacy Museum on Main\, 136 Main Street\, LaGrange\, GA\, 30241\, United States
CATEGORIES:Walking Tours
ATTACH;FMTTYPE=image/png:https://www.trouphistory.org/wp-content/uploads/wepik-strange-lagrange-poster-20240405140545lZld.png
ORGANIZER;CN="Troup County Archives":MAILTO:info@trouphistory.org
END:VEVENT
BEGIN:VEVENT
DTSTART;TZID=America/New_York:20240620T090000
DTEND;TZID=America/New_York:20240620T130000
DTSTAMP:20260422T152840
CREATED:20240515T163234Z
LAST-MODIFIED:20240515T163234Z
UID:10000516-1718874000-1718888400@www.trouphistory.org
SUMMARY:Hands on Summer
DESCRIPTION:Stop by anytime between 9am-1pm\, Monday-Thursday for a different activity every week this summer. From rock painting to historic crafts\, there is something for everyone. Starting June 3rd. No registration required! Tailored for ages 5-12\, but all are welcome. 
URL:https://www.trouphistory.org/events/hands-on-summer/2024-06-20/
LOCATION:Legacy Museum on Main\, 136 Main Street\, LaGrange\, GA\, 30241\, United States
ATTACH;FMTTYPE=image/png:https://www.trouphistory.org/wp-content/uploads/Hands-on-Summer-2.png
ORGANIZER;CN="Troup County Archives":MAILTO:info@trouphistory.org
END:VEVENT
BEGIN:VEVENT
DTSTART;TZID=America/New_York:20240619T090000
DTEND;TZID=America/New_York:20240619T130000
DTSTAMP:20260422T152840
CREATED:20240515T163234Z
LAST-MODIFIED:20240515T163234Z
UID:10000515-1718787600-1718802000@www.trouphistory.org
SUMMARY:Hands on Summer
DESCRIPTION:Stop by anytime between 9am-1pm\, Monday-Thursday for a different activity every week this summer. From rock painting to historic crafts\, there is something for everyone. Starting June 3rd. No registration required! Tailored for ages 5-12\, but all are welcome. 
URL:https://www.trouphistory.org/events/hands-on-summer/2024-06-19/
LOCATION:Legacy Museum on Main\, 136 Main Street\, LaGrange\, GA\, 30241\, United States
ATTACH;FMTTYPE=image/png:https://www.trouphistory.org/wp-content/uploads/Hands-on-Summer-2.png
ORGANIZER;CN="Troup County Archives":MAILTO:info@trouphistory.org
END:VEVENT
BEGIN:VEVENT
DTSTART;TZID=America/New_York:20240618T090000
DTEND;TZID=America/New_York:20240618T130000
DTSTAMP:20260422T152840
CREATED:20240515T163234Z
LAST-MODIFIED:20240515T163234Z
UID:10000514-1718701200-1718715600@www.trouphistory.org
SUMMARY:Hands on Summer
DESCRIPTION:Stop by anytime between 9am-1pm\, Monday-Thursday for a different activity every week this summer. From rock painting to historic crafts\, there is something for everyone. Starting June 3rd. No registration required! Tailored for ages 5-12\, but all are welcome. 
URL:https://www.trouphistory.org/events/hands-on-summer/2024-06-18/
LOCATION:Legacy Museum on Main\, 136 Main Street\, LaGrange\, GA\, 30241\, United States
ATTACH;FMTTYPE=image/png:https://www.trouphistory.org/wp-content/uploads/Hands-on-Summer-2.png
ORGANIZER;CN="Troup County Archives":MAILTO:info@trouphistory.org
END:VEVENT
BEGIN:VEVENT
DTSTART;TZID=America/New_York:20240617T090000
DTEND;TZID=America/New_York:20240617T130000
DTSTAMP:20260422T152840
CREATED:20240515T163234Z
LAST-MODIFIED:20240515T163234Z
UID:10000513-1718614800-1718629200@www.trouphistory.org
SUMMARY:Hands on Summer
DESCRIPTION:Stop by anytime between 9am-1pm\, Monday-Thursday for a different activity every week this summer. From rock painting to historic crafts\, there is something for everyone. Starting June 3rd. No registration required! Tailored for ages 5-12\, but all are welcome. 
URL:https://www.trouphistory.org/events/hands-on-summer/2024-06-17/
LOCATION:Legacy Museum on Main\, 136 Main Street\, LaGrange\, GA\, 30241\, United States
ATTACH;FMTTYPE=image/png:https://www.trouphistory.org/wp-content/uploads/Hands-on-Summer-2.png
ORGANIZER;CN="Troup County Archives":MAILTO:info@trouphistory.org
END:VEVENT
BEGIN:VEVENT
DTSTART;TZID=America/New_York:20240614T190000
DTEND;TZID=America/New_York:20240614T210000
DTSTAMP:20260422T152840
CREATED:20240405T142441Z
LAST-MODIFIED:20240529T155432Z
UID:10000758-1718391600-1718398800@www.trouphistory.org
SUMMARY:Strange LaGrange: A Walking Tour
DESCRIPTION:Created and led by Lewis Powell\, a historian and researcher with the Troup County Archives\, this walking tour thrills as it winds through downtown LaGrange. The tour touches on places where history manifests itself in the form the unexplainable. This tour is family friendly.
URL:https://www.trouphistory.org/events/strange-lagrange-a-walking-tour-2/2024-06-14/
LOCATION:Legacy Museum on Main\, 136 Main Street\, LaGrange\, GA\, 30241\, United States
CATEGORIES:Walking Tours
ATTACH;FMTTYPE=image/png:https://www.trouphistory.org/wp-content/uploads/wepik-strange-lagrange-poster-20240405140545lZld.png
ORGANIZER;CN="Troup County Archives":MAILTO:info@trouphistory.org
END:VEVENT
BEGIN:VEVENT
DTSTART;TZID=America/New_York:20240614T180000
DTEND;TZID=America/New_York:20240614T220000
DTSTAMP:20260422T152840
CREATED:20240515T153958Z
LAST-MODIFIED:20240515T153958Z
UID:10000504-1718388000-1718402400@www.trouphistory.org
SUMMARY:Night at the Museum
DESCRIPTION:Calling all young historians! Come in your pj’s and explore Legacy Museum after hours. Go on a scavenger hunt\, play games\, and more. Tailored for ages 6-10. This event is FREE\, but donations are graciously accepted. Spots are limited; sign up using the link to the right.
URL:https://www.trouphistory.org/events/night-at-the-museum/
LOCATION:Legacy Museum on Main\, 136 Main Street\, LaGrange\, GA\, 30241\, United States
CATEGORIES:General Event,Young Historians
ATTACH;FMTTYPE=image/png:https://www.trouphistory.org/wp-content/uploads/KIDS-NIGHT-AT-THE-MUSEUM.png
ORGANIZER;CN="Troup County Archives":MAILTO:info@trouphistory.org
END:VEVENT
BEGIN:VEVENT
DTSTART;TZID=America/New_York:20240613T090000
DTEND;TZID=America/New_York:20240613T130000
DTSTAMP:20260422T152840
CREATED:20240515T163234Z
LAST-MODIFIED:20240515T163234Z
UID:10000512-1718269200-1718283600@www.trouphistory.org
SUMMARY:Hands on Summer
DESCRIPTION:Stop by anytime between 9am-1pm\, Monday-Thursday for a different activity every week this summer. From rock painting to historic crafts\, there is something for everyone. Starting June 3rd. No registration required! Tailored for ages 5-12\, but all are welcome. 
URL:https://www.trouphistory.org/events/hands-on-summer/2024-06-13/
LOCATION:Legacy Museum on Main\, 136 Main Street\, LaGrange\, GA\, 30241\, United States
ATTACH;FMTTYPE=image/png:https://www.trouphistory.org/wp-content/uploads/Hands-on-Summer-2.png
ORGANIZER;CN="Troup County Archives":MAILTO:info@trouphistory.org
END:VEVENT
BEGIN:VEVENT
DTSTART;TZID=America/New_York:20240612T090000
DTEND;TZID=America/New_York:20240612T130000
DTSTAMP:20260422T152840
CREATED:20240515T163234Z
LAST-MODIFIED:20240515T163234Z
UID:10000511-1718182800-1718197200@www.trouphistory.org
SUMMARY:Hands on Summer
DESCRIPTION:Stop by anytime between 9am-1pm\, Monday-Thursday for a different activity every week this summer. From rock painting to historic crafts\, there is something for everyone. Starting June 3rd. No registration required! Tailored for ages 5-12\, but all are welcome. 
URL:https://www.trouphistory.org/events/hands-on-summer/2024-06-12/
LOCATION:Legacy Museum on Main\, 136 Main Street\, LaGrange\, GA\, 30241\, United States
ATTACH;FMTTYPE=image/png:https://www.trouphistory.org/wp-content/uploads/Hands-on-Summer-2.png
ORGANIZER;CN="Troup County Archives":MAILTO:info@trouphistory.org
END:VEVENT
BEGIN:VEVENT
DTSTART;TZID=America/New_York:20240611T090000
DTEND;TZID=America/New_York:20240611T130000
DTSTAMP:20260422T152840
CREATED:20240515T163234Z
LAST-MODIFIED:20240515T163234Z
UID:10000510-1718096400-1718110800@www.trouphistory.org
SUMMARY:Hands on Summer
DESCRIPTION:Stop by anytime between 9am-1pm\, Monday-Thursday for a different activity every week this summer. From rock painting to historic crafts\, there is something for everyone. Starting June 3rd. No registration required! Tailored for ages 5-12\, but all are welcome. 
URL:https://www.trouphistory.org/events/hands-on-summer/2024-06-11/
LOCATION:Legacy Museum on Main\, 136 Main Street\, LaGrange\, GA\, 30241\, United States
ATTACH;FMTTYPE=image/png:https://www.trouphistory.org/wp-content/uploads/Hands-on-Summer-2.png
ORGANIZER;CN="Troup County Archives":MAILTO:info@trouphistory.org
END:VEVENT
END:VCALENDAR