BEGIN:VCALENDAR
VERSION:2.0
PRODID:-//Troup County Archives &amp; Legacy Museum on Main - ECPv6.15.20//NONSGML v1.0//EN
CALSCALE:GREGORIAN
METHOD:PUBLISH
X-WR-CALNAME:Troup County Archives &amp; Legacy Museum on Main
X-ORIGINAL-URL:https://www.trouphistory.org
X-WR-CALDESC:Events for Troup County Archives &amp; Legacy Museum on Main
REFRESH-INTERVAL;VALUE=DURATION:PT1H
X-Robots-Tag:noindex
X-PUBLISHED-TTL:PT1H
BEGIN:VTIMEZONE
TZID:America/New_York
BEGIN:DAYLIGHT
TZOFFSETFROM:-0500
TZOFFSETTO:-0400
TZNAME:EDT
DTSTART:20230312T070000
END:DAYLIGHT
BEGIN:STANDARD
TZOFFSETFROM:-0400
TZOFFSETTO:-0500
TZNAME:EST
DTSTART:20231105T060000
END:STANDARD
BEGIN:DAYLIGHT
TZOFFSETFROM:-0500
TZOFFSETTO:-0400
TZNAME:EDT
DTSTART:20240310T070000
END:DAYLIGHT
BEGIN:STANDARD
TZOFFSETFROM:-0400
TZOFFSETTO:-0500
TZNAME:EST
DTSTART:20241103T060000
END:STANDARD
BEGIN:DAYLIGHT
TZOFFSETFROM:-0500
TZOFFSETTO:-0400
TZNAME:EDT
DTSTART:20250309T070000
END:DAYLIGHT
BEGIN:STANDARD
TZOFFSETFROM:-0400
TZOFFSETTO:-0500
TZNAME:EST
DTSTART:20251102T060000
END:STANDARD
BEGIN:DAYLIGHT
TZOFFSETFROM:-0500
TZOFFSETTO:-0400
TZNAME:EDT
DTSTART:20260308T070000
END:DAYLIGHT
BEGIN:STANDARD
TZOFFSETFROM:-0400
TZOFFSETTO:-0500
TZNAME:EST
DTSTART:20261101T060000
END:STANDARD
BEGIN:DAYLIGHT
TZOFFSETFROM:-0500
TZOFFSETTO:-0400
TZNAME:EDT
DTSTART:20270314T070000
END:DAYLIGHT
BEGIN:STANDARD
TZOFFSETFROM:-0400
TZOFFSETTO:-0500
TZNAME:EST
DTSTART:20271107T060000
END:STANDARD
END:VTIMEZONE
BEGIN:VEVENT
DTSTART;TZID=America/New_York:20250523T190000
DTEND;TZID=America/New_York:20250523T210000
DTSTAMP:20260422T120322
CREATED:20250522T180701Z
LAST-MODIFIED:20250522T180701Z
UID:10001243-1748026800-1748034000@www.trouphistory.org
SUMMARY:Strange LaGrange
DESCRIPTION:
URL:https://www.trouphistory.org/events/strange-lagrange/2025-05-23/
LOCATION:Legacy Museum on Main\, 136 Main Street\, LaGrange\, GA\, 30241\, United States
CATEGORIES:Walking Tours
ATTACH;FMTTYPE=image/png:https://www.trouphistory.org/wp-content/uploads/STG-LG-2024.png
ORGANIZER;CN="Troup County Archives":MAILTO:info@trouphistory.org
END:VEVENT
BEGIN:VEVENT
DTSTART;TZID=America/New_York:20250427T140000
DTEND;TZID=America/New_York:20250427T153000
DTSTAMP:20260422T120322
CREATED:20250416T150656Z
LAST-MODIFIED:20250416T150656Z
UID:10000782-1745762400-1745767800@www.trouphistory.org
SUMMARY:Victory Gardens
DESCRIPTION:With today’s resurgence in growing your own healthful vegetables\, did you ever wonder “how did home growing get so popular?”\, and “what was the most popular early gardening show on television?” The history of a Victory Garden can answer that! From World War II to today\, gardening in one’s own backyard has remained a beloved pastime! \nSunday\, April 27 at 2:00 PM\n136 Main Street\, Troup County Archives & Legacy Museum on Main\nFree Admission | Light Refreshments Provided
URL:https://www.trouphistory.org/events/victory-gardens/
LOCATION:Legacy Museum on Main\, 136 Main Street\, LaGrange\, GA\, 30241\, United States
CATEGORIES:General Event,Lecture
ATTACH;FMTTYPE=image/png:https://www.trouphistory.org/wp-content/uploads/Simple-Orange-Gardening-Workshop-Event-Poster.png
ORGANIZER;CN="Troup County Archives":MAILTO:info@trouphistory.org
END:VEVENT
BEGIN:VEVENT
DTSTART;VALUE=DATE:20250224
DTEND;VALUE=DATE:20260105
DTSTAMP:20260422T120322
CREATED:20250213T175651Z
LAST-MODIFIED:20251110T180820Z
UID:10000781-1740355200-1767571199@www.trouphistory.org
SUMMARY:Portraits of Troup County: World War II
DESCRIPTION:Commemorating the 80th Anniversary of the End of World War II \nExperience the powerful stories of World War II through stunning portraits and artifacts that bring history to life. Honor the resilience\, sacrifice\, and humanity of those who shaped the course of the 20th century in this moving tribute to “The Greatest Generation”. \nGuest curated by Isabelle Turner Knight\, Bobby Cammon\, and Terry Hoppe\, the exhibit showcases men and women from the region who served in World War II—whether they were born here\, later made this area home\, or have family still living here today. \nThis ever-evolving display\, enriched by donations and loans from local families\, includes:📷 Hundreds of photographs of those who served and their families🎖 Uniforms\, medals\, weapons\, flags\, and personal artifacts from military veterans and home front families
URL:https://www.trouphistory.org/events/portraits-of-troup-county-world-war-ii/
LOCATION:Legacy Museum on Main\, 136 Main Street\, LaGrange\, GA\, 30241\, United States
CATEGORIES:Exhibits
ATTACH;FMTTYPE=image/png:https://www.trouphistory.org/wp-content/uploads/WWII-Flyer-2025.png
ORGANIZER;CN="Troup County Archives":MAILTO:info@trouphistory.org
END:VEVENT
BEGIN:VEVENT
DTSTART;TZID=America/New_York:20241101T190000
DTEND;TZID=America/New_York:20241101T210000
DTSTAMP:20260422T120322
CREATED:20240808T180633Z
LAST-MODIFIED:20240808T180633Z
UID:10000778-1730487600-1730494800@www.trouphistory.org
SUMMARY:Strange LaGrange Tour
DESCRIPTION:
URL:https://www.trouphistory.org/events/strange-lagrange-tour/2024-11-01/
LOCATION:Legacy Museum on Main\, 136 Main Street\, LaGrange\, GA\, 30241\, United States
ATTACH;FMTTYPE=image/png:https://www.trouphistory.org/wp-content/uploads/STG-LG-2024.png
ORGANIZER;CN="Troup County Archives":MAILTO:info@trouphistory.org
END:VEVENT
BEGIN:VEVENT
DTSTART;TZID=America/New_York:20241018T190000
DTEND;TZID=America/New_York:20241018T210000
DTSTAMP:20260422T120322
CREATED:20240808T180633Z
LAST-MODIFIED:20240808T180633Z
UID:10000776-1729278000-1729285200@www.trouphistory.org
SUMMARY:Strange LaGrange Tour
DESCRIPTION:
URL:https://www.trouphistory.org/events/strange-lagrange-tour/2024-10-18/
LOCATION:Legacy Museum on Main\, 136 Main Street\, LaGrange\, GA\, 30241\, United States
ATTACH;FMTTYPE=image/png:https://www.trouphistory.org/wp-content/uploads/STG-LG-2024.png
ORGANIZER;CN="Troup County Archives":MAILTO:info@trouphistory.org
END:VEVENT
BEGIN:VEVENT
DTSTART;TZID=America/New_York:20241011T190000
DTEND;TZID=America/New_York:20241011T210000
DTSTAMP:20260422T120322
CREATED:20240808T180633Z
LAST-MODIFIED:20240808T180633Z
UID:10000775-1728673200-1728680400@www.trouphistory.org
SUMMARY:Strange LaGrange Tour
DESCRIPTION:
URL:https://www.trouphistory.org/events/strange-lagrange-tour/2024-10-11/
LOCATION:Legacy Museum on Main\, 136 Main Street\, LaGrange\, GA\, 30241\, United States
ATTACH;FMTTYPE=image/png:https://www.trouphistory.org/wp-content/uploads/STG-LG-2024.png
ORGANIZER;CN="Troup County Archives":MAILTO:info@trouphistory.org
END:VEVENT
BEGIN:VEVENT
DTSTART;TZID=America/New_York:20241004T190000
DTEND;TZID=America/New_York:20241004T210000
DTSTAMP:20260422T120322
CREATED:20240808T180633Z
LAST-MODIFIED:20240808T180633Z
UID:10000774-1728068400-1728075600@www.trouphistory.org
SUMMARY:Strange LaGrange Tour
DESCRIPTION:
URL:https://www.trouphistory.org/events/strange-lagrange-tour/2024-10-04/
LOCATION:Legacy Museum on Main\, 136 Main Street\, LaGrange\, GA\, 30241\, United States
ATTACH;FMTTYPE=image/png:https://www.trouphistory.org/wp-content/uploads/STG-LG-2024.png
ORGANIZER;CN="Troup County Archives":MAILTO:info@trouphistory.org
END:VEVENT
BEGIN:VEVENT
DTSTART;TZID=America/New_York:20240927T190000
DTEND;TZID=America/New_York:20240927T210000
DTSTAMP:20260422T120322
CREATED:20240808T180633Z
LAST-MODIFIED:20240808T180633Z
UID:10000773-1727463600-1727470800@www.trouphistory.org
SUMMARY:Strange LaGrange Tour
DESCRIPTION:
URL:https://www.trouphistory.org/events/strange-lagrange-tour/2024-09-27/
LOCATION:Legacy Museum on Main\, 136 Main Street\, LaGrange\, GA\, 30241\, United States
ATTACH;FMTTYPE=image/png:https://www.trouphistory.org/wp-content/uploads/STG-LG-2024.png
ORGANIZER;CN="Troup County Archives":MAILTO:info@trouphistory.org
END:VEVENT
BEGIN:VEVENT
DTSTART;TZID=America/New_York:20240920T190000
DTEND;TZID=America/New_York:20240920T210000
DTSTAMP:20260422T120322
CREATED:20240808T180633Z
LAST-MODIFIED:20240808T180633Z
UID:10000772-1726858800-1726866000@www.trouphistory.org
SUMMARY:Strange LaGrange Tour
DESCRIPTION:
URL:https://www.trouphistory.org/events/strange-lagrange-tour/2024-09-20/
LOCATION:Legacy Museum on Main\, 136 Main Street\, LaGrange\, GA\, 30241\, United States
ATTACH;FMTTYPE=image/png:https://www.trouphistory.org/wp-content/uploads/STG-LG-2024.png
ORGANIZER;CN="Troup County Archives":MAILTO:info@trouphistory.org
END:VEVENT
BEGIN:VEVENT
DTSTART;TZID=America/New_York:20240913T190000
DTEND;TZID=America/New_York:20240913T210000
DTSTAMP:20260422T120322
CREATED:20240808T180633Z
LAST-MODIFIED:20240808T180633Z
UID:10000771-1726254000-1726261200@www.trouphistory.org
SUMMARY:Strange LaGrange Tour
DESCRIPTION:
URL:https://www.trouphistory.org/events/strange-lagrange-tour/2024-09-13/
LOCATION:Legacy Museum on Main\, 136 Main Street\, LaGrange\, GA\, 30241\, United States
ATTACH;FMTTYPE=image/png:https://www.trouphistory.org/wp-content/uploads/STG-LG-2024.png
ORGANIZER;CN="Troup County Archives":MAILTO:info@trouphistory.org
END:VEVENT
BEGIN:VEVENT
DTSTART;TZID=America/New_York:20240912T130000
DTEND;TZID=America/New_York:20240912T150000
DTSTAMP:20260422T120322
CREATED:20240805T190558Z
LAST-MODIFIED:20240805T190558Z
UID:10000768-1726146000-1726153200@www.trouphistory.org
SUMMARY:Horace King HighNoon History
DESCRIPTION:Join us for HighNoon History with Horace King Enthusiast Lawrence Jones as we explore the life and achievements of master bridge builder Horace King. Free event and no need to RSVP. Bring a lunch\, and join us for an immersive journey through Horace King’s life.
URL:https://www.trouphistory.org/events/horace-king-highnoon-history/
LOCATION:Legacy Museum on Main\, 136 Main Street\, LaGrange\, GA\, 30241\, United States
CATEGORIES:Highnoon History,Lecture
ATTACH;FMTTYPE=image/png:https://www.trouphistory.org/wp-content/uploads/Add-a-subheading-1.png
ORGANIZER;CN="Troup County Archives":MAILTO:info@trouphistory.org
END:VEVENT
BEGIN:VEVENT
DTSTART;TZID=America/New_York:20240906T190000
DTEND;TZID=America/New_York:20240906T210000
DTSTAMP:20260422T120322
CREATED:20240808T180633Z
LAST-MODIFIED:20240808T180633Z
UID:10000770-1725649200-1725656400@www.trouphistory.org
SUMMARY:Strange LaGrange Tour
DESCRIPTION:
URL:https://www.trouphistory.org/events/strange-lagrange-tour/2024-09-06/
LOCATION:Legacy Museum on Main\, 136 Main Street\, LaGrange\, GA\, 30241\, United States
ATTACH;FMTTYPE=image/png:https://www.trouphistory.org/wp-content/uploads/STG-LG-2024.png
ORGANIZER;CN="Troup County Archives":MAILTO:info@trouphistory.org
END:VEVENT
BEGIN:VEVENT
DTSTART;VALUE=DATE:20240803
DTEND;VALUE=DATE:20250127
DTSTAMP:20260422T120322
CREATED:20240718T135719Z
LAST-MODIFIED:20240801T195510Z
UID:10000766-1722643200-1737935999@www.trouphistory.org
SUMMARY:Black and White in Black and White: Images of Dignity\, Hope\, and Diversity in America
DESCRIPTION:The beginning of the 20th-century was a time of great promise and hope for race relations in America. This optimistic era was fueled by what was known at the time as the “New Negro Movement\,” a period which set the stage for the Harlem Renaissance. No one better captured the essence of this time of advancement than African American photographer John Johnson. Come see his photographs and artifacts on display at Legacy Museum on Main from August 3\, 2024 – January 26\, 2025. \nBlack and White in Black and White: Images of Dignity\, Hope and Diversity in America is curated by Douglas Keister\, presented with support from California State University\, Chino\, and traveled by Exhibit Envoy.
URL:https://www.trouphistory.org/events/black-and-white-in-black-and-white-images-of-dignity-hope-and-diversity-in-america/
LOCATION:Legacy Museum on Main\, 136 Main Street\, LaGrange\, GA\, 30241\, United States
CATEGORIES:Exhibits
ATTACH;FMTTYPE=image/png:https://www.trouphistory.org/wp-content/uploads/Exhibit-Promo.png
ORGANIZER;CN="Troup County Archives":MAILTO:info@trouphistory.org
END:VEVENT
BEGIN:VEVENT
DTSTART;TZID=America/New_York:20240801T090000
DTEND;TZID=America/New_York:20240801T130000
DTSTAMP:20260422T120322
CREATED:20240718T183001Z
LAST-MODIFIED:20240718T183045Z
UID:10000540-1722502800-1722517200@www.trouphistory.org
SUMMARY:Hands on Summer
DESCRIPTION:Stop by anytime between 9am-1pm\, Monday-Thursday for a different activity every week this summer. From rock painting to historic crafts\, there is something for everyone. Starting June 3rd. No registration required! Tailored for ages 5-12\, but all are welcome. 
URL:https://www.trouphistory.org/events/hands-on-summer-2/2024-08-01/
LOCATION:Legacy Museum on Main\, 136 Main Street\, LaGrange\, GA\, 30241\, United States
ATTACH;FMTTYPE=image/png:https://www.trouphistory.org/wp-content/uploads/Hands-on-Summer-2.png
ORGANIZER;CN="Troup County Archives":MAILTO:info@trouphistory.org
END:VEVENT
BEGIN:VEVENT
DTSTART;TZID=America/New_York:20240731T090000
DTEND;TZID=America/New_York:20240731T130000
DTSTAMP:20260422T120322
CREATED:20240718T183001Z
LAST-MODIFIED:20240718T183045Z
UID:10000539-1722416400-1722430800@www.trouphistory.org
SUMMARY:Hands on Summer
DESCRIPTION:Stop by anytime between 9am-1pm\, Monday-Thursday for a different activity every week this summer. From rock painting to historic crafts\, there is something for everyone. Starting June 3rd. No registration required! Tailored for ages 5-12\, but all are welcome. 
URL:https://www.trouphistory.org/events/hands-on-summer-2/2024-07-31/
LOCATION:Legacy Museum on Main\, 136 Main Street\, LaGrange\, GA\, 30241\, United States
ATTACH;FMTTYPE=image/png:https://www.trouphistory.org/wp-content/uploads/Hands-on-Summer-2.png
ORGANIZER;CN="Troup County Archives":MAILTO:info@trouphistory.org
END:VEVENT
BEGIN:VEVENT
DTSTART;TZID=America/New_York:20240730T090000
DTEND;TZID=America/New_York:20240730T130000
DTSTAMP:20260422T120322
CREATED:20240718T183001Z
LAST-MODIFIED:20240718T183045Z
UID:10000538-1722330000-1722344400@www.trouphistory.org
SUMMARY:Hands on Summer
DESCRIPTION:Stop by anytime between 9am-1pm\, Monday-Thursday for a different activity every week this summer. From rock painting to historic crafts\, there is something for everyone. Starting June 3rd. No registration required! Tailored for ages 5-12\, but all are welcome. 
URL:https://www.trouphistory.org/events/hands-on-summer-2/2024-07-30/
LOCATION:Legacy Museum on Main\, 136 Main Street\, LaGrange\, GA\, 30241\, United States
ATTACH;FMTTYPE=image/png:https://www.trouphistory.org/wp-content/uploads/Hands-on-Summer-2.png
ORGANIZER;CN="Troup County Archives":MAILTO:info@trouphistory.org
END:VEVENT
BEGIN:VEVENT
DTSTART;TZID=America/New_York:20240729T090000
DTEND;TZID=America/New_York:20240729T130000
DTSTAMP:20260422T120322
CREATED:20240718T183001Z
LAST-MODIFIED:20240718T183045Z
UID:10000537-1722243600-1722258000@www.trouphistory.org
SUMMARY:Hands on Summer
DESCRIPTION:Stop by anytime between 9am-1pm\, Monday-Thursday for a different activity every week this summer. From rock painting to historic crafts\, there is something for everyone. Starting June 3rd. No registration required! Tailored for ages 5-12\, but all are welcome. 
URL:https://www.trouphistory.org/events/hands-on-summer-2/2024-07-29/
LOCATION:Legacy Museum on Main\, 136 Main Street\, LaGrange\, GA\, 30241\, United States
ATTACH;FMTTYPE=image/png:https://www.trouphistory.org/wp-content/uploads/Hands-on-Summer-2.png
ORGANIZER;CN="Troup County Archives":MAILTO:info@trouphistory.org
END:VEVENT
BEGIN:VEVENT
DTSTART;TZID=America/New_York:20240726T190000
DTEND;TZID=America/New_York:20240726T210000
DTSTAMP:20260422T120322
CREATED:20240716T165840Z
LAST-MODIFIED:20240716T165840Z
UID:10000764-1722020400-1722027600@www.trouphistory.org
SUMMARY:Strange LaGrange: A Walking Tour
DESCRIPTION:Created and led by Lewis Powell\, a historian and researcher with the Troup County Archives\, this walking tour thrills as it winds through downtown LaGrange. The tour touches on places where history manifests itself in the form the unexplainable. This tour is family friendly.
URL:https://www.trouphistory.org/events/strange-lagrange-a-walking-tour-2-2/
LOCATION:Legacy Museum on Main\, 136 Main Street\, LaGrange\, GA\, 30241\, United States
CATEGORIES:Walking Tours
ATTACH;FMTTYPE=image/png:https://www.trouphistory.org/wp-content/uploads/wepik-strange-lagrange-poster-20240405140545lZld.png
ORGANIZER;CN="Troup County Archives":MAILTO:info@trouphistory.org
END:VEVENT
BEGIN:VEVENT
DTSTART;TZID=America/New_York:20240725T090000
DTEND;TZID=America/New_York:20240725T130000
DTSTAMP:20260422T120322
CREATED:20240718T183001Z
LAST-MODIFIED:20240718T183045Z
UID:10000536-1721898000-1721912400@www.trouphistory.org
SUMMARY:Hands on Summer
DESCRIPTION:Stop by anytime between 9am-1pm\, Monday-Thursday for a different activity every week this summer. From rock painting to historic crafts\, there is something for everyone. Starting June 3rd. No registration required! Tailored for ages 5-12\, but all are welcome. 
URL:https://www.trouphistory.org/events/hands-on-summer-2/2024-07-25/
LOCATION:Legacy Museum on Main\, 136 Main Street\, LaGrange\, GA\, 30241\, United States
ATTACH;FMTTYPE=image/png:https://www.trouphistory.org/wp-content/uploads/Hands-on-Summer-2.png
ORGANIZER;CN="Troup County Archives":MAILTO:info@trouphistory.org
END:VEVENT
BEGIN:VEVENT
DTSTART;TZID=America/New_York:20240724T090000
DTEND;TZID=America/New_York:20240724T130000
DTSTAMP:20260422T120322
CREATED:20240718T183001Z
LAST-MODIFIED:20240718T183045Z
UID:10000535-1721811600-1721826000@www.trouphistory.org
SUMMARY:Hands on Summer
DESCRIPTION:Stop by anytime between 9am-1pm\, Monday-Thursday for a different activity every week this summer. From rock painting to historic crafts\, there is something for everyone. Starting June 3rd. No registration required! Tailored for ages 5-12\, but all are welcome. 
URL:https://www.trouphistory.org/events/hands-on-summer-2/2024-07-24/
LOCATION:Legacy Museum on Main\, 136 Main Street\, LaGrange\, GA\, 30241\, United States
ATTACH;FMTTYPE=image/png:https://www.trouphistory.org/wp-content/uploads/Hands-on-Summer-2.png
ORGANIZER;CN="Troup County Archives":MAILTO:info@trouphistory.org
END:VEVENT
BEGIN:VEVENT
DTSTART;TZID=America/New_York:20240723T090000
DTEND;TZID=America/New_York:20240723T130000
DTSTAMP:20260422T120322
CREATED:20240718T183001Z
LAST-MODIFIED:20240718T183045Z
UID:10000534-1721725200-1721739600@www.trouphistory.org
SUMMARY:Hands on Summer
DESCRIPTION:Stop by anytime between 9am-1pm\, Monday-Thursday for a different activity every week this summer. From rock painting to historic crafts\, there is something for everyone. Starting June 3rd. No registration required! Tailored for ages 5-12\, but all are welcome. 
URL:https://www.trouphistory.org/events/hands-on-summer-2/2024-07-23/
LOCATION:Legacy Museum on Main\, 136 Main Street\, LaGrange\, GA\, 30241\, United States
ATTACH;FMTTYPE=image/png:https://www.trouphistory.org/wp-content/uploads/Hands-on-Summer-2.png
ORGANIZER;CN="Troup County Archives":MAILTO:info@trouphistory.org
END:VEVENT
BEGIN:VEVENT
DTSTART;TZID=America/New_York:20240722T090000
DTEND;TZID=America/New_York:20240722T130000
DTSTAMP:20260422T120322
CREATED:20240718T183001Z
LAST-MODIFIED:20240718T183045Z
UID:10000533-1721638800-1721653200@www.trouphistory.org
SUMMARY:Hands on Summer
DESCRIPTION:Stop by anytime between 9am-1pm\, Monday-Thursday for a different activity every week this summer. From rock painting to historic crafts\, there is something for everyone. Starting June 3rd. No registration required! Tailored for ages 5-12\, but all are welcome. 
URL:https://www.trouphistory.org/events/hands-on-summer-2/2024-07-22/2/
LOCATION:Legacy Museum on Main\, 136 Main Street\, LaGrange\, GA\, 30241\, United States
ATTACH;FMTTYPE=image/png:https://www.trouphistory.org/wp-content/uploads/Hands-on-Summer-2.png
ORGANIZER;CN="Troup County Archives":MAILTO:info@trouphistory.org
END:VEVENT
BEGIN:VEVENT
DTSTART;TZID=America/New_York:20240722T080000
DTEND;TZID=America/New_York:20240722T170000
DTSTAMP:20260422T120322
CREATED:20240718T183001Z
LAST-MODIFIED:20240718T183045Z
UID:10000767-1721635200-1721667600@www.trouphistory.org
SUMMARY:Hands on Summer
DESCRIPTION:Stop by anytime between 9am-1pm\, Monday-Thursday for a different activity every week this summer. From rock painting to historic crafts\, there is something for everyone. Starting June 3rd. No registration required! Tailored for ages 5-12\, but all are welcome. 
URL:https://www.trouphistory.org/events/hands-on-summer-2/2024-07-22/1/
LOCATION:Legacy Museum on Main\, 136 Main Street\, LaGrange\, GA\, 30241\, United States
ATTACH;FMTTYPE=image/png:https://www.trouphistory.org/wp-content/uploads/Hands-on-Summer-2.png
ORGANIZER;CN="Troup County Archives":MAILTO:info@trouphistory.org
END:VEVENT
BEGIN:VEVENT
DTSTART;TZID=America/New_York:20240719T190000
DTEND;TZID=America/New_York:20240719T210000
DTSTAMP:20260422T120322
CREATED:20240716T165840Z
LAST-MODIFIED:20240716T165840Z
UID:10000763-1721415600-1721422800@www.trouphistory.org
SUMMARY:Strange LaGrange: A Walking Tour
DESCRIPTION:Created and led by Lewis Powell\, a historian and researcher with the Troup County Archives\, this walking tour thrills as it winds through downtown LaGrange. The tour touches on places where history manifests itself in the form the unexplainable. This tour is family friendly.
URL:https://www.trouphistory.org/events/strange-lagrange-a-walking-tour-2-2/
LOCATION:Legacy Museum on Main\, 136 Main Street\, LaGrange\, GA\, 30241\, United States
CATEGORIES:Walking Tours
ATTACH;FMTTYPE=image/png:https://www.trouphistory.org/wp-content/uploads/wepik-strange-lagrange-poster-20240405140545lZld.png
ORGANIZER;CN="Troup County Archives":MAILTO:info@trouphistory.org
END:VEVENT
BEGIN:VEVENT
DTSTART;TZID=America/New_York:20240718T090000
DTEND;TZID=America/New_York:20240718T130000
DTSTAMP:20260422T120322
CREATED:20240515T163234Z
LAST-MODIFIED:20240515T163234Z
UID:10000532-1721293200-1721307600@www.trouphistory.org
SUMMARY:Hands on Summer
DESCRIPTION:Stop by anytime between 9am-1pm\, Monday-Thursday for a different activity every week this summer. From rock painting to historic crafts\, there is something for everyone. Starting June 3rd. No registration required! Tailored for ages 5-12\, but all are welcome. 
URL:https://www.trouphistory.org/events/hands-on-summer/2024-07-18/
LOCATION:Legacy Museum on Main\, 136 Main Street\, LaGrange\, GA\, 30241\, United States
ATTACH;FMTTYPE=image/png:https://www.trouphistory.org/wp-content/uploads/Hands-on-Summer-2.png
ORGANIZER;CN="Troup County Archives":MAILTO:info@trouphistory.org
END:VEVENT
BEGIN:VEVENT
DTSTART;TZID=America/New_York:20240717T090000
DTEND;TZID=America/New_York:20240717T130000
DTSTAMP:20260422T120322
CREATED:20240515T163234Z
LAST-MODIFIED:20240515T163234Z
UID:10000531-1721206800-1721221200@www.trouphistory.org
SUMMARY:Hands on Summer
DESCRIPTION:Stop by anytime between 9am-1pm\, Monday-Thursday for a different activity every week this summer. From rock painting to historic crafts\, there is something for everyone. Starting June 3rd. No registration required! Tailored for ages 5-12\, but all are welcome. 
URL:https://www.trouphistory.org/events/hands-on-summer/2024-07-17/
LOCATION:Legacy Museum on Main\, 136 Main Street\, LaGrange\, GA\, 30241\, United States
ATTACH;FMTTYPE=image/png:https://www.trouphistory.org/wp-content/uploads/Hands-on-Summer-2.png
ORGANIZER;CN="Troup County Archives":MAILTO:info@trouphistory.org
END:VEVENT
BEGIN:VEVENT
DTSTART;TZID=America/New_York:20240716T090000
DTEND;TZID=America/New_York:20240716T130000
DTSTAMP:20260422T120322
CREATED:20240515T163234Z
LAST-MODIFIED:20240515T163234Z
UID:10000530-1721120400-1721134800@www.trouphistory.org
SUMMARY:Hands on Summer
DESCRIPTION:Stop by anytime between 9am-1pm\, Monday-Thursday for a different activity every week this summer. From rock painting to historic crafts\, there is something for everyone. Starting June 3rd. No registration required! Tailored for ages 5-12\, but all are welcome. 
URL:https://www.trouphistory.org/events/hands-on-summer/2024-07-16/
LOCATION:Legacy Museum on Main\, 136 Main Street\, LaGrange\, GA\, 30241\, United States
ATTACH;FMTTYPE=image/png:https://www.trouphistory.org/wp-content/uploads/Hands-on-Summer-2.png
ORGANIZER;CN="Troup County Archives":MAILTO:info@trouphistory.org
END:VEVENT
BEGIN:VEVENT
DTSTART;TZID=America/New_York:20240715T090000
DTEND;TZID=America/New_York:20240715T130000
DTSTAMP:20260422T120322
CREATED:20240515T163234Z
LAST-MODIFIED:20240515T163234Z
UID:10000529-1721034000-1721048400@www.trouphistory.org
SUMMARY:Hands on Summer
DESCRIPTION:Stop by anytime between 9am-1pm\, Monday-Thursday for a different activity every week this summer. From rock painting to historic crafts\, there is something for everyone. Starting June 3rd. No registration required! Tailored for ages 5-12\, but all are welcome. 
URL:https://www.trouphistory.org/events/hands-on-summer/2024-07-15/
LOCATION:Legacy Museum on Main\, 136 Main Street\, LaGrange\, GA\, 30241\, United States
ATTACH;FMTTYPE=image/png:https://www.trouphistory.org/wp-content/uploads/Hands-on-Summer-2.png
ORGANIZER;CN="Troup County Archives":MAILTO:info@trouphistory.org
END:VEVENT
BEGIN:VEVENT
DTSTART;TZID=America/New_York:20240712T190000
DTEND;TZID=America/New_York:20240712T210000
DTSTAMP:20260422T120322
CREATED:20240405T142441Z
LAST-MODIFIED:20240529T155432Z
UID:10000762-1720810800-1720818000@www.trouphistory.org
SUMMARY:Strange LaGrange: A Walking Tour
DESCRIPTION:Created and led by Lewis Powell\, a historian and researcher with the Troup County Archives\, this walking tour thrills as it winds through downtown LaGrange. The tour touches on places where history manifests itself in the form the unexplainable. This tour is family friendly.
URL:https://www.trouphistory.org/events/strange-lagrange-a-walking-tour-2/2024-07-12/
LOCATION:Legacy Museum on Main\, 136 Main Street\, LaGrange\, GA\, 30241\, United States
CATEGORIES:Walking Tours
ATTACH;FMTTYPE=image/png:https://www.trouphistory.org/wp-content/uploads/wepik-strange-lagrange-poster-20240405140545lZld.png
ORGANIZER;CN="Troup County Archives":MAILTO:info@trouphistory.org
END:VEVENT
BEGIN:VEVENT
DTSTART;TZID=America/New_York:20240712T180000
DTEND;TZID=America/New_York:20240712T220000
DTSTAMP:20260422T120322
CREATED:20240708T141206Z
LAST-MODIFIED:20240708T141206Z
UID:10000765-1720807200-1720821600@www.trouphistory.org
SUMMARY:Night at the Museum
DESCRIPTION:Calling all young historians! Come in your pj’s and explore Legacy Museum after hours. Create crafts\, play games\, and more as we explore the wonders of ANCIENT GREECE. Tailored for ages 6-10. Sign up at the link quickly\, this event will fill up!
URL:https://www.trouphistory.org/events/night-at-the-museum-2/
LOCATION:Legacy Museum on Main\, 136 Main Street\, LaGrange\, GA\, 30241\, United States
CATEGORIES:Young Historians
ATTACH;FMTTYPE=image/png:https://www.trouphistory.org/wp-content/uploads/KIDS-NIGHT-AT-THE-MUSEUM-2.png
ORGANIZER;CN="Troup County Archives":MAILTO:info@trouphistory.org
END:VEVENT
END:VCALENDAR