BEGIN:VCALENDAR
VERSION:2.0
PRODID:-//Troup County Archives &amp; Legacy Museum on Main - ECPv6.15.20//NONSGML v1.0//EN
CALSCALE:GREGORIAN
METHOD:PUBLISH
X-WR-CALNAME:Troup County Archives &amp; Legacy Museum on Main
X-ORIGINAL-URL:https://www.trouphistory.org
X-WR-CALDESC:Events for Troup County Archives &amp; Legacy Museum on Main
REFRESH-INTERVAL;VALUE=DURATION:PT1H
X-Robots-Tag:noindex
X-PUBLISHED-TTL:PT1H
BEGIN:VTIMEZONE
TZID:America/New_York
BEGIN:DAYLIGHT
TZOFFSETFROM:-0500
TZOFFSETTO:-0400
TZNAME:EDT
DTSTART:20220313T070000
END:DAYLIGHT
BEGIN:STANDARD
TZOFFSETFROM:-0400
TZOFFSETTO:-0500
TZNAME:EST
DTSTART:20221106T060000
END:STANDARD
BEGIN:DAYLIGHT
TZOFFSETFROM:-0500
TZOFFSETTO:-0400
TZNAME:EDT
DTSTART:20230312T070000
END:DAYLIGHT
BEGIN:STANDARD
TZOFFSETFROM:-0400
TZOFFSETTO:-0500
TZNAME:EST
DTSTART:20231105T060000
END:STANDARD
BEGIN:DAYLIGHT
TZOFFSETFROM:-0500
TZOFFSETTO:-0400
TZNAME:EDT
DTSTART:20240310T070000
END:DAYLIGHT
BEGIN:STANDARD
TZOFFSETFROM:-0400
TZOFFSETTO:-0500
TZNAME:EST
DTSTART:20241103T060000
END:STANDARD
BEGIN:DAYLIGHT
TZOFFSETFROM:-0500
TZOFFSETTO:-0400
TZNAME:EDT
DTSTART:20250309T070000
END:DAYLIGHT
BEGIN:STANDARD
TZOFFSETFROM:-0400
TZOFFSETTO:-0500
TZNAME:EST
DTSTART:20251102T060000
END:STANDARD
END:VTIMEZONE
BEGIN:VEVENT
DTSTART;TZID=America/New_York:20231017T110000
DTEND;TZID=America/New_York:20231017T113000
DTSTAMP:20260423T020750
CREATED:20230301T154240Z
LAST-MODIFIED:20230809T152713Z
UID:10000304-1697540400-1697542200@www.trouphistory.org
SUMMARY:Baby History
DESCRIPTION:
URL:https://www.trouphistory.org/events/baby-history-3/2023-10-17/
LOCATION:Legacy Museum on Main\, 136 Main Street\, LaGrange\, GA\, 30241\, United States
CATEGORIES:Young Historians
ATTACH;FMTTYPE=image/png:https://www.trouphistory.org/wp-content/uploads/baby-history-flyer-2023.png
ORGANIZER;CN="Troup County Archives":MAILTO:info@trouphistory.org
END:VEVENT
BEGIN:VEVENT
DTSTART;TZID=America/New_York:20231010T110000
DTEND;TZID=America/New_York:20231010T113000
DTSTAMP:20260423T020750
CREATED:20230301T154240Z
LAST-MODIFIED:20230809T152713Z
UID:10000303-1696935600-1696937400@www.trouphistory.org
SUMMARY:Baby History
DESCRIPTION:
URL:https://www.trouphistory.org/events/baby-history-3/2023-10-10/
LOCATION:Legacy Museum on Main\, 136 Main Street\, LaGrange\, GA\, 30241\, United States
CATEGORIES:Young Historians
ATTACH;FMTTYPE=image/png:https://www.trouphistory.org/wp-content/uploads/baby-history-flyer-2023.png
ORGANIZER;CN="Troup County Archives":MAILTO:info@trouphistory.org
END:VEVENT
BEGIN:VEVENT
DTSTART;TZID=America/New_York:20231003T110000
DTEND;TZID=America/New_York:20231003T113000
DTSTAMP:20260423T020750
CREATED:20230301T154240Z
LAST-MODIFIED:20230809T152713Z
UID:10000302-1696330800-1696332600@www.trouphistory.org
SUMMARY:Baby History
DESCRIPTION:
URL:https://www.trouphistory.org/events/baby-history-3/2023-10-03/
LOCATION:Legacy Museum on Main\, 136 Main Street\, LaGrange\, GA\, 30241\, United States
CATEGORIES:Young Historians
ATTACH;FMTTYPE=image/png:https://www.trouphistory.org/wp-content/uploads/baby-history-flyer-2023.png
ORGANIZER;CN="Troup County Archives":MAILTO:info@trouphistory.org
END:VEVENT
BEGIN:VEVENT
DTSTART;TZID=America/New_York:20230926T110000
DTEND;TZID=America/New_York:20230926T113000
DTSTAMP:20260423T020750
CREATED:20230301T154240Z
LAST-MODIFIED:20230809T152713Z
UID:10000301-1695726000-1695727800@www.trouphistory.org
SUMMARY:Baby History
DESCRIPTION:
URL:https://www.trouphistory.org/events/baby-history-3/2023-09-26/
LOCATION:Legacy Museum on Main\, 136 Main Street\, LaGrange\, GA\, 30241\, United States
CATEGORIES:Young Historians
ATTACH;FMTTYPE=image/png:https://www.trouphistory.org/wp-content/uploads/baby-history-flyer-2023.png
ORGANIZER;CN="Troup County Archives":MAILTO:info@trouphistory.org
END:VEVENT
BEGIN:VEVENT
DTSTART;TZID=America/New_York:20230919T110000
DTEND;TZID=America/New_York:20230919T113000
DTSTAMP:20260423T020750
CREATED:20230301T154240Z
LAST-MODIFIED:20230809T152713Z
UID:10000300-1695121200-1695123000@www.trouphistory.org
SUMMARY:Baby History
DESCRIPTION:
URL:https://www.trouphistory.org/events/baby-history-3/2023-09-19/
LOCATION:Legacy Museum on Main\, 136 Main Street\, LaGrange\, GA\, 30241\, United States
CATEGORIES:Young Historians
ATTACH;FMTTYPE=image/png:https://www.trouphistory.org/wp-content/uploads/baby-history-flyer-2023.png
ORGANIZER;CN="Troup County Archives":MAILTO:info@trouphistory.org
END:VEVENT
BEGIN:VEVENT
DTSTART;TZID=America/New_York:20230912T110000
DTEND;TZID=America/New_York:20230912T113000
DTSTAMP:20260423T020750
CREATED:20230301T154240Z
LAST-MODIFIED:20230809T152713Z
UID:10000299-1694516400-1694518200@www.trouphistory.org
SUMMARY:Baby History
DESCRIPTION:
URL:https://www.trouphistory.org/events/baby-history-3/2023-09-12/
LOCATION:Legacy Museum on Main\, 136 Main Street\, LaGrange\, GA\, 30241\, United States
CATEGORIES:Young Historians
ATTACH;FMTTYPE=image/png:https://www.trouphistory.org/wp-content/uploads/baby-history-flyer-2023.png
ORGANIZER;CN="Troup County Archives":MAILTO:info@trouphistory.org
END:VEVENT
BEGIN:VEVENT
DTSTART;TZID=America/New_York:20230905T110000
DTEND;TZID=America/New_York:20230905T113000
DTSTAMP:20260423T020750
CREATED:20230301T154240Z
LAST-MODIFIED:20230809T152713Z
UID:10000298-1693911600-1693913400@www.trouphistory.org
SUMMARY:Baby History
DESCRIPTION:
URL:https://www.trouphistory.org/events/baby-history-3/2023-09-05/
LOCATION:Legacy Museum on Main\, 136 Main Street\, LaGrange\, GA\, 30241\, United States
CATEGORIES:Young Historians
ATTACH;FMTTYPE=image/png:https://www.trouphistory.org/wp-content/uploads/baby-history-flyer-2023.png
ORGANIZER;CN="Troup County Archives":MAILTO:info@trouphistory.org
END:VEVENT
BEGIN:VEVENT
DTSTART;TZID=America/New_York:20230829T110000
DTEND;TZID=America/New_York:20230829T113000
DTSTAMP:20260423T020750
CREATED:20230301T154240Z
LAST-MODIFIED:20230809T152713Z
UID:10000297-1693306800-1693308600@www.trouphistory.org
SUMMARY:Baby History
DESCRIPTION:
URL:https://www.trouphistory.org/events/baby-history-3/2023-08-29/
LOCATION:Legacy Museum on Main\, 136 Main Street\, LaGrange\, GA\, 30241\, United States
CATEGORIES:Young Historians
ATTACH;FMTTYPE=image/png:https://www.trouphistory.org/wp-content/uploads/baby-history-flyer-2023.png
ORGANIZER;CN="Troup County Archives":MAILTO:info@trouphistory.org
END:VEVENT
BEGIN:VEVENT
DTSTART;VALUE=DATE:20230824
DTEND;VALUE=DATE:20231002
DTSTAMP:20260423T020750
CREATED:20230828T153651Z
LAST-MODIFIED:20230829T160558Z
UID:10000433-1692907200-1696190399@www.trouphistory.org
SUMMARY:Junior Service League Pop-up Exhibit
DESCRIPTION:Junior Service League of Lagrange is celebrating 50 years of service! We are currently displaying a pop-up exhibit highlighting some of the wonderful things this organization has done\, and continues to do for our community. Stop by Legacy Museum on Main to take a look!
URL:https://www.trouphistory.org/events/junior-service-league-pop-up-exhibit/
LOCATION:Legacy Museum on Main\, 136 Main Street\, LaGrange\, GA\, 30241\, United States
ATTACH;FMTTYPE=image/jpeg:https://www.trouphistory.org/wp-content/uploads/IMG_2687-scaled.jpg
ORGANIZER;CN="Troup County Archives":MAILTO:info@trouphistory.org
END:VEVENT
BEGIN:VEVENT
DTSTART;TZID=America/New_York:20230822T110000
DTEND;TZID=America/New_York:20230822T113000
DTSTAMP:20260423T020750
CREATED:20230301T154240Z
LAST-MODIFIED:20230809T152713Z
UID:10000296-1692702000-1692703800@www.trouphistory.org
SUMMARY:Baby History
DESCRIPTION:
URL:https://www.trouphistory.org/events/baby-history-3/2023-08-22/
LOCATION:Legacy Museum on Main\, 136 Main Street\, LaGrange\, GA\, 30241\, United States
CATEGORIES:Young Historians
ATTACH;FMTTYPE=image/png:https://www.trouphistory.org/wp-content/uploads/baby-history-flyer-2023.png
ORGANIZER;CN="Troup County Archives":MAILTO:info@trouphistory.org
END:VEVENT
BEGIN:VEVENT
DTSTART;TZID=America/New_York:20230815T110000
DTEND;TZID=America/New_York:20230815T113000
DTSTAMP:20260423T020750
CREATED:20230301T154240Z
LAST-MODIFIED:20230809T152713Z
UID:10000295-1692097200-1692099000@www.trouphistory.org
SUMMARY:Baby History
DESCRIPTION:
URL:https://www.trouphistory.org/events/baby-history-3/2023-08-15/
LOCATION:Legacy Museum on Main\, 136 Main Street\, LaGrange\, GA\, 30241\, United States
CATEGORIES:Young Historians
ATTACH;FMTTYPE=image/png:https://www.trouphistory.org/wp-content/uploads/baby-history-flyer-2023.png
ORGANIZER;CN="Troup County Archives":MAILTO:info@trouphistory.org
END:VEVENT
BEGIN:VEVENT
DTSTART;TZID=America/New_York:20230808T110000
DTEND;TZID=America/New_York:20230808T113000
DTSTAMP:20260423T020750
CREATED:20230301T154240Z
LAST-MODIFIED:20230809T152713Z
UID:10000294-1691492400-1691494200@www.trouphistory.org
SUMMARY:Baby History
DESCRIPTION:
URL:https://www.trouphistory.org/events/baby-history-3/2023-08-08/
LOCATION:Legacy Museum on Main\, 136 Main Street\, LaGrange\, GA\, 30241\, United States
CATEGORIES:Young Historians
ATTACH;FMTTYPE=image/png:https://www.trouphistory.org/wp-content/uploads/baby-history-flyer-2023.png
ORGANIZER;CN="Troup County Archives":MAILTO:info@trouphistory.org
END:VEVENT
BEGIN:VEVENT
DTSTART;TZID=America/New_York:20230801T110000
DTEND;TZID=America/New_York:20230801T113000
DTSTAMP:20260423T020750
CREATED:20230301T154240Z
LAST-MODIFIED:20230809T152713Z
UID:10000293-1690887600-1690889400@www.trouphistory.org
SUMMARY:Baby History
DESCRIPTION:
URL:https://www.trouphistory.org/events/baby-history-3/2023-08-01/
LOCATION:Legacy Museum on Main\, 136 Main Street\, LaGrange\, GA\, 30241\, United States
CATEGORIES:Young Historians
ATTACH;FMTTYPE=image/png:https://www.trouphistory.org/wp-content/uploads/baby-history-flyer-2023.png
ORGANIZER;CN="Troup County Archives":MAILTO:info@trouphistory.org
END:VEVENT
BEGIN:VEVENT
DTSTART;TZID=America/New_York:20230729T100000
DTEND;TZID=America/New_York:20230729T160000
DTSTAMP:20260423T020750
CREATED:20230718T181906Z
LAST-MODIFIED:20230721T194706Z
UID:10000426-1690624800-1690646400@www.trouphistory.org
SUMMARY:Family History & Heritage Day
DESCRIPTION:
URL:https://www.trouphistory.org/events/family-history-heritage-day/
LOCATION:Legacy Museum on Main\, 136 Main Street\, LaGrange\, GA\, 30241\, United States
CATEGORIES:General Event
ATTACH;FMTTYPE=image/jpeg:https://www.trouphistory.org/wp-content/uploads/doc02404020230718141344_001-scaled.jpg
ORGANIZER;CN="Troup County Archives":MAILTO:info@trouphistory.org
END:VEVENT
BEGIN:VEVENT
DTSTART;VALUE=DATE:20230729
DTEND;VALUE=DATE:20240630
DTSTAMP:20260423T020750
CREATED:20230724T201330Z
LAST-MODIFIED:20230824T194112Z
UID:10000250-1690588800-1719705599@www.trouphistory.org
SUMMARY:Howdy Neighbor!: Troup County's Changing Communities
DESCRIPTION:Where do you call home – a modern subdivision\, an in-town neighborhood\, an apartment complex\, a rural community? We are all defined\, to some extent\, by where we choose to live. Through all of Troup County’s two hundred years\, our communities and neighborhoods have experienced change. Our three cities\, which now tend to sprawl in all directions\, began as towns laid out on a rigid grid with defined boundaries. Come by Legacy Museum on Main to take a look at how neighborhoods and communities in Troup County have changed over time.
URL:https://www.trouphistory.org/events/howdy-neighbor-troup-countys-changing-communities/
LOCATION:Legacy Museum on Main\, 136 Main Street\, LaGrange\, GA\, 30241\, United States
CATEGORIES:Exhibits
ATTACH;FMTTYPE=image/png:https://www.trouphistory.org/wp-content/uploads/Howdy-Neighbor-logo-troup-archives-1.png
ORGANIZER;CN="Troup County Archives":MAILTO:info@trouphistory.org
END:VEVENT
BEGIN:VEVENT
DTSTART;TZID=America/New_York:20230725T110000
DTEND;TZID=America/New_York:20230725T113000
DTSTAMP:20260423T020750
CREATED:20230301T154240Z
LAST-MODIFIED:20230809T152713Z
UID:10000292-1690282800-1690284600@www.trouphistory.org
SUMMARY:Baby History
DESCRIPTION:
URL:https://www.trouphistory.org/events/baby-history-3/2023-07-25/
LOCATION:Legacy Museum on Main\, 136 Main Street\, LaGrange\, GA\, 30241\, United States
CATEGORIES:Young Historians
ATTACH;FMTTYPE=image/png:https://www.trouphistory.org/wp-content/uploads/baby-history-flyer-2023.png
ORGANIZER;CN="Troup County Archives":MAILTO:info@trouphistory.org
END:VEVENT
BEGIN:VEVENT
DTSTART;TZID=America/New_York:20230718T110000
DTEND;TZID=America/New_York:20230718T113000
DTSTAMP:20260423T020750
CREATED:20230301T154240Z
LAST-MODIFIED:20230809T152713Z
UID:10000291-1689678000-1689679800@www.trouphistory.org
SUMMARY:Baby History
DESCRIPTION:
URL:https://www.trouphistory.org/events/baby-history-3/2023-07-18/
LOCATION:Legacy Museum on Main\, 136 Main Street\, LaGrange\, GA\, 30241\, United States
CATEGORIES:Young Historians
ATTACH;FMTTYPE=image/png:https://www.trouphistory.org/wp-content/uploads/baby-history-flyer-2023.png
ORGANIZER;CN="Troup County Archives":MAILTO:info@trouphistory.org
END:VEVENT
BEGIN:VEVENT
DTSTART;TZID=America/New_York:20230711T110000
DTEND;TZID=America/New_York:20230711T113000
DTSTAMP:20260423T020750
CREATED:20230301T154240Z
LAST-MODIFIED:20230809T152713Z
UID:10000290-1689073200-1689075000@www.trouphistory.org
SUMMARY:Baby History
DESCRIPTION:
URL:https://www.trouphistory.org/events/baby-history-3/2023-07-11/
LOCATION:Legacy Museum on Main\, 136 Main Street\, LaGrange\, GA\, 30241\, United States
CATEGORIES:Young Historians
ATTACH;FMTTYPE=image/png:https://www.trouphistory.org/wp-content/uploads/baby-history-flyer-2023.png
ORGANIZER;CN="Troup County Archives":MAILTO:info@trouphistory.org
END:VEVENT
BEGIN:VEVENT
DTSTART;TZID=America/New_York:20230704T110000
DTEND;TZID=America/New_York:20230704T113000
DTSTAMP:20260423T020750
CREATED:20230301T154240Z
LAST-MODIFIED:20230809T152713Z
UID:10000289-1688468400-1688470200@www.trouphistory.org
SUMMARY:Baby History
DESCRIPTION:
URL:https://www.trouphistory.org/events/baby-history-3/2023-07-04/
LOCATION:Legacy Museum on Main\, 136 Main Street\, LaGrange\, GA\, 30241\, United States
CATEGORIES:Young Historians
ATTACH;FMTTYPE=image/png:https://www.trouphistory.org/wp-content/uploads/baby-history-flyer-2023.png
ORGANIZER;CN="Troup County Archives":MAILTO:info@trouphistory.org
END:VEVENT
BEGIN:VEVENT
DTSTART;TZID=America/New_York:20230627T110000
DTEND;TZID=America/New_York:20230627T113000
DTSTAMP:20260423T020750
CREATED:20230301T154240Z
LAST-MODIFIED:20230809T152713Z
UID:10000288-1687863600-1687865400@www.trouphistory.org
SUMMARY:Baby History
DESCRIPTION:
URL:https://www.trouphistory.org/events/baby-history-3/2023-06-27/
LOCATION:Legacy Museum on Main\, 136 Main Street\, LaGrange\, GA\, 30241\, United States
CATEGORIES:Young Historians
ATTACH;FMTTYPE=image/png:https://www.trouphistory.org/wp-content/uploads/baby-history-flyer-2023.png
ORGANIZER;CN="Troup County Archives":MAILTO:info@trouphistory.org
END:VEVENT
BEGIN:VEVENT
DTSTART;TZID=America/New_York:20230620T110000
DTEND;TZID=America/New_York:20230620T113000
DTSTAMP:20260423T020750
CREATED:20230301T154240Z
LAST-MODIFIED:20230809T152713Z
UID:10000287-1687258800-1687260600@www.trouphistory.org
SUMMARY:Baby History
DESCRIPTION:
URL:https://www.trouphistory.org/events/baby-history-3/2023-06-20/
LOCATION:Legacy Museum on Main\, 136 Main Street\, LaGrange\, GA\, 30241\, United States
CATEGORIES:Young Historians
ATTACH;FMTTYPE=image/png:https://www.trouphistory.org/wp-content/uploads/baby-history-flyer-2023.png
ORGANIZER;CN="Troup County Archives":MAILTO:info@trouphistory.org
END:VEVENT
BEGIN:VEVENT
DTSTART;TZID=America/New_York:20230613T110000
DTEND;TZID=America/New_York:20230613T113000
DTSTAMP:20260423T020750
CREATED:20230301T154240Z
LAST-MODIFIED:20230809T152713Z
UID:10000286-1686654000-1686655800@www.trouphistory.org
SUMMARY:Baby History
DESCRIPTION:
URL:https://www.trouphistory.org/events/baby-history-3/2023-06-13/
LOCATION:Legacy Museum on Main\, 136 Main Street\, LaGrange\, GA\, 30241\, United States
CATEGORIES:Young Historians
ATTACH;FMTTYPE=image/png:https://www.trouphistory.org/wp-content/uploads/baby-history-flyer-2023.png
ORGANIZER;CN="Troup County Archives":MAILTO:info@trouphistory.org
END:VEVENT
BEGIN:VEVENT
DTSTART;TZID=America/New_York:20230606T110000
DTEND;TZID=America/New_York:20230606T113000
DTSTAMP:20260423T020750
CREATED:20230301T154240Z
LAST-MODIFIED:20230809T152713Z
UID:10000285-1686049200-1686051000@www.trouphistory.org
SUMMARY:Baby History
DESCRIPTION:
URL:https://www.trouphistory.org/events/baby-history-3/2023-06-06/
LOCATION:Legacy Museum on Main\, 136 Main Street\, LaGrange\, GA\, 30241\, United States
CATEGORIES:Young Historians
ATTACH;FMTTYPE=image/png:https://www.trouphistory.org/wp-content/uploads/baby-history-flyer-2023.png
ORGANIZER;CN="Troup County Archives":MAILTO:info@trouphistory.org
END:VEVENT
BEGIN:VEVENT
DTSTART;TZID=America/New_York:20230530T110000
DTEND;TZID=America/New_York:20230530T113000
DTSTAMP:20260423T020750
CREATED:20230301T154240Z
LAST-MODIFIED:20230809T152713Z
UID:10000284-1685444400-1685446200@www.trouphistory.org
SUMMARY:Baby History
DESCRIPTION:
URL:https://www.trouphistory.org/events/baby-history-3/2023-05-30/
LOCATION:Legacy Museum on Main\, 136 Main Street\, LaGrange\, GA\, 30241\, United States
CATEGORIES:Young Historians
ATTACH;FMTTYPE=image/png:https://www.trouphistory.org/wp-content/uploads/baby-history-flyer-2023.png
ORGANIZER;CN="Troup County Archives":MAILTO:info@trouphistory.org
END:VEVENT
BEGIN:VEVENT
DTSTART;TZID=America/New_York:20230523T110000
DTEND;TZID=America/New_York:20230523T113000
DTSTAMP:20260423T020750
CREATED:20230301T154240Z
LAST-MODIFIED:20230809T152713Z
UID:10000283-1684839600-1684841400@www.trouphistory.org
SUMMARY:Baby History
DESCRIPTION:
URL:https://www.trouphistory.org/events/baby-history-3/2023-05-23/
LOCATION:Legacy Museum on Main\, 136 Main Street\, LaGrange\, GA\, 30241\, United States
CATEGORIES:Young Historians
ATTACH;FMTTYPE=image/png:https://www.trouphistory.org/wp-content/uploads/baby-history-flyer-2023.png
ORGANIZER;CN="Troup County Archives":MAILTO:info@trouphistory.org
END:VEVENT
BEGIN:VEVENT
DTSTART;TZID=America/New_York:20230516T110000
DTEND;TZID=America/New_York:20230516T113000
DTSTAMP:20260423T020750
CREATED:20230301T154240Z
LAST-MODIFIED:20230809T152713Z
UID:10000282-1684234800-1684236600@www.trouphistory.org
SUMMARY:Baby History
DESCRIPTION:
URL:https://www.trouphistory.org/events/baby-history-3/2023-05-16/
LOCATION:Legacy Museum on Main\, 136 Main Street\, LaGrange\, GA\, 30241\, United States
CATEGORIES:Young Historians
ATTACH;FMTTYPE=image/png:https://www.trouphistory.org/wp-content/uploads/baby-history-flyer-2023.png
ORGANIZER;CN="Troup County Archives":MAILTO:info@trouphistory.org
END:VEVENT
BEGIN:VEVENT
DTSTART;TZID=America/New_York:20230509T110000
DTEND;TZID=America/New_York:20230509T113000
DTSTAMP:20260423T020750
CREATED:20230301T154240Z
LAST-MODIFIED:20230809T152713Z
UID:10000281-1683630000-1683631800@www.trouphistory.org
SUMMARY:Baby History
DESCRIPTION:
URL:https://www.trouphistory.org/events/baby-history-3/2023-05-09/
LOCATION:Legacy Museum on Main\, 136 Main Street\, LaGrange\, GA\, 30241\, United States
CATEGORIES:Young Historians
ATTACH;FMTTYPE=image/png:https://www.trouphistory.org/wp-content/uploads/baby-history-flyer-2023.png
ORGANIZER;CN="Troup County Archives":MAILTO:info@trouphistory.org
END:VEVENT
BEGIN:VEVENT
DTSTART;TZID=America/New_York:20230502T110000
DTEND;TZID=America/New_York:20230502T113000
DTSTAMP:20260423T020750
CREATED:20230301T154240Z
LAST-MODIFIED:20230809T152713Z
UID:10000280-1683025200-1683027000@www.trouphistory.org
SUMMARY:Baby History
DESCRIPTION:
URL:https://www.trouphistory.org/events/baby-history-3/2023-05-02/
LOCATION:Legacy Museum on Main\, 136 Main Street\, LaGrange\, GA\, 30241\, United States
CATEGORIES:Young Historians
ATTACH;FMTTYPE=image/png:https://www.trouphistory.org/wp-content/uploads/baby-history-flyer-2023.png
ORGANIZER;CN="Troup County Archives":MAILTO:info@trouphistory.org
END:VEVENT
BEGIN:VEVENT
DTSTART;TZID=America/New_York:20230425T110000
DTEND;TZID=America/New_York:20230425T113000
DTSTAMP:20260423T020750
CREATED:20230301T154240Z
LAST-MODIFIED:20230809T152713Z
UID:10000279-1682420400-1682422200@www.trouphistory.org
SUMMARY:Baby History
DESCRIPTION:
URL:https://www.trouphistory.org/events/baby-history-3/2023-04-25/
LOCATION:Legacy Museum on Main\, 136 Main Street\, LaGrange\, GA\, 30241\, United States
CATEGORIES:Young Historians
ATTACH;FMTTYPE=image/png:https://www.trouphistory.org/wp-content/uploads/baby-history-flyer-2023.png
ORGANIZER;CN="Troup County Archives":MAILTO:info@trouphistory.org
END:VEVENT
BEGIN:VEVENT
DTSTART;TZID=America/New_York:20230418T190000
DTEND;TZID=America/New_York:20230418T203000
DTSTAMP:20260423T020750
CREATED:20221122T163721Z
LAST-MODIFIED:20221122T163722Z
UID:10000271-1681844400-1681849800@www.trouphistory.org
SUMMARY:Under the Hood: Behind the Scenes
DESCRIPTION:Drive on down to Legacy Museum for an up close look at the latest exhibit with Car Guru and TCHS Board Member Jim Biagi.
URL:https://www.trouphistory.org/events/under-the-hood-behind-the-scenes/2023-04-18/
LOCATION:Legacy Museum on Main\, 136 Main Street\, LaGrange\, GA\, 30241\, United States
CATEGORIES:Exhibits,Lecture
ATTACH;FMTTYPE=image/png:https://www.trouphistory.org/wp-content/uploads/archives-hitting-the-road-01-1.png
ORGANIZER;CN="Troup County Archives":MAILTO:info@trouphistory.org
END:VEVENT
END:VCALENDAR