BEGIN:VCALENDAR
VERSION:2.0
PRODID:-//Troup County Archives &amp; Legacy Museum on Main - ECPv6.15.20//NONSGML v1.0//EN
CALSCALE:GREGORIAN
METHOD:PUBLISH
X-WR-CALNAME:Troup County Archives &amp; Legacy Museum on Main
X-ORIGINAL-URL:https://www.trouphistory.org
X-WR-CALDESC:Events for Troup County Archives &amp; Legacy Museum on Main
REFRESH-INTERVAL;VALUE=DURATION:PT1H
X-Robots-Tag:noindex
X-PUBLISHED-TTL:PT1H
BEGIN:VTIMEZONE
TZID:America/New_York
BEGIN:DAYLIGHT
TZOFFSETFROM:-0500
TZOFFSETTO:-0400
TZNAME:EDT
DTSTART:20240310T070000
END:DAYLIGHT
BEGIN:STANDARD
TZOFFSETFROM:-0400
TZOFFSETTO:-0500
TZNAME:EST
DTSTART:20241103T060000
END:STANDARD
BEGIN:DAYLIGHT
TZOFFSETFROM:-0500
TZOFFSETTO:-0400
TZNAME:EDT
DTSTART:20250309T070000
END:DAYLIGHT
BEGIN:STANDARD
TZOFFSETFROM:-0400
TZOFFSETTO:-0500
TZNAME:EST
DTSTART:20251102T060000
END:STANDARD
BEGIN:DAYLIGHT
TZOFFSETFROM:-0500
TZOFFSETTO:-0400
TZNAME:EDT
DTSTART:20260308T070000
END:DAYLIGHT
BEGIN:STANDARD
TZOFFSETFROM:-0400
TZOFFSETTO:-0500
TZNAME:EST
DTSTART:20261101T060000
END:STANDARD
BEGIN:DAYLIGHT
TZOFFSETFROM:-0500
TZOFFSETTO:-0400
TZNAME:EDT
DTSTART:20270314T070000
END:DAYLIGHT
BEGIN:STANDARD
TZOFFSETFROM:-0400
TZOFFSETTO:-0500
TZNAME:EST
DTSTART:20271107T060000
END:STANDARD
END:VTIMEZONE
BEGIN:VEVENT
DTSTART;VALUE=DATE:20250224
DTEND;VALUE=DATE:20260105
DTSTAMP:20260421T065850
CREATED:20250213T175651Z
LAST-MODIFIED:20251110T180820Z
UID:10000781-1740355200-1767571199@www.trouphistory.org
SUMMARY:Portraits of Troup County: World War II
DESCRIPTION:Commemorating the 80th Anniversary of the End of World War II \nExperience the powerful stories of World War II through stunning portraits and artifacts that bring history to life. Honor the resilience\, sacrifice\, and humanity of those who shaped the course of the 20th century in this moving tribute to “The Greatest Generation”. \nGuest curated by Isabelle Turner Knight\, Bobby Cammon\, and Terry Hoppe\, the exhibit showcases men and women from the region who served in World War II—whether they were born here\, later made this area home\, or have family still living here today. \nThis ever-evolving display\, enriched by donations and loans from local families\, includes:📷 Hundreds of photographs of those who served and their families🎖 Uniforms\, medals\, weapons\, flags\, and personal artifacts from military veterans and home front families
URL:https://www.trouphistory.org/events/portraits-of-troup-county-world-war-ii/
LOCATION:Legacy Museum on Main\, 136 Main Street\, LaGrange\, GA\, 30241\, United States
CATEGORIES:Exhibits
ATTACH;FMTTYPE=image/png:https://www.trouphistory.org/wp-content/uploads/WWII-Flyer-2025.png
ORGANIZER;CN="Troup County Archives":MAILTO:info@trouphistory.org
END:VEVENT
BEGIN:VEVENT
DTSTART;TZID=America/New_York:20250902T110000
DTEND;TZID=America/New_York:20250902T113000
DTSTAMP:20260421T065850
CREATED:20250804T180751Z
LAST-MODIFIED:20250804T180751Z
UID:10001258-1756810800-1756812600@www.trouphistory.org
SUMMARY:Baby History
DESCRIPTION:
URL:https://www.trouphistory.org/events/baby-history-4/2025-09-02/
LOCATION:Legacy Museum on Main\, 136 Main Street\, LaGrange\, GA\, 30241\, United States
CATEGORIES:Young Historians
ATTACH;FMTTYPE=image/png:https://www.trouphistory.org/wp-content/uploads/baby-history-flyer-2023.png
ORGANIZER;CN="Troup County Archives":MAILTO:info@trouphistory.org
END:VEVENT
BEGIN:VEVENT
DTSTART;TZID=America/New_York:20250905T183000
DTEND;TZID=America/New_York:20250905T220000
DTSTAMP:20260421T065850
CREATED:20250804T175902Z
LAST-MODIFIED:20250804T180230Z
UID:10001252-1757097000-1757109600@www.trouphistory.org
SUMMARY:Lafayette's Birthday Celebration
DESCRIPTION:
URL:https://www.trouphistory.org/events/lafayettes-birthday-celebration/
LOCATION:Legacy Museum on Main\, 136 Main Street\, LaGrange\, GA\, 30241\, United States
CATEGORIES:General Event
ATTACH;FMTTYPE=image/jpeg:https://www.trouphistory.org/wp-content/uploads/Lafayette-Birthday-Invites-1_page-0001.jpg
ORGANIZER;CN="Troup County Archives":MAILTO:info@trouphistory.org
END:VEVENT
BEGIN:VEVENT
DTSTART;TZID=America/New_York:20250909T110000
DTEND;TZID=America/New_York:20250909T113000
DTSTAMP:20260421T065850
CREATED:20250804T180751Z
LAST-MODIFIED:20250804T180751Z
UID:10001259-1757415600-1757417400@www.trouphistory.org
SUMMARY:Baby History
DESCRIPTION:
URL:https://www.trouphistory.org/events/baby-history-4/2025-09-09/
LOCATION:Legacy Museum on Main\, 136 Main Street\, LaGrange\, GA\, 30241\, United States
CATEGORIES:Young Historians
ATTACH;FMTTYPE=image/png:https://www.trouphistory.org/wp-content/uploads/baby-history-flyer-2023.png
ORGANIZER;CN="Troup County Archives":MAILTO:info@trouphistory.org
END:VEVENT
BEGIN:VEVENT
DTSTART;TZID=America/New_York:20250916T110000
DTEND;TZID=America/New_York:20250916T113000
DTSTAMP:20260421T065850
CREATED:20250804T180751Z
LAST-MODIFIED:20250804T180751Z
UID:10001260-1758020400-1758022200@www.trouphistory.org
SUMMARY:Baby History
DESCRIPTION:
URL:https://www.trouphistory.org/events/baby-history-4/2025-09-16/
LOCATION:Legacy Museum on Main\, 136 Main Street\, LaGrange\, GA\, 30241\, United States
CATEGORIES:Young Historians
ATTACH;FMTTYPE=image/png:https://www.trouphistory.org/wp-content/uploads/baby-history-flyer-2023.png
ORGANIZER;CN="Troup County Archives":MAILTO:info@trouphistory.org
END:VEVENT
BEGIN:VEVENT
DTSTART;TZID=America/New_York:20250921T140000
DTEND;TZID=America/New_York:20250921T140000
DTSTAMP:20260421T065850
CREATED:20250908T201010Z
LAST-MODIFIED:20250908T201010Z
UID:10001273-1758463200-1758463200@www.trouphistory.org
SUMMARY:The Union Benevolent Aid Society in Troup County
DESCRIPTION:
URL:https://www.trouphistory.org/events/the-union-benevolent-aid-society-in-troup-county/
LOCATION:Legacy Museum on Main\, 136 Main Street\, LaGrange\, GA\, 30241\, United States
ATTACH;FMTTYPE=image/png:https://www.trouphistory.org/wp-content/uploads/UBAS-Flyer-1.png
ORGANIZER;CN="Troup County Archives":MAILTO:info@trouphistory.org
END:VEVENT
BEGIN:VEVENT
DTSTART;TZID=America/New_York:20250923T110000
DTEND;TZID=America/New_York:20250923T113000
DTSTAMP:20260421T065850
CREATED:20250804T180751Z
LAST-MODIFIED:20250804T180751Z
UID:10001261-1758625200-1758627000@www.trouphistory.org
SUMMARY:Baby History
DESCRIPTION:
URL:https://www.trouphistory.org/events/baby-history-4/2025-09-23/
LOCATION:Legacy Museum on Main\, 136 Main Street\, LaGrange\, GA\, 30241\, United States
CATEGORIES:Young Historians
ATTACH;FMTTYPE=image/png:https://www.trouphistory.org/wp-content/uploads/baby-history-flyer-2023.png
ORGANIZER;CN="Troup County Archives":MAILTO:info@trouphistory.org
END:VEVENT
BEGIN:VEVENT
DTSTART;TZID=America/New_York:20250930T110000
DTEND;TZID=America/New_York:20250930T113000
DTSTAMP:20260421T065850
CREATED:20250804T180751Z
LAST-MODIFIED:20250804T180751Z
UID:10001262-1759230000-1759231800@www.trouphistory.org
SUMMARY:Baby History
DESCRIPTION:
URL:https://www.trouphistory.org/events/baby-history-4/2025-09-30/
LOCATION:Legacy Museum on Main\, 136 Main Street\, LaGrange\, GA\, 30241\, United States
CATEGORIES:Young Historians
ATTACH;FMTTYPE=image/png:https://www.trouphistory.org/wp-content/uploads/baby-history-flyer-2023.png
ORGANIZER;CN="Troup County Archives":MAILTO:info@trouphistory.org
END:VEVENT
END:VCALENDAR