BEGIN:VCALENDAR
VERSION:2.0
PRODID:-//Troup County Archives &amp; Legacy Museum on Main - ECPv6.15.20//NONSGML v1.0//EN
CALSCALE:GREGORIAN
METHOD:PUBLISH
X-WR-CALNAME:Troup County Archives &amp; Legacy Museum on Main
X-ORIGINAL-URL:https://www.trouphistory.org
X-WR-CALDESC:Events for Troup County Archives &amp; Legacy Museum on Main
REFRESH-INTERVAL;VALUE=DURATION:PT1H
X-Robots-Tag:noindex
X-PUBLISHED-TTL:PT1H
BEGIN:VTIMEZONE
TZID:America/New_York
BEGIN:DAYLIGHT
TZOFFSETFROM:-0500
TZOFFSETTO:-0400
TZNAME:EDT
DTSTART:20240310T070000
END:DAYLIGHT
BEGIN:STANDARD
TZOFFSETFROM:-0400
TZOFFSETTO:-0500
TZNAME:EST
DTSTART:20241103T060000
END:STANDARD
BEGIN:DAYLIGHT
TZOFFSETFROM:-0500
TZOFFSETTO:-0400
TZNAME:EDT
DTSTART:20250309T070000
END:DAYLIGHT
BEGIN:STANDARD
TZOFFSETFROM:-0400
TZOFFSETTO:-0500
TZNAME:EST
DTSTART:20251102T060000
END:STANDARD
BEGIN:DAYLIGHT
TZOFFSETFROM:-0500
TZOFFSETTO:-0400
TZNAME:EDT
DTSTART:20260308T070000
END:DAYLIGHT
BEGIN:STANDARD
TZOFFSETFROM:-0400
TZOFFSETTO:-0500
TZNAME:EST
DTSTART:20261101T060000
END:STANDARD
BEGIN:DAYLIGHT
TZOFFSETFROM:-0500
TZOFFSETTO:-0400
TZNAME:EDT
DTSTART:20270314T070000
END:DAYLIGHT
BEGIN:STANDARD
TZOFFSETFROM:-0400
TZOFFSETTO:-0500
TZNAME:EST
DTSTART:20271107T060000
END:STANDARD
END:VTIMEZONE
BEGIN:VEVENT
DTSTART;VALUE=DATE:20250224
DTEND;VALUE=DATE:20260105
DTSTAMP:20260421T114708
CREATED:20250213T175651Z
LAST-MODIFIED:20251110T180820Z
UID:10000781-1740355200-1767571199@www.trouphistory.org
SUMMARY:Portraits of Troup County: World War II
DESCRIPTION:Commemorating the 80th Anniversary of the End of World War II \nExperience the powerful stories of World War II through stunning portraits and artifacts that bring history to life. Honor the resilience\, sacrifice\, and humanity of those who shaped the course of the 20th century in this moving tribute to “The Greatest Generation”. \nGuest curated by Isabelle Turner Knight\, Bobby Cammon\, and Terry Hoppe\, the exhibit showcases men and women from the region who served in World War II—whether they were born here\, later made this area home\, or have family still living here today. \nThis ever-evolving display\, enriched by donations and loans from local families\, includes:📷 Hundreds of photographs of those who served and their families🎖 Uniforms\, medals\, weapons\, flags\, and personal artifacts from military veterans and home front families
URL:https://www.trouphistory.org/events/portraits-of-troup-county-world-war-ii/
LOCATION:Legacy Museum on Main\, 136 Main Street\, LaGrange\, GA\, 30241\, United States
CATEGORIES:Exhibits
ATTACH;FMTTYPE=image/png:https://www.trouphistory.org/wp-content/uploads/WWII-Flyer-2025.png
ORGANIZER;CN="Troup County Archives":MAILTO:info@trouphistory.org
END:VEVENT
BEGIN:VEVENT
DTSTART;TZID=America/New_York:20250701T100000
DTEND;TZID=America/New_York:20250701T120000
DTSTAMP:20260421T114708
CREATED:20250522T140444Z
LAST-MODIFIED:20250522T140444Z
UID:10001224-1751364000-1751371200@www.trouphistory.org
SUMMARY:Hands on History: Summer
DESCRIPTION:
URL:https://www.trouphistory.org/events/hands-on-history-summer/2025-07-01/
LOCATION:Legacy Museum on Main\, 136 Main Street\, LaGrange\, GA\, 30241\, United States
CATEGORIES:Young Historians
ATTACH;FMTTYPE=image/png:https://www.trouphistory.org/wp-content/uploads/colorful-playful-kids-camp-summer-flyer-1.png
ORGANIZER;CN="Troup County Archives":MAILTO:info@trouphistory.org
END:VEVENT
BEGIN:VEVENT
DTSTART;TZID=America/New_York:20250702T100000
DTEND;TZID=America/New_York:20250702T120000
DTSTAMP:20260421T114708
CREATED:20250522T140444Z
LAST-MODIFIED:20250522T140444Z
UID:10001225-1751450400-1751457600@www.trouphistory.org
SUMMARY:Hands on History: Summer
DESCRIPTION:
URL:https://www.trouphistory.org/events/hands-on-history-summer/2025-07-02/
LOCATION:Legacy Museum on Main\, 136 Main Street\, LaGrange\, GA\, 30241\, United States
CATEGORIES:Young Historians
ATTACH;FMTTYPE=image/png:https://www.trouphistory.org/wp-content/uploads/colorful-playful-kids-camp-summer-flyer-1.png
ORGANIZER;CN="Troup County Archives":MAILTO:info@trouphistory.org
END:VEVENT
BEGIN:VEVENT
DTSTART;TZID=America/New_York:20250703T100000
DTEND;TZID=America/New_York:20250703T120000
DTSTAMP:20260421T114708
CREATED:20250522T140444Z
LAST-MODIFIED:20250522T140444Z
UID:10001226-1751536800-1751544000@www.trouphistory.org
SUMMARY:Hands on History: Summer
DESCRIPTION:
URL:https://www.trouphistory.org/events/hands-on-history-summer/2025-07-03/
LOCATION:Legacy Museum on Main\, 136 Main Street\, LaGrange\, GA\, 30241\, United States
CATEGORIES:Young Historians
ATTACH;FMTTYPE=image/png:https://www.trouphistory.org/wp-content/uploads/colorful-playful-kids-camp-summer-flyer-1.png
ORGANIZER;CN="Troup County Archives":MAILTO:info@trouphistory.org
END:VEVENT
BEGIN:VEVENT
DTSTART;TZID=America/New_York:20250707T100000
DTEND;TZID=America/New_York:20250707T120000
DTSTAMP:20260421T114708
CREATED:20250522T140444Z
LAST-MODIFIED:20250522T140444Z
UID:10001227-1751882400-1751889600@www.trouphistory.org
SUMMARY:Hands on History: Summer
DESCRIPTION:
URL:https://www.trouphistory.org/events/hands-on-history-summer/2025-07-07/
LOCATION:Legacy Museum on Main\, 136 Main Street\, LaGrange\, GA\, 30241\, United States
CATEGORIES:Young Historians
ATTACH;FMTTYPE=image/png:https://www.trouphistory.org/wp-content/uploads/colorful-playful-kids-camp-summer-flyer-1.png
ORGANIZER;CN="Troup County Archives":MAILTO:info@trouphistory.org
END:VEVENT
BEGIN:VEVENT
DTSTART;TZID=America/New_York:20250708T100000
DTEND;TZID=America/New_York:20250708T120000
DTSTAMP:20260421T114708
CREATED:20250522T140444Z
LAST-MODIFIED:20250522T140444Z
UID:10001228-1751968800-1751976000@www.trouphistory.org
SUMMARY:Hands on History: Summer
DESCRIPTION:
URL:https://www.trouphistory.org/events/hands-on-history-summer/2025-07-08/
LOCATION:Legacy Museum on Main\, 136 Main Street\, LaGrange\, GA\, 30241\, United States
CATEGORIES:Young Historians
ATTACH;FMTTYPE=image/png:https://www.trouphistory.org/wp-content/uploads/colorful-playful-kids-camp-summer-flyer-1.png
ORGANIZER;CN="Troup County Archives":MAILTO:info@trouphistory.org
END:VEVENT
BEGIN:VEVENT
DTSTART;TZID=America/New_York:20250709T100000
DTEND;TZID=America/New_York:20250709T120000
DTSTAMP:20260421T114708
CREATED:20250522T140444Z
LAST-MODIFIED:20250522T140444Z
UID:10001229-1752055200-1752062400@www.trouphistory.org
SUMMARY:Hands on History: Summer
DESCRIPTION:
URL:https://www.trouphistory.org/events/hands-on-history-summer/2025-07-09/
LOCATION:Legacy Museum on Main\, 136 Main Street\, LaGrange\, GA\, 30241\, United States
CATEGORIES:Young Historians
ATTACH;FMTTYPE=image/png:https://www.trouphistory.org/wp-content/uploads/colorful-playful-kids-camp-summer-flyer-1.png
ORGANIZER;CN="Troup County Archives":MAILTO:info@trouphistory.org
END:VEVENT
BEGIN:VEVENT
DTSTART;TZID=America/New_York:20250710T100000
DTEND;TZID=America/New_York:20250710T120000
DTSTAMP:20260421T114708
CREATED:20250522T140444Z
LAST-MODIFIED:20250522T140444Z
UID:10001230-1752141600-1752148800@www.trouphistory.org
SUMMARY:Hands on History: Summer
DESCRIPTION:
URL:https://www.trouphistory.org/events/hands-on-history-summer/2025-07-10/
LOCATION:Legacy Museum on Main\, 136 Main Street\, LaGrange\, GA\, 30241\, United States
CATEGORIES:Young Historians
ATTACH;FMTTYPE=image/png:https://www.trouphistory.org/wp-content/uploads/colorful-playful-kids-camp-summer-flyer-1.png
ORGANIZER;CN="Troup County Archives":MAILTO:info@trouphistory.org
END:VEVENT
BEGIN:VEVENT
DTSTART;TZID=America/New_York:20250714T100000
DTEND;TZID=America/New_York:20250714T120000
DTSTAMP:20260421T114708
CREATED:20250522T140444Z
LAST-MODIFIED:20250522T140444Z
UID:10001231-1752487200-1752494400@www.trouphistory.org
SUMMARY:Hands on History: Summer
DESCRIPTION:
URL:https://www.trouphistory.org/events/hands-on-history-summer/2025-07-14/
LOCATION:Legacy Museum on Main\, 136 Main Street\, LaGrange\, GA\, 30241\, United States
CATEGORIES:Young Historians
ATTACH;FMTTYPE=image/png:https://www.trouphistory.org/wp-content/uploads/colorful-playful-kids-camp-summer-flyer-1.png
ORGANIZER;CN="Troup County Archives":MAILTO:info@trouphistory.org
END:VEVENT
BEGIN:VEVENT
DTSTART;TZID=America/New_York:20250715T100000
DTEND;TZID=America/New_York:20250715T120000
DTSTAMP:20260421T114708
CREATED:20250522T140444Z
LAST-MODIFIED:20250522T140444Z
UID:10001232-1752573600-1752580800@www.trouphistory.org
SUMMARY:Hands on History: Summer
DESCRIPTION:
URL:https://www.trouphistory.org/events/hands-on-history-summer/2025-07-15/
LOCATION:Legacy Museum on Main\, 136 Main Street\, LaGrange\, GA\, 30241\, United States
CATEGORIES:Young Historians
ATTACH;FMTTYPE=image/png:https://www.trouphistory.org/wp-content/uploads/colorful-playful-kids-camp-summer-flyer-1.png
ORGANIZER;CN="Troup County Archives":MAILTO:info@trouphistory.org
END:VEVENT
BEGIN:VEVENT
DTSTART;TZID=America/New_York:20250716T100000
DTEND;TZID=America/New_York:20250716T120000
DTSTAMP:20260421T114708
CREATED:20250522T140444Z
LAST-MODIFIED:20250522T140444Z
UID:10001233-1752660000-1752667200@www.trouphistory.org
SUMMARY:Hands on History: Summer
DESCRIPTION:
URL:https://www.trouphistory.org/events/hands-on-history-summer/2025-07-16/
LOCATION:Legacy Museum on Main\, 136 Main Street\, LaGrange\, GA\, 30241\, United States
CATEGORIES:Young Historians
ATTACH;FMTTYPE=image/png:https://www.trouphistory.org/wp-content/uploads/colorful-playful-kids-camp-summer-flyer-1.png
ORGANIZER;CN="Troup County Archives":MAILTO:info@trouphistory.org
END:VEVENT
BEGIN:VEVENT
DTSTART;TZID=America/New_York:20250717T100000
DTEND;TZID=America/New_York:20250717T120000
DTSTAMP:20260421T114708
CREATED:20250522T140444Z
LAST-MODIFIED:20250522T140444Z
UID:10001234-1752746400-1752753600@www.trouphistory.org
SUMMARY:Hands on History: Summer
DESCRIPTION:
URL:https://www.trouphistory.org/events/hands-on-history-summer/2025-07-17/
LOCATION:Legacy Museum on Main\, 136 Main Street\, LaGrange\, GA\, 30241\, United States
CATEGORIES:Young Historians
ATTACH;FMTTYPE=image/png:https://www.trouphistory.org/wp-content/uploads/colorful-playful-kids-camp-summer-flyer-1.png
ORGANIZER;CN="Troup County Archives":MAILTO:info@trouphistory.org
END:VEVENT
BEGIN:VEVENT
DTSTART;TZID=America/New_York:20250719T170000
DTEND;TZID=America/New_York:20250719T203000
DTSTAMP:20260421T114708
CREATED:20250702T190707Z
LAST-MODIFIED:20250702T190707Z
UID:10001250-1752944400-1752957000@www.trouphistory.org
SUMMARY:Night at the Museum
DESCRIPTION:It’s back! Calling all young historians! Come explore the Legacy Museum after hours for a special kids’ event. Explore our latest World War II exhibit and enjoy hands-on crafts\, fun games\, and more\, all inspired by the history of the era. Tailored for ages 6–10. Sign up at the link — but hurry\, spots are limited!
URL:https://www.trouphistory.org/events/night-at-the-museum-4/
LOCATION:Legacy Museum on Main\, 136 Main Street\, LaGrange\, GA\, 30241\, United States
CATEGORIES:Young Historians
ATTACH;FMTTYPE=image/png:https://www.trouphistory.org/wp-content/uploads/Night-1.png
ORGANIZER;CN="Troup County Archives":MAILTO:info@trouphistory.org
END:VEVENT
BEGIN:VEVENT
DTSTART;TZID=America/New_York:20250721T100000
DTEND;TZID=America/New_York:20250721T120000
DTSTAMP:20260421T114708
CREATED:20250522T140444Z
LAST-MODIFIED:20250522T140444Z
UID:10001235-1753092000-1753099200@www.trouphistory.org
SUMMARY:Hands on History: Summer
DESCRIPTION:
URL:https://www.trouphistory.org/events/hands-on-history-summer/2025-07-21/
LOCATION:Legacy Museum on Main\, 136 Main Street\, LaGrange\, GA\, 30241\, United States
CATEGORIES:Young Historians
ATTACH;FMTTYPE=image/png:https://www.trouphistory.org/wp-content/uploads/colorful-playful-kids-camp-summer-flyer-1.png
ORGANIZER;CN="Troup County Archives":MAILTO:info@trouphistory.org
END:VEVENT
BEGIN:VEVENT
DTSTART;TZID=America/New_York:20250722T100000
DTEND;TZID=America/New_York:20250722T120000
DTSTAMP:20260421T114708
CREATED:20250522T140444Z
LAST-MODIFIED:20250522T140444Z
UID:10001236-1753178400-1753185600@www.trouphistory.org
SUMMARY:Hands on History: Summer
DESCRIPTION:
URL:https://www.trouphistory.org/events/hands-on-history-summer/2025-07-22/
LOCATION:Legacy Museum on Main\, 136 Main Street\, LaGrange\, GA\, 30241\, United States
CATEGORIES:Young Historians
ATTACH;FMTTYPE=image/png:https://www.trouphistory.org/wp-content/uploads/colorful-playful-kids-camp-summer-flyer-1.png
ORGANIZER;CN="Troup County Archives":MAILTO:info@trouphistory.org
END:VEVENT
BEGIN:VEVENT
DTSTART;TZID=America/New_York:20250723T100000
DTEND;TZID=America/New_York:20250723T120000
DTSTAMP:20260421T114708
CREATED:20250522T140444Z
LAST-MODIFIED:20250522T140444Z
UID:10001237-1753264800-1753272000@www.trouphistory.org
SUMMARY:Hands on History: Summer
DESCRIPTION:
URL:https://www.trouphistory.org/events/hands-on-history-summer/2025-07-23/
LOCATION:Legacy Museum on Main\, 136 Main Street\, LaGrange\, GA\, 30241\, United States
CATEGORIES:Young Historians
ATTACH;FMTTYPE=image/png:https://www.trouphistory.org/wp-content/uploads/colorful-playful-kids-camp-summer-flyer-1.png
ORGANIZER;CN="Troup County Archives":MAILTO:info@trouphistory.org
END:VEVENT
BEGIN:VEVENT
DTSTART;TZID=America/New_York:20250724T100000
DTEND;TZID=America/New_York:20250724T120000
DTSTAMP:20260421T114708
CREATED:20250522T140444Z
LAST-MODIFIED:20250522T140444Z
UID:10001238-1753351200-1753358400@www.trouphistory.org
SUMMARY:Hands on History: Summer
DESCRIPTION:
URL:https://www.trouphistory.org/events/hands-on-history-summer/2025-07-24/
LOCATION:Legacy Museum on Main\, 136 Main Street\, LaGrange\, GA\, 30241\, United States
CATEGORIES:Young Historians
ATTACH;FMTTYPE=image/png:https://www.trouphistory.org/wp-content/uploads/colorful-playful-kids-camp-summer-flyer-1.png
ORGANIZER;CN="Troup County Archives":MAILTO:info@trouphistory.org
END:VEVENT
BEGIN:VEVENT
DTSTART;TZID=America/New_York:20250725T190000
DTEND;TZID=America/New_York:20250725T210000
DTSTAMP:20260421T114708
CREATED:20250702T192547Z
LAST-MODIFIED:20250702T192547Z
UID:10001251-1753470000-1753477200@www.trouphistory.org
SUMMARY:Trivia Night
DESCRIPTION: History Trivia Night at the Archives! \nThink you’ve got what it takes to outsmart the past? Join us for a Trivia Night!\n\n\nFriday\, July 25th • 7:00 PM • 136 Main Street\, LaGrange\, GA\n\n\nEnjoy a night of lively trivia\, awesome prizes\, and unforgettable fun!\n\n\nFree and open to the public!
URL:https://www.trouphistory.org/events/trivia-night/
LOCATION:Legacy Museum on Main\, 136 Main Street\, LaGrange\, GA\, 30241\, United States
CATEGORIES:General Event
ATTACH;FMTTYPE=image/png:https://www.trouphistory.org/wp-content/uploads/Troup-County-Historical-Society-presents-4.png
ORGANIZER;CN="Troup County Archives":MAILTO:info@trouphistory.org
END:VEVENT
BEGIN:VEVENT
DTSTART;TZID=America/New_York:20250728T100000
DTEND;TZID=America/New_York:20250728T120000
DTSTAMP:20260421T114708
CREATED:20250522T140444Z
LAST-MODIFIED:20250522T140444Z
UID:10001239-1753696800-1753704000@www.trouphistory.org
SUMMARY:Hands on History: Summer
DESCRIPTION:
URL:https://www.trouphistory.org/events/hands-on-history-summer/2025-07-28/
LOCATION:Legacy Museum on Main\, 136 Main Street\, LaGrange\, GA\, 30241\, United States
CATEGORIES:Young Historians
ATTACH;FMTTYPE=image/png:https://www.trouphistory.org/wp-content/uploads/colorful-playful-kids-camp-summer-flyer-1.png
ORGANIZER;CN="Troup County Archives":MAILTO:info@trouphistory.org
END:VEVENT
BEGIN:VEVENT
DTSTART;TZID=America/New_York:20250729T100000
DTEND;TZID=America/New_York:20250729T120000
DTSTAMP:20260421T114708
CREATED:20250522T140444Z
LAST-MODIFIED:20250522T140444Z
UID:10001240-1753783200-1753790400@www.trouphistory.org
SUMMARY:Hands on History: Summer
DESCRIPTION:
URL:https://www.trouphistory.org/events/hands-on-history-summer/2025-07-29/
LOCATION:Legacy Museum on Main\, 136 Main Street\, LaGrange\, GA\, 30241\, United States
CATEGORIES:Young Historians
ATTACH;FMTTYPE=image/png:https://www.trouphistory.org/wp-content/uploads/colorful-playful-kids-camp-summer-flyer-1.png
ORGANIZER;CN="Troup County Archives":MAILTO:info@trouphistory.org
END:VEVENT
BEGIN:VEVENT
DTSTART;TZID=America/New_York:20250730T100000
DTEND;TZID=America/New_York:20250730T120000
DTSTAMP:20260421T114708
CREATED:20250522T140444Z
LAST-MODIFIED:20250522T140444Z
UID:10001241-1753869600-1753876800@www.trouphistory.org
SUMMARY:Hands on History: Summer
DESCRIPTION:
URL:https://www.trouphistory.org/events/hands-on-history-summer/2025-07-30/
LOCATION:Legacy Museum on Main\, 136 Main Street\, LaGrange\, GA\, 30241\, United States
CATEGORIES:Young Historians
ATTACH;FMTTYPE=image/png:https://www.trouphistory.org/wp-content/uploads/colorful-playful-kids-camp-summer-flyer-1.png
ORGANIZER;CN="Troup County Archives":MAILTO:info@trouphistory.org
END:VEVENT
BEGIN:VEVENT
DTSTART;TZID=America/New_York:20250731T100000
DTEND;TZID=America/New_York:20250731T120000
DTSTAMP:20260421T114708
CREATED:20250522T140444Z
LAST-MODIFIED:20250522T140444Z
UID:10001242-1753956000-1753963200@www.trouphistory.org
SUMMARY:Hands on History: Summer
DESCRIPTION:
URL:https://www.trouphistory.org/events/hands-on-history-summer/2025-07-31/
LOCATION:Legacy Museum on Main\, 136 Main Street\, LaGrange\, GA\, 30241\, United States
CATEGORIES:Young Historians
ATTACH;FMTTYPE=image/png:https://www.trouphistory.org/wp-content/uploads/colorful-playful-kids-camp-summer-flyer-1.png
ORGANIZER;CN="Troup County Archives":MAILTO:info@trouphistory.org
END:VEVENT
END:VCALENDAR