BEGIN:VCALENDAR
VERSION:2.0
PRODID:-//Troup County Archives &amp; Legacy Museum on Main - ECPv6.15.20//NONSGML v1.0//EN
CALSCALE:GREGORIAN
METHOD:PUBLISH
X-WR-CALNAME:Troup County Archives &amp; Legacy Museum on Main
X-ORIGINAL-URL:https://www.trouphistory.org
X-WR-CALDESC:Events for Troup County Archives &amp; Legacy Museum on Main
REFRESH-INTERVAL;VALUE=DURATION:PT1H
X-Robots-Tag:noindex
X-PUBLISHED-TTL:PT1H
BEGIN:VTIMEZONE
TZID:America/New_York
BEGIN:DAYLIGHT
TZOFFSETFROM:-0500
TZOFFSETTO:-0400
TZNAME:EDT
DTSTART:20240310T070000
END:DAYLIGHT
BEGIN:STANDARD
TZOFFSETFROM:-0400
TZOFFSETTO:-0500
TZNAME:EST
DTSTART:20241103T060000
END:STANDARD
BEGIN:DAYLIGHT
TZOFFSETFROM:-0500
TZOFFSETTO:-0400
TZNAME:EDT
DTSTART:20250309T070000
END:DAYLIGHT
BEGIN:STANDARD
TZOFFSETFROM:-0400
TZOFFSETTO:-0500
TZNAME:EST
DTSTART:20251102T060000
END:STANDARD
BEGIN:DAYLIGHT
TZOFFSETFROM:-0500
TZOFFSETTO:-0400
TZNAME:EDT
DTSTART:20260308T070000
END:DAYLIGHT
BEGIN:STANDARD
TZOFFSETFROM:-0400
TZOFFSETTO:-0500
TZNAME:EST
DTSTART:20261101T060000
END:STANDARD
BEGIN:DAYLIGHT
TZOFFSETFROM:-0500
TZOFFSETTO:-0400
TZNAME:EDT
DTSTART:20270314T070000
END:DAYLIGHT
BEGIN:STANDARD
TZOFFSETFROM:-0400
TZOFFSETTO:-0500
TZNAME:EST
DTSTART:20271107T060000
END:STANDARD
END:VTIMEZONE
BEGIN:VEVENT
DTSTART;VALUE=DATE:20250224
DTEND;VALUE=DATE:20260105
DTSTAMP:20260421T142533
CREATED:20250213T175651Z
LAST-MODIFIED:20251110T180820Z
UID:10000781-1740355200-1767571199@www.trouphistory.org
SUMMARY:Portraits of Troup County: World War II
DESCRIPTION:Commemorating the 80th Anniversary of the End of World War II \nExperience the powerful stories of World War II through stunning portraits and artifacts that bring history to life. Honor the resilience\, sacrifice\, and humanity of those who shaped the course of the 20th century in this moving tribute to “The Greatest Generation”. \nGuest curated by Isabelle Turner Knight\, Bobby Cammon\, and Terry Hoppe\, the exhibit showcases men and women from the region who served in World War II—whether they were born here\, later made this area home\, or have family still living here today. \nThis ever-evolving display\, enriched by donations and loans from local families\, includes:📷 Hundreds of photographs of those who served and their families🎖 Uniforms\, medals\, weapons\, flags\, and personal artifacts from military veterans and home front families
URL:https://www.trouphistory.org/events/portraits-of-troup-county-world-war-ii/
LOCATION:Legacy Museum on Main\, 136 Main Street\, LaGrange\, GA\, 30241\, United States
CATEGORIES:Exhibits
ATTACH;FMTTYPE=image/png:https://www.trouphistory.org/wp-content/uploads/WWII-Flyer-2025.png
ORGANIZER;CN="Troup County Archives":MAILTO:info@trouphistory.org
END:VEVENT
BEGIN:VEVENT
DTSTART;TZID=America/New_York:20250602T100000
DTEND;TZID=America/New_York:20250602T120000
DTSTAMP:20260421T142533
CREATED:20250522T140444Z
LAST-MODIFIED:20250522T140444Z
UID:10001207-1748858400-1748865600@www.trouphistory.org
SUMMARY:Hands on History: Summer
DESCRIPTION:
URL:https://www.trouphistory.org/events/hands-on-history-summer/2025-06-02/
LOCATION:Legacy Museum on Main\, 136 Main Street\, LaGrange\, GA\, 30241\, United States
CATEGORIES:Young Historians
ATTACH;FMTTYPE=image/png:https://www.trouphistory.org/wp-content/uploads/colorful-playful-kids-camp-summer-flyer-1.png
ORGANIZER;CN="Troup County Archives":MAILTO:info@trouphistory.org
END:VEVENT
BEGIN:VEVENT
DTSTART;TZID=America/New_York:20250603T100000
DTEND;TZID=America/New_York:20250603T120000
DTSTAMP:20260421T142533
CREATED:20250522T140444Z
LAST-MODIFIED:20250522T140444Z
UID:10001208-1748944800-1748952000@www.trouphistory.org
SUMMARY:Hands on History: Summer
DESCRIPTION:
URL:https://www.trouphistory.org/events/hands-on-history-summer/2025-06-03/
LOCATION:Legacy Museum on Main\, 136 Main Street\, LaGrange\, GA\, 30241\, United States
CATEGORIES:Young Historians
ATTACH;FMTTYPE=image/png:https://www.trouphistory.org/wp-content/uploads/colorful-playful-kids-camp-summer-flyer-1.png
ORGANIZER;CN="Troup County Archives":MAILTO:info@trouphistory.org
END:VEVENT
BEGIN:VEVENT
DTSTART;TZID=America/New_York:20250604T100000
DTEND;TZID=America/New_York:20250604T120000
DTSTAMP:20260421T142533
CREATED:20250522T140444Z
LAST-MODIFIED:20250522T140444Z
UID:10001209-1749031200-1749038400@www.trouphistory.org
SUMMARY:Hands on History: Summer
DESCRIPTION:
URL:https://www.trouphistory.org/events/hands-on-history-summer/2025-06-04/
LOCATION:Legacy Museum on Main\, 136 Main Street\, LaGrange\, GA\, 30241\, United States
CATEGORIES:Young Historians
ATTACH;FMTTYPE=image/png:https://www.trouphistory.org/wp-content/uploads/colorful-playful-kids-camp-summer-flyer-1.png
ORGANIZER;CN="Troup County Archives":MAILTO:info@trouphistory.org
END:VEVENT
BEGIN:VEVENT
DTSTART;TZID=America/New_York:20250605T100000
DTEND;TZID=America/New_York:20250605T120000
DTSTAMP:20260421T142533
CREATED:20250522T140444Z
LAST-MODIFIED:20250522T140444Z
UID:10001210-1749117600-1749124800@www.trouphistory.org
SUMMARY:Hands on History: Summer
DESCRIPTION:
URL:https://www.trouphistory.org/events/hands-on-history-summer/2025-06-05/
LOCATION:Legacy Museum on Main\, 136 Main Street\, LaGrange\, GA\, 30241\, United States
CATEGORIES:Young Historians
ATTACH;FMTTYPE=image/png:https://www.trouphistory.org/wp-content/uploads/colorful-playful-kids-camp-summer-flyer-1.png
ORGANIZER;CN="Troup County Archives":MAILTO:info@trouphistory.org
END:VEVENT
BEGIN:VEVENT
DTSTART;TZID=America/New_York:20250606T190000
DTEND;TZID=America/New_York:20250606T210000
DTSTAMP:20260421T142533
CREATED:20250522T180701Z
LAST-MODIFIED:20250522T180701Z
UID:10001245-1749236400-1749243600@www.trouphistory.org
SUMMARY:Strange LaGrange
DESCRIPTION:
URL:https://www.trouphistory.org/events/strange-lagrange/2025-06-06/
LOCATION:Legacy Museum on Main\, 136 Main Street\, LaGrange\, GA\, 30241\, United States
CATEGORIES:Walking Tours
ATTACH;FMTTYPE=image/png:https://www.trouphistory.org/wp-content/uploads/STG-LG-2024.png
ORGANIZER;CN="Troup County Archives":MAILTO:info@trouphistory.org
END:VEVENT
BEGIN:VEVENT
DTSTART;TZID=America/New_York:20250609T100000
DTEND;TZID=America/New_York:20250609T120000
DTSTAMP:20260421T142533
CREATED:20250522T140444Z
LAST-MODIFIED:20250522T140444Z
UID:10001211-1749463200-1749470400@www.trouphistory.org
SUMMARY:Hands on History: Summer
DESCRIPTION:
URL:https://www.trouphistory.org/events/hands-on-history-summer/2025-06-09/
LOCATION:Legacy Museum on Main\, 136 Main Street\, LaGrange\, GA\, 30241\, United States
CATEGORIES:Young Historians
ATTACH;FMTTYPE=image/png:https://www.trouphistory.org/wp-content/uploads/colorful-playful-kids-camp-summer-flyer-1.png
ORGANIZER;CN="Troup County Archives":MAILTO:info@trouphistory.org
END:VEVENT
BEGIN:VEVENT
DTSTART;TZID=America/New_York:20250610T100000
DTEND;TZID=America/New_York:20250610T120000
DTSTAMP:20260421T142533
CREATED:20250522T140444Z
LAST-MODIFIED:20250522T140444Z
UID:10001212-1749549600-1749556800@www.trouphistory.org
SUMMARY:Hands on History: Summer
DESCRIPTION:
URL:https://www.trouphistory.org/events/hands-on-history-summer/2025-06-10/
LOCATION:Legacy Museum on Main\, 136 Main Street\, LaGrange\, GA\, 30241\, United States
CATEGORIES:Young Historians
ATTACH;FMTTYPE=image/png:https://www.trouphistory.org/wp-content/uploads/colorful-playful-kids-camp-summer-flyer-1.png
ORGANIZER;CN="Troup County Archives":MAILTO:info@trouphistory.org
END:VEVENT
BEGIN:VEVENT
DTSTART;TZID=America/New_York:20250611T100000
DTEND;TZID=America/New_York:20250611T120000
DTSTAMP:20260421T142533
CREATED:20250522T140444Z
LAST-MODIFIED:20250522T140444Z
UID:10001213-1749636000-1749643200@www.trouphistory.org
SUMMARY:Hands on History: Summer
DESCRIPTION:
URL:https://www.trouphistory.org/events/hands-on-history-summer/2025-06-11/
LOCATION:Legacy Museum on Main\, 136 Main Street\, LaGrange\, GA\, 30241\, United States
CATEGORIES:Young Historians
ATTACH;FMTTYPE=image/png:https://www.trouphistory.org/wp-content/uploads/colorful-playful-kids-camp-summer-flyer-1.png
ORGANIZER;CN="Troup County Archives":MAILTO:info@trouphistory.org
END:VEVENT
BEGIN:VEVENT
DTSTART;TZID=America/New_York:20250612T100000
DTEND;TZID=America/New_York:20250612T120000
DTSTAMP:20260421T142533
CREATED:20250522T140444Z
LAST-MODIFIED:20250522T140444Z
UID:10001214-1749722400-1749729600@www.trouphistory.org
SUMMARY:Hands on History: Summer
DESCRIPTION:
URL:https://www.trouphistory.org/events/hands-on-history-summer/2025-06-12/
LOCATION:Legacy Museum on Main\, 136 Main Street\, LaGrange\, GA\, 30241\, United States
CATEGORIES:Young Historians
ATTACH;FMTTYPE=image/png:https://www.trouphistory.org/wp-content/uploads/colorful-playful-kids-camp-summer-flyer-1.png
ORGANIZER;CN="Troup County Archives":MAILTO:info@trouphistory.org
END:VEVENT
BEGIN:VEVENT
DTSTART;TZID=America/New_York:20250613T190000
DTEND;TZID=America/New_York:20250613T210000
DTSTAMP:20260421T142533
CREATED:20250522T180701Z
LAST-MODIFIED:20250522T180701Z
UID:10001246-1749841200-1749848400@www.trouphistory.org
SUMMARY:Strange LaGrange
DESCRIPTION:
URL:https://www.trouphistory.org/events/strange-lagrange/2025-06-13/
LOCATION:Legacy Museum on Main\, 136 Main Street\, LaGrange\, GA\, 30241\, United States
CATEGORIES:Walking Tours
ATTACH;FMTTYPE=image/png:https://www.trouphistory.org/wp-content/uploads/STG-LG-2024.png
ORGANIZER;CN="Troup County Archives":MAILTO:info@trouphistory.org
END:VEVENT
BEGIN:VEVENT
DTSTART;TZID=America/New_York:20250613T190000
DTEND;TZID=America/New_York:20250613T220000
DTSTAMP:20260421T142533
CREATED:20250522T134922Z
LAST-MODIFIED:20250522T140248Z
UID:10001203-1749841200-1749852000@www.trouphistory.org
SUMMARY:History Trivia Night
DESCRIPTION:History Trivia Night at the Archives! \nThink you’ve got what it takes to outsmart the past? Join us for a Trivia Night!\n\n\nFriday\, June 13th • 7:00 PM • 136 Main Street\, LaGrange\, GA\n\n\nEnjoy a night of lively trivia\, awesome prizes\, and unforgettable fun!\n\n\nFree and open to the public! Register your team at the link here: https://forms.gle/phhmNFrcwpe2VxbVA
URL:https://www.trouphistory.org/events/history-trivia-night/
LOCATION:Legacy Museum on Main\, 136 Main Street\, LaGrange\, GA\, 30241\, United States
ATTACH;FMTTYPE=image/png:https://www.trouphistory.org/wp-content/uploads/Troup-County-Historical-Society-presents-2.png
ORGANIZER;CN="Troup County Archives":MAILTO:info@trouphistory.org
END:VEVENT
BEGIN:VEVENT
DTSTART;TZID=America/New_York:20250616T100000
DTEND;TZID=America/New_York:20250616T120000
DTSTAMP:20260421T142533
CREATED:20250522T140444Z
LAST-MODIFIED:20250522T140444Z
UID:10001215-1750068000-1750075200@www.trouphistory.org
SUMMARY:Hands on History: Summer
DESCRIPTION:
URL:https://www.trouphistory.org/events/hands-on-history-summer/2025-06-16/
LOCATION:Legacy Museum on Main\, 136 Main Street\, LaGrange\, GA\, 30241\, United States
CATEGORIES:Young Historians
ATTACH;FMTTYPE=image/png:https://www.trouphistory.org/wp-content/uploads/colorful-playful-kids-camp-summer-flyer-1.png
ORGANIZER;CN="Troup County Archives":MAILTO:info@trouphistory.org
END:VEVENT
BEGIN:VEVENT
DTSTART;TZID=America/New_York:20250617T100000
DTEND;TZID=America/New_York:20250617T120000
DTSTAMP:20260421T142533
CREATED:20250522T140444Z
LAST-MODIFIED:20250522T140444Z
UID:10001216-1750154400-1750161600@www.trouphistory.org
SUMMARY:Hands on History: Summer
DESCRIPTION:
URL:https://www.trouphistory.org/events/hands-on-history-summer/2025-06-17/
LOCATION:Legacy Museum on Main\, 136 Main Street\, LaGrange\, GA\, 30241\, United States
CATEGORIES:Young Historians
ATTACH;FMTTYPE=image/png:https://www.trouphistory.org/wp-content/uploads/colorful-playful-kids-camp-summer-flyer-1.png
ORGANIZER;CN="Troup County Archives":MAILTO:info@trouphistory.org
END:VEVENT
BEGIN:VEVENT
DTSTART;TZID=America/New_York:20250618T100000
DTEND;TZID=America/New_York:20250618T120000
DTSTAMP:20260421T142533
CREATED:20250522T140444Z
LAST-MODIFIED:20250522T140444Z
UID:10001217-1750240800-1750248000@www.trouphistory.org
SUMMARY:Hands on History: Summer
DESCRIPTION:
URL:https://www.trouphistory.org/events/hands-on-history-summer/2025-06-18/
LOCATION:Legacy Museum on Main\, 136 Main Street\, LaGrange\, GA\, 30241\, United States
CATEGORIES:Young Historians
ATTACH;FMTTYPE=image/png:https://www.trouphistory.org/wp-content/uploads/colorful-playful-kids-camp-summer-flyer-1.png
ORGANIZER;CN="Troup County Archives":MAILTO:info@trouphistory.org
END:VEVENT
BEGIN:VEVENT
DTSTART;TZID=America/New_York:20250619T100000
DTEND;TZID=America/New_York:20250619T120000
DTSTAMP:20260421T142533
CREATED:20250522T140444Z
LAST-MODIFIED:20250522T140444Z
UID:10001218-1750327200-1750334400@www.trouphistory.org
SUMMARY:Hands on History: Summer
DESCRIPTION:
URL:https://www.trouphistory.org/events/hands-on-history-summer/2025-06-19/
LOCATION:Legacy Museum on Main\, 136 Main Street\, LaGrange\, GA\, 30241\, United States
CATEGORIES:Young Historians
ATTACH;FMTTYPE=image/png:https://www.trouphistory.org/wp-content/uploads/colorful-playful-kids-camp-summer-flyer-1.png
ORGANIZER;CN="Troup County Archives":MAILTO:info@trouphistory.org
END:VEVENT
BEGIN:VEVENT
DTSTART;TZID=America/New_York:20250620T190000
DTEND;TZID=America/New_York:20250620T210000
DTSTAMP:20260421T142533
CREATED:20250522T180701Z
LAST-MODIFIED:20250522T180701Z
UID:10001247-1750446000-1750453200@www.trouphistory.org
SUMMARY:Strange LaGrange
DESCRIPTION:
URL:https://www.trouphistory.org/events/strange-lagrange/2025-06-20/
LOCATION:Legacy Museum on Main\, 136 Main Street\, LaGrange\, GA\, 30241\, United States
CATEGORIES:Walking Tours
ATTACH;FMTTYPE=image/png:https://www.trouphistory.org/wp-content/uploads/STG-LG-2024.png
ORGANIZER;CN="Troup County Archives":MAILTO:info@trouphistory.org
END:VEVENT
BEGIN:VEVENT
DTSTART;TZID=America/New_York:20250623T100000
DTEND;TZID=America/New_York:20250623T120000
DTSTAMP:20260421T142533
CREATED:20250522T140444Z
LAST-MODIFIED:20250522T140444Z
UID:10001219-1750672800-1750680000@www.trouphistory.org
SUMMARY:Hands on History: Summer
DESCRIPTION:
URL:https://www.trouphistory.org/events/hands-on-history-summer/2025-06-23/
LOCATION:Legacy Museum on Main\, 136 Main Street\, LaGrange\, GA\, 30241\, United States
CATEGORIES:Young Historians
ATTACH;FMTTYPE=image/png:https://www.trouphistory.org/wp-content/uploads/colorful-playful-kids-camp-summer-flyer-1.png
ORGANIZER;CN="Troup County Archives":MAILTO:info@trouphistory.org
END:VEVENT
BEGIN:VEVENT
DTSTART;TZID=America/New_York:20250624T100000
DTEND;TZID=America/New_York:20250624T120000
DTSTAMP:20260421T142533
CREATED:20250522T140444Z
LAST-MODIFIED:20250522T140444Z
UID:10001220-1750759200-1750766400@www.trouphistory.org
SUMMARY:Hands on History: Summer
DESCRIPTION:
URL:https://www.trouphistory.org/events/hands-on-history-summer/2025-06-24/
LOCATION:Legacy Museum on Main\, 136 Main Street\, LaGrange\, GA\, 30241\, United States
CATEGORIES:Young Historians
ATTACH;FMTTYPE=image/png:https://www.trouphistory.org/wp-content/uploads/colorful-playful-kids-camp-summer-flyer-1.png
ORGANIZER;CN="Troup County Archives":MAILTO:info@trouphistory.org
END:VEVENT
BEGIN:VEVENT
DTSTART;TZID=America/New_York:20250625T100000
DTEND;TZID=America/New_York:20250625T120000
DTSTAMP:20260421T142533
CREATED:20250522T140444Z
LAST-MODIFIED:20250522T140444Z
UID:10001221-1750845600-1750852800@www.trouphistory.org
SUMMARY:Hands on History: Summer
DESCRIPTION:
URL:https://www.trouphistory.org/events/hands-on-history-summer/2025-06-25/
LOCATION:Legacy Museum on Main\, 136 Main Street\, LaGrange\, GA\, 30241\, United States
CATEGORIES:Young Historians
ATTACH;FMTTYPE=image/png:https://www.trouphistory.org/wp-content/uploads/colorful-playful-kids-camp-summer-flyer-1.png
ORGANIZER;CN="Troup County Archives":MAILTO:info@trouphistory.org
END:VEVENT
BEGIN:VEVENT
DTSTART;TZID=America/New_York:20250626T100000
DTEND;TZID=America/New_York:20250626T120000
DTSTAMP:20260421T142533
CREATED:20250522T140444Z
LAST-MODIFIED:20250522T140444Z
UID:10001222-1750932000-1750939200@www.trouphistory.org
SUMMARY:Hands on History: Summer
DESCRIPTION:
URL:https://www.trouphistory.org/events/hands-on-history-summer/2025-06-26/
LOCATION:Legacy Museum on Main\, 136 Main Street\, LaGrange\, GA\, 30241\, United States
CATEGORIES:Young Historians
ATTACH;FMTTYPE=image/png:https://www.trouphistory.org/wp-content/uploads/colorful-playful-kids-camp-summer-flyer-1.png
ORGANIZER;CN="Troup County Archives":MAILTO:info@trouphistory.org
END:VEVENT
BEGIN:VEVENT
DTSTART;TZID=America/New_York:20250627T180000
DTEND;TZID=America/New_York:20250627T203000
DTSTAMP:20260421T142533
CREATED:20250616T153251Z
LAST-MODIFIED:20250616T153251Z
UID:10001249-1751047200-1751056200@www.trouphistory.org
SUMMARY:Night at the Museum
DESCRIPTION:It’s back! Calling all young historians! Come explore the Legacy Museum after hours for a special kids’ event. Explore our latest World War II exhibit and enjoy hands-on crafts\, fun games\, and more\, all inspired by the history of the era. Tailored for ages 6–10. Sign up at the link — but hurry\, spots are limited!
URL:https://www.trouphistory.org/events/night-at-the-museum-3/
LOCATION:Legacy Museum on Main\, 136 Main Street\, LaGrange\, GA\, 30241\, United States
CATEGORIES:Young Historians
ATTACH;FMTTYPE=image/png:https://www.trouphistory.org/wp-content/uploads/Night.png
ORGANIZER;CN="Troup County Archives":MAILTO:info@trouphistory.org
END:VEVENT
BEGIN:VEVENT
DTSTART;TZID=America/New_York:20250627T190000
DTEND;TZID=America/New_York:20250627T210000
DTSTAMP:20260421T142533
CREATED:20250522T180701Z
LAST-MODIFIED:20250522T180701Z
UID:10001248-1751050800-1751058000@www.trouphistory.org
SUMMARY:Strange LaGrange
DESCRIPTION:
URL:https://www.trouphistory.org/events/strange-lagrange/2025-06-27/
LOCATION:Legacy Museum on Main\, 136 Main Street\, LaGrange\, GA\, 30241\, United States
CATEGORIES:Walking Tours
ATTACH;FMTTYPE=image/png:https://www.trouphistory.org/wp-content/uploads/STG-LG-2024.png
ORGANIZER;CN="Troup County Archives":MAILTO:info@trouphistory.org
END:VEVENT
BEGIN:VEVENT
DTSTART;TZID=America/New_York:20250630T100000
DTEND;TZID=America/New_York:20250630T120000
DTSTAMP:20260421T142533
CREATED:20250522T140444Z
LAST-MODIFIED:20250522T140444Z
UID:10001223-1751277600-1751284800@www.trouphistory.org
SUMMARY:Hands on History: Summer
DESCRIPTION:
URL:https://www.trouphistory.org/events/hands-on-history-summer/2025-06-30/
LOCATION:Legacy Museum on Main\, 136 Main Street\, LaGrange\, GA\, 30241\, United States
CATEGORIES:Young Historians
ATTACH;FMTTYPE=image/png:https://www.trouphistory.org/wp-content/uploads/colorful-playful-kids-camp-summer-flyer-1.png
ORGANIZER;CN="Troup County Archives":MAILTO:info@trouphistory.org
END:VEVENT
END:VCALENDAR