BEGIN:VCALENDAR
VERSION:2.0
PRODID:-//Troup County Archives &amp; Legacy Museum on Main - ECPv6.15.20//NONSGML v1.0//EN
CALSCALE:GREGORIAN
METHOD:PUBLISH
X-ORIGINAL-URL:https://www.trouphistory.org
X-WR-CALDESC:Events for Troup County Archives &amp; Legacy Museum on Main
REFRESH-INTERVAL;VALUE=DURATION:PT1H
X-Robots-Tag:noindex
X-PUBLISHED-TTL:PT1H
BEGIN:VTIMEZONE
TZID:America/New_York
BEGIN:DAYLIGHT
TZOFFSETFROM:-0500
TZOFFSETTO:-0400
TZNAME:EDT
DTSTART:20220313T070000
END:DAYLIGHT
BEGIN:STANDARD
TZOFFSETFROM:-0400
TZOFFSETTO:-0500
TZNAME:EST
DTSTART:20221106T060000
END:STANDARD
BEGIN:DAYLIGHT
TZOFFSETFROM:-0500
TZOFFSETTO:-0400
TZNAME:EDT
DTSTART:20230312T070000
END:DAYLIGHT
BEGIN:STANDARD
TZOFFSETFROM:-0400
TZOFFSETTO:-0500
TZNAME:EST
DTSTART:20231105T060000
END:STANDARD
BEGIN:DAYLIGHT
TZOFFSETFROM:-0500
TZOFFSETTO:-0400
TZNAME:EDT
DTSTART:20240310T070000
END:DAYLIGHT
BEGIN:STANDARD
TZOFFSETFROM:-0400
TZOFFSETTO:-0500
TZNAME:EST
DTSTART:20241103T060000
END:STANDARD
BEGIN:DAYLIGHT
TZOFFSETFROM:-0500
TZOFFSETTO:-0400
TZNAME:EDT
DTSTART:20250309T070000
END:DAYLIGHT
BEGIN:STANDARD
TZOFFSETFROM:-0400
TZOFFSETTO:-0500
TZNAME:EST
DTSTART:20251102T060000
END:STANDARD
END:VTIMEZONE
BEGIN:VEVENT
DTSTART;VALUE=DATE:20230729
DTEND;VALUE=DATE:20240630
DTSTAMP:20260422T202204
CREATED:20230724T201330Z
LAST-MODIFIED:20230824T194112Z
UID:10000250-1690588800-1719705599@www.trouphistory.org
SUMMARY:Howdy Neighbor!: Troup County's Changing Communities
DESCRIPTION:Where do you call home – a modern subdivision\, an in-town neighborhood\, an apartment complex\, a rural community? We are all defined\, to some extent\, by where we choose to live. Through all of Troup County’s two hundred years\, our communities and neighborhoods have experienced change. Our three cities\, which now tend to sprawl in all directions\, began as towns laid out on a rigid grid with defined boundaries. Come by Legacy Museum on Main to take a look at how neighborhoods and communities in Troup County have changed over time.
URL:https://www.trouphistory.org/events/howdy-neighbor-troup-countys-changing-communities/
LOCATION:Legacy Museum on Main\, 136 Main Street\, LaGrange\, GA\, 30241\, United States
CATEGORIES:Exhibits
ATTACH;FMTTYPE=image/png:https://www.trouphistory.org/wp-content/uploads/Howdy-Neighbor-logo-troup-archives-1.png
ORGANIZER;CN="Troup County Archives":MAILTO:info@trouphistory.org
END:VEVENT
BEGIN:VEVENT
DTSTART;TZID=America/New_York:20240402T110000
DTEND;TZID=America/New_York:20240402T113000
DTSTAMP:20260422T202204
CREATED:20230301T154240Z
LAST-MODIFIED:20230809T152713Z
UID:10000328-1712055600-1712057400@www.trouphistory.org
SUMMARY:Baby History
DESCRIPTION:
URL:https://www.trouphistory.org/events/baby-history-3/2024-04-02/
LOCATION:Legacy Museum on Main\, 136 Main Street\, LaGrange\, GA\, 30241\, United States
CATEGORIES:Young Historians
ATTACH;FMTTYPE=image/png:https://www.trouphistory.org/wp-content/uploads/baby-history-flyer-2023.png
ORGANIZER;CN="Troup County Archives":MAILTO:info@trouphistory.org
END:VEVENT
BEGIN:VEVENT
DTSTART;TZID=America/New_York:20240405T190000
DTEND;TZID=America/New_York:20240405T210000
DTSTAMP:20260422T202204
CREATED:20240405T142441Z
LAST-MODIFIED:20240529T155432Z
UID:10000499-1712343600-1712350800@www.trouphistory.org
SUMMARY:Strange LaGrange: A Walking Tour
DESCRIPTION:Created and led by Lewis Powell\, a historian and researcher with the Troup County Archives\, this walking tour thrills as it winds through downtown LaGrange. The tour touches on places where history manifests itself in the form the unexplainable. This tour is family friendly.
URL:https://www.trouphistory.org/events/strange-lagrange-a-walking-tour-2/2024-04-05/
LOCATION:Legacy Museum on Main\, 136 Main Street\, LaGrange\, GA\, 30241\, United States
CATEGORIES:Walking Tours
ATTACH;FMTTYPE=image/png:https://www.trouphistory.org/wp-content/uploads/wepik-strange-lagrange-poster-20240405140545lZld.png
ORGANIZER;CN="Troup County Archives":MAILTO:info@trouphistory.org
END:VEVENT
BEGIN:VEVENT
DTSTART;TZID=America/New_York:20240409T110000
DTEND;TZID=America/New_York:20240409T113000
DTSTAMP:20260422T202204
CREATED:20240405T140044Z
LAST-MODIFIED:20240405T140116Z
UID:10000329-1712660400-1712662200@www.trouphistory.org
SUMMARY:Baby History
DESCRIPTION:
URL:https://www.trouphistory.org/events/baby-history-3-2/
LOCATION:Legacy Museum on Main\, 136 Main Street\, LaGrange\, GA\, 30241\, United States
CATEGORIES:Young Historians
ATTACH;FMTTYPE=image/png:https://www.trouphistory.org/wp-content/uploads/baby-history-flyer-2023.png
ORGANIZER;CN="Troup County Archives":MAILTO:info@trouphistory.org
END:VEVENT
BEGIN:VEVENT
DTSTART;TZID=America/New_York:20240412T190000
DTEND;TZID=America/New_York:20240412T210000
DTSTAMP:20260422T202204
CREATED:20240405T142441Z
LAST-MODIFIED:20240529T155432Z
UID:10000500-1712948400-1712955600@www.trouphistory.org
SUMMARY:Strange LaGrange: A Walking Tour
DESCRIPTION:Created and led by Lewis Powell\, a historian and researcher with the Troup County Archives\, this walking tour thrills as it winds through downtown LaGrange. The tour touches on places where history manifests itself in the form the unexplainable. This tour is family friendly.
URL:https://www.trouphistory.org/events/strange-lagrange-a-walking-tour-2/2024-04-12/
LOCATION:Legacy Museum on Main\, 136 Main Street\, LaGrange\, GA\, 30241\, United States
CATEGORIES:Walking Tours
ATTACH;FMTTYPE=image/png:https://www.trouphistory.org/wp-content/uploads/wepik-strange-lagrange-poster-20240405140545lZld.png
ORGANIZER;CN="Troup County Archives":MAILTO:info@trouphistory.org
END:VEVENT
BEGIN:VEVENT
DTSTART;TZID=America/New_York:20240419T190000
DTEND;TZID=America/New_York:20240419T210000
DTSTAMP:20260422T202204
CREATED:20240405T142441Z
LAST-MODIFIED:20240529T155432Z
UID:10000501-1713553200-1713560400@www.trouphistory.org
SUMMARY:Strange LaGrange: A Walking Tour
DESCRIPTION:Created and led by Lewis Powell\, a historian and researcher with the Troup County Archives\, this walking tour thrills as it winds through downtown LaGrange. The tour touches on places where history manifests itself in the form the unexplainable. This tour is family friendly.
URL:https://www.trouphistory.org/events/strange-lagrange-a-walking-tour-2/2024-04-19/
LOCATION:Legacy Museum on Main\, 136 Main Street\, LaGrange\, GA\, 30241\, United States
CATEGORIES:Walking Tours
ATTACH;FMTTYPE=image/png:https://www.trouphistory.org/wp-content/uploads/wepik-strange-lagrange-poster-20240405140545lZld.png
ORGANIZER;CN="Troup County Archives":MAILTO:info@trouphistory.org
END:VEVENT
BEGIN:VEVENT
DTSTART;TZID=America/New_York:20240420T190000
DTEND;TZID=America/New_York:20240420T223000
DTSTAMP:20260422T202204
CREATED:20240405T144336Z
LAST-MODIFIED:20240405T144422Z
UID:10000503-1713639600-1713652200@www.trouphistory.org
SUMMARY:Family Movie Night at Callaway Clock Tower
DESCRIPTION:Join us at the Callaway Memorial Tower for a film under the stars. Bring a picnic dinner\, camp chairs or a blanket\, and grab a spot on the lawn. Concessions will be available for purchase.\nWe will show Night At the Museum: Battle of the Smithsonian. Arrive as early as 7pm\, the film will begin at sunset (approximately 8:15pm). This is a FREE community event.
URL:https://www.trouphistory.org/events/family-movie-night-at-callaway-clock-tower/
LOCATION:Callaway Memorial Tower\, Cypress Street\, LaGrange\, GA\, 30240\, United States
CATEGORIES:General Event
ATTACH;FMTTYPE=image/jpeg:https://www.trouphistory.org/wp-content/uploads/Movie-Event-2024-Poster-scaled.jpeg
ORGANIZER;CN="Troup County Archives":MAILTO:info@trouphistory.org
END:VEVENT
BEGIN:VEVENT
DTSTART;TZID=America/New_York:20240426T190000
DTEND;TZID=America/New_York:20240426T210000
DTSTAMP:20260422T202204
CREATED:20240405T142441Z
LAST-MODIFIED:20240529T155432Z
UID:10000751-1714158000-1714165200@www.trouphistory.org
SUMMARY:Strange LaGrange: A Walking Tour
DESCRIPTION:Created and led by Lewis Powell\, a historian and researcher with the Troup County Archives\, this walking tour thrills as it winds through downtown LaGrange. The tour touches on places where history manifests itself in the form the unexplainable. This tour is family friendly.
URL:https://www.trouphistory.org/events/strange-lagrange-a-walking-tour-2/2024-04-26/
LOCATION:Legacy Museum on Main\, 136 Main Street\, LaGrange\, GA\, 30241\, United States
CATEGORIES:Walking Tours
ATTACH;FMTTYPE=image/png:https://www.trouphistory.org/wp-content/uploads/wepik-strange-lagrange-poster-20240405140545lZld.png
ORGANIZER;CN="Troup County Archives":MAILTO:info@trouphistory.org
END:VEVENT
BEGIN:VEVENT
DTSTART;TZID=America/New_York:20240430T120000
DTEND;TZID=America/New_York:20240430T130000
DTSTAMP:20260422T202204
CREATED:20240130T192259Z
LAST-MODIFIED:20240410T194720Z
UID:10000428-1714478400-1714482000@www.trouphistory.org
SUMMARY:Highnoon History
DESCRIPTION:Pack a lunchbox\, bring a friend\, and enjoy some history. Talks will last about thirty minutes with time allotted for questions after\, allowing plenty of time to get back to work and the rets of the day. Former TCA intern\, Philip Anglin\, has just released an index to LaGrange City Directories titled Colored\, that is invaluable to African American genealogy.
URL:https://www.trouphistory.org/events/highnoon-history/
LOCATION:Promenade
ATTACH;FMTTYPE=image/jpeg:https://www.trouphistory.org/wp-content/uploads/ColoredTN.jpg
END:VEVENT
END:VCALENDAR