BEGIN:VCALENDAR
VERSION:2.0
PRODID:-//Troup County Archives &amp; Legacy Museum on Main - ECPv6.15.20//NONSGML v1.0//EN
CALSCALE:GREGORIAN
METHOD:PUBLISH
X-ORIGINAL-URL:https://www.trouphistory.org
X-WR-CALDESC:Events for Troup County Archives &amp; Legacy Museum on Main
REFRESH-INTERVAL;VALUE=DURATION:PT1H
X-Robots-Tag:noindex
X-PUBLISHED-TTL:PT1H
BEGIN:VTIMEZONE
TZID:America/New_York
BEGIN:DAYLIGHT
TZOFFSETFROM:-0500
TZOFFSETTO:-0400
TZNAME:EDT
DTSTART:20220313T070000
END:DAYLIGHT
BEGIN:STANDARD
TZOFFSETFROM:-0400
TZOFFSETTO:-0500
TZNAME:EST
DTSTART:20221106T060000
END:STANDARD
BEGIN:DAYLIGHT
TZOFFSETFROM:-0500
TZOFFSETTO:-0400
TZNAME:EDT
DTSTART:20230312T070000
END:DAYLIGHT
BEGIN:STANDARD
TZOFFSETFROM:-0400
TZOFFSETTO:-0500
TZNAME:EST
DTSTART:20231105T060000
END:STANDARD
BEGIN:DAYLIGHT
TZOFFSETFROM:-0500
TZOFFSETTO:-0400
TZNAME:EDT
DTSTART:20240310T070000
END:DAYLIGHT
BEGIN:STANDARD
TZOFFSETFROM:-0400
TZOFFSETTO:-0500
TZNAME:EST
DTSTART:20241103T060000
END:STANDARD
BEGIN:DAYLIGHT
TZOFFSETFROM:-0500
TZOFFSETTO:-0400
TZNAME:EDT
DTSTART:20250309T070000
END:DAYLIGHT
BEGIN:STANDARD
TZOFFSETFROM:-0400
TZOFFSETTO:-0500
TZNAME:EST
DTSTART:20251102T060000
END:STANDARD
END:VTIMEZONE
BEGIN:VEVENT
DTSTART;VALUE=DATE:20230729
DTEND;VALUE=DATE:20240630
DTSTAMP:20260422T221858
CREATED:20230724T201330Z
LAST-MODIFIED:20230824T194112Z
UID:10000250-1690588800-1719705599@www.trouphistory.org
SUMMARY:Howdy Neighbor!: Troup County's Changing Communities
DESCRIPTION:Where do you call home – a modern subdivision\, an in-town neighborhood\, an apartment complex\, a rural community? We are all defined\, to some extent\, by where we choose to live. Through all of Troup County’s two hundred years\, our communities and neighborhoods have experienced change. Our three cities\, which now tend to sprawl in all directions\, began as towns laid out on a rigid grid with defined boundaries. Come by Legacy Museum on Main to take a look at how neighborhoods and communities in Troup County have changed over time.
URL:https://www.trouphistory.org/events/howdy-neighbor-troup-countys-changing-communities/
LOCATION:Legacy Museum on Main\, 136 Main Street\, LaGrange\, GA\, 30241\, United States
CATEGORIES:Exhibits
ATTACH;FMTTYPE=image/png:https://www.trouphistory.org/wp-content/uploads/Howdy-Neighbor-logo-troup-archives-1.png
ORGANIZER;CN="Troup County Archives":MAILTO:info@trouphistory.org
END:VEVENT
BEGIN:VEVENT
DTSTART;TZID=America/New_York:20240305T110000
DTEND;TZID=America/New_York:20240305T113000
DTSTAMP:20260422T221858
CREATED:20230301T154240Z
LAST-MODIFIED:20230809T152713Z
UID:10000324-1709636400-1709638200@www.trouphistory.org
SUMMARY:Baby History
DESCRIPTION:
URL:https://www.trouphistory.org/events/baby-history-3/2024-03-05/
LOCATION:Legacy Museum on Main\, 136 Main Street\, LaGrange\, GA\, 30241\, United States
CATEGORIES:Young Historians
ATTACH;FMTTYPE=image/png:https://www.trouphistory.org/wp-content/uploads/baby-history-flyer-2023.png
ORGANIZER;CN="Troup County Archives":MAILTO:info@trouphistory.org
END:VEVENT
BEGIN:VEVENT
DTSTART;TZID=America/New_York:20240312T110000
DTEND;TZID=America/New_York:20240312T113000
DTSTAMP:20260422T221858
CREATED:20230301T154240Z
LAST-MODIFIED:20230809T152713Z
UID:10000325-1710241200-1710243000@www.trouphistory.org
SUMMARY:Baby History
DESCRIPTION:
URL:https://www.trouphistory.org/events/baby-history-3/2024-03-12/
LOCATION:Legacy Museum on Main\, 136 Main Street\, LaGrange\, GA\, 30241\, United States
CATEGORIES:Young Historians
ATTACH;FMTTYPE=image/png:https://www.trouphistory.org/wp-content/uploads/baby-history-flyer-2023.png
ORGANIZER;CN="Troup County Archives":MAILTO:info@trouphistory.org
END:VEVENT
BEGIN:VEVENT
DTSTART;TZID=America/New_York:20240319T110000
DTEND;TZID=America/New_York:20240319T113000
DTSTAMP:20260422T221858
CREATED:20230301T154240Z
LAST-MODIFIED:20230809T152713Z
UID:10000326-1710846000-1710847800@www.trouphistory.org
SUMMARY:Baby History
DESCRIPTION:
URL:https://www.trouphistory.org/events/baby-history-3/2024-03-19/
LOCATION:Legacy Museum on Main\, 136 Main Street\, LaGrange\, GA\, 30241\, United States
CATEGORIES:Young Historians
ATTACH;FMTTYPE=image/png:https://www.trouphistory.org/wp-content/uploads/baby-history-flyer-2023.png
ORGANIZER;CN="Troup County Archives":MAILTO:info@trouphistory.org
END:VEVENT
BEGIN:VEVENT
DTSTART;TZID=America/New_York:20240326T110000
DTEND;TZID=America/New_York:20240326T113000
DTSTAMP:20260422T221858
CREATED:20230301T154240Z
LAST-MODIFIED:20230809T152713Z
UID:10000327-1711450800-1711452600@www.trouphistory.org
SUMMARY:Baby History
DESCRIPTION:
URL:https://www.trouphistory.org/events/baby-history-3/2024-03-26/
LOCATION:Legacy Museum on Main\, 136 Main Street\, LaGrange\, GA\, 30241\, United States
CATEGORIES:Young Historians
ATTACH;FMTTYPE=image/png:https://www.trouphistory.org/wp-content/uploads/baby-history-flyer-2023.png
ORGANIZER;CN="Troup County Archives":MAILTO:info@trouphistory.org
END:VEVENT
END:VCALENDAR