BEGIN:VCALENDAR
VERSION:2.0
PRODID:-//Troup County Archives &amp; Legacy Museum on Main - ECPv6.15.20//NONSGML v1.0//EN
CALSCALE:GREGORIAN
METHOD:PUBLISH
X-ORIGINAL-URL:https://www.trouphistory.org
X-WR-CALDESC:Events for Troup County Archives &amp; Legacy Museum on Main
REFRESH-INTERVAL;VALUE=DURATION:PT1H
X-Robots-Tag:noindex
X-PUBLISHED-TTL:PT1H
BEGIN:VTIMEZONE
TZID:America/New_York
BEGIN:DAYLIGHT
TZOFFSETFROM:-0500
TZOFFSETTO:-0400
TZNAME:EDT
DTSTART:20210314T070000
END:DAYLIGHT
BEGIN:STANDARD
TZOFFSETFROM:-0400
TZOFFSETTO:-0500
TZNAME:EST
DTSTART:20211107T060000
END:STANDARD
BEGIN:DAYLIGHT
TZOFFSETFROM:-0500
TZOFFSETTO:-0400
TZNAME:EDT
DTSTART:20220313T070000
END:DAYLIGHT
BEGIN:STANDARD
TZOFFSETFROM:-0400
TZOFFSETTO:-0500
TZNAME:EST
DTSTART:20221106T060000
END:STANDARD
BEGIN:DAYLIGHT
TZOFFSETFROM:-0500
TZOFFSETTO:-0400
TZNAME:EDT
DTSTART:20230312T070000
END:DAYLIGHT
BEGIN:STANDARD
TZOFFSETFROM:-0400
TZOFFSETTO:-0500
TZNAME:EST
DTSTART:20231105T060000
END:STANDARD
BEGIN:DAYLIGHT
TZOFFSETFROM:-0500
TZOFFSETTO:-0400
TZNAME:EDT
DTSTART:20240310T070000
END:DAYLIGHT
BEGIN:STANDARD
TZOFFSETFROM:-0400
TZOFFSETTO:-0500
TZNAME:EST
DTSTART:20241103T060000
END:STANDARD
END:VTIMEZONE
BEGIN:VEVENT
DTSTART;VALUE=DATE:20220701
DTEND;VALUE=DATE:20230617
DTSTAMP:20260424T115911
CREATED:20220419T153658Z
LAST-MODIFIED:20220526T201939Z
UID:10000434-1656633600-1686959999@www.trouphistory.org
SUMMARY:Hitting the Road: Shifting through Automobile History
DESCRIPTION:The automobile was developed and perfected in Europe\, but it was America that fully embraced the invention and first fell in love with the car. From drive-in movie theaters to drive-through restaurants\, summer road trips to stockcar races\, Americans have been captivated with car culture for well over a century. Visit Legacy Museum on Main to take a look at local car history. \nJuly 1\, 2022 – June 16\, 2023
URL:https://www.trouphistory.org/events/hitting-the-road-shifting-through-automobile-history/
LOCATION:Legacy Museum on Main\, 136 Main Street\, LaGrange\, GA\, 30241\, United States
CATEGORIES:Exhibits
ATTACH;FMTTYPE=image/jpeg:https://www.trouphistory.org/wp-content/uploads/archives-hitting-the-road.jpg
ORGANIZER;CN="Troup County Archives":MAILTO:info@trouphistory.org
END:VEVENT
BEGIN:VEVENT
DTSTART;TZID=America/New_York:20220701T190000
DTEND;TZID=America/New_York:20220701T210000
DTSTAMP:20260424T115911
CREATED:20220415T225831Z
LAST-MODIFIED:20220415T230057Z
UID:10000445-1656702000-1656709200@www.trouphistory.org
SUMMARY:Strange LaGrange: Ghosts\, Legends\, and Spirited History - A Walking Tour
DESCRIPTION:A ghostly tour of downtown LaGrange to hear about the spirited history of Troup County and those who call it home.\n\n\n\n\n\nAbout this event\n\n\nJoin Troup County Historical Society staff member and Southern Spirit Guide\, Lewis Powell\, for a ghostly tour of downtown LaGrange to hear about the spirited history of Troup County and those who call it home. Tours will depart from the Legacy Museum on Main at 7 pm\, rain or shine\, and move through the downtown area. Be sure to wear comfortable shoes\, bring a water bottle\, and an umbrella if the weather calls for rain!
URL:https://www.trouphistory.org/events/strange-lagrange-ghosts-legends-and-spirited-history-a-walking-tour/2022-07-01/
LOCATION:Legacy Museum on Main\, 136 Main Street\, LaGrange\, GA\, 30241\, United States
CATEGORIES:Walking Tours
ATTACH;FMTTYPE=image/jpeg:https://www.trouphistory.org/wp-content/uploads/0119_VisitLaGrange_S5_4T2A4375-768x512-1.jpg
ORGANIZER;CN="Troup County Archives":MAILTO:info@trouphistory.org
END:VEVENT
BEGIN:VEVENT
DTSTART;TZID=America/New_York:20220702T130000
DTEND;TZID=America/New_York:20220702T160000
DTSTAMP:20260424T115911
CREATED:20220413T033759Z
LAST-MODIFIED:20220413T033759Z
UID:10000469-1656766800-1656777600@www.trouphistory.org
SUMMARY:Hands on History
DESCRIPTION:Every first Saturday\, kids and their families are welcome to enjoy story times\, hands-on activities\, or games specially designed to engage younger historians. \nDrop in every first Saturday of the month anytime between 1pm and 4pm for a craft and a little history on the side. \nAppropriate age is dependent on the family – all are welcome. For more information\, email info@trouparchives.org or call 706.884.1828.
URL:https://www.trouphistory.org/events/hands-on-history/2022-07-02/
LOCATION:Legacy Museum on Main\, 136 Main Street\, LaGrange\, GA\, 30241\, United States
CATEGORIES:Young Historians
ATTACH;FMTTYPE=image/gif:https://www.trouphistory.org/wp-content/uploads/Hands-on-History-e1649820307547.gif
ORGANIZER;CN="Troup County Archives":MAILTO:info@trouphistory.org
END:VEVENT
BEGIN:VEVENT
DTSTART;TZID=America/New_York:20220708T190000
DTEND;TZID=America/New_York:20220708T210000
DTSTAMP:20260424T115911
CREATED:20220415T225831Z
LAST-MODIFIED:20220415T230057Z
UID:10000446-1657306800-1657314000@www.trouphistory.org
SUMMARY:Strange LaGrange: Ghosts\, Legends\, and Spirited History - A Walking Tour
DESCRIPTION:A ghostly tour of downtown LaGrange to hear about the spirited history of Troup County and those who call it home.\n\n\n\n\n\nAbout this event\n\n\nJoin Troup County Historical Society staff member and Southern Spirit Guide\, Lewis Powell\, for a ghostly tour of downtown LaGrange to hear about the spirited history of Troup County and those who call it home. Tours will depart from the Legacy Museum on Main at 7 pm\, rain or shine\, and move through the downtown area. Be sure to wear comfortable shoes\, bring a water bottle\, and an umbrella if the weather calls for rain!
URL:https://www.trouphistory.org/events/strange-lagrange-ghosts-legends-and-spirited-history-a-walking-tour/2022-07-08/
LOCATION:Legacy Museum on Main\, 136 Main Street\, LaGrange\, GA\, 30241\, United States
CATEGORIES:Walking Tours
ATTACH;FMTTYPE=image/jpeg:https://www.trouphistory.org/wp-content/uploads/0119_VisitLaGrange_S5_4T2A4375-768x512-1.jpg
ORGANIZER;CN="Troup County Archives":MAILTO:info@trouphistory.org
END:VEVENT
BEGIN:VEVENT
DTSTART;TZID=America/New_York:20220715T190000
DTEND;TZID=America/New_York:20220715T210000
DTSTAMP:20260424T115911
CREATED:20220415T225831Z
LAST-MODIFIED:20220415T230057Z
UID:10000447-1657911600-1657918800@www.trouphistory.org
SUMMARY:Strange LaGrange: Ghosts\, Legends\, and Spirited History - A Walking Tour
DESCRIPTION:A ghostly tour of downtown LaGrange to hear about the spirited history of Troup County and those who call it home.\n\n\n\n\n\nAbout this event\n\n\nJoin Troup County Historical Society staff member and Southern Spirit Guide\, Lewis Powell\, for a ghostly tour of downtown LaGrange to hear about the spirited history of Troup County and those who call it home. Tours will depart from the Legacy Museum on Main at 7 pm\, rain or shine\, and move through the downtown area. Be sure to wear comfortable shoes\, bring a water bottle\, and an umbrella if the weather calls for rain!
URL:https://www.trouphistory.org/events/strange-lagrange-ghosts-legends-and-spirited-history-a-walking-tour/2022-07-15/
LOCATION:Legacy Museum on Main\, 136 Main Street\, LaGrange\, GA\, 30241\, United States
CATEGORIES:Walking Tours
ATTACH;FMTTYPE=image/jpeg:https://www.trouphistory.org/wp-content/uploads/0119_VisitLaGrange_S5_4T2A4375-768x512-1.jpg
ORGANIZER;CN="Troup County Archives":MAILTO:info@trouphistory.org
END:VEVENT
BEGIN:VEVENT
DTSTART;TZID=America/New_York:20220716T090000
DTEND;TZID=America/New_York:20220716T130000
DTSTAMP:20260424T115911
CREATED:20220302T234941Z
LAST-MODIFIED:20220526T201439Z
UID:10000475-1657962000-1657976400@www.trouphistory.org
SUMMARY:Historic Car Show
DESCRIPTION:Classic Car Show: July 16\, 9am – 1pm \nBEEP BEEP! Make way for the historic cars! To open the new exhibit Troup County Historical Society will host a classic car show on Main Street! Come out and take a gander at hot rods\, gas guzzlers\, roadsters\, and just about any other automobile you can remember!
URL:https://www.trouphistory.org/events/historic-car-show/
LOCATION:Legacy Museum on Main\, 136 Main Street\, LaGrange\, GA\, 30241\, United States
CATEGORIES:General Event
ATTACH;FMTTYPE=image/png:https://www.trouphistory.org/wp-content/uploads/archives-hitting-the-road-01.png
ORGANIZER;CN="Troup County Archives":MAILTO:info@trouphistory.org
END:VEVENT
BEGIN:VEVENT
DTSTART;TZID=America/New_York:20220722T190000
DTEND;TZID=America/New_York:20220722T210000
DTSTAMP:20260424T115911
CREATED:20220415T225831Z
LAST-MODIFIED:20220415T230057Z
UID:10000448-1658516400-1658523600@www.trouphistory.org
SUMMARY:Strange LaGrange: Ghosts\, Legends\, and Spirited History - A Walking Tour
DESCRIPTION:A ghostly tour of downtown LaGrange to hear about the spirited history of Troup County and those who call it home.\n\n\n\n\n\nAbout this event\n\n\nJoin Troup County Historical Society staff member and Southern Spirit Guide\, Lewis Powell\, for a ghostly tour of downtown LaGrange to hear about the spirited history of Troup County and those who call it home. Tours will depart from the Legacy Museum on Main at 7 pm\, rain or shine\, and move through the downtown area. Be sure to wear comfortable shoes\, bring a water bottle\, and an umbrella if the weather calls for rain!
URL:https://www.trouphistory.org/events/strange-lagrange-ghosts-legends-and-spirited-history-a-walking-tour/2022-07-22/
LOCATION:Legacy Museum on Main\, 136 Main Street\, LaGrange\, GA\, 30241\, United States
CATEGORIES:Walking Tours
ATTACH;FMTTYPE=image/jpeg:https://www.trouphistory.org/wp-content/uploads/0119_VisitLaGrange_S5_4T2A4375-768x512-1.jpg
ORGANIZER;CN="Troup County Archives":MAILTO:info@trouphistory.org
END:VEVENT
BEGIN:VEVENT
DTSTART;TZID=America/New_York:20220729T190000
DTEND;TZID=America/New_York:20220729T210000
DTSTAMP:20260424T115911
CREATED:20220415T225831Z
LAST-MODIFIED:20220415T230057Z
UID:10000449-1659121200-1659128400@www.trouphistory.org
SUMMARY:Strange LaGrange: Ghosts\, Legends\, and Spirited History - A Walking Tour
DESCRIPTION:A ghostly tour of downtown LaGrange to hear about the spirited history of Troup County and those who call it home.\n\n\n\n\n\nAbout this event\n\n\nJoin Troup County Historical Society staff member and Southern Spirit Guide\, Lewis Powell\, for a ghostly tour of downtown LaGrange to hear about the spirited history of Troup County and those who call it home. Tours will depart from the Legacy Museum on Main at 7 pm\, rain or shine\, and move through the downtown area. Be sure to wear comfortable shoes\, bring a water bottle\, and an umbrella if the weather calls for rain!
URL:https://www.trouphistory.org/events/strange-lagrange-ghosts-legends-and-spirited-history-a-walking-tour/2022-07-29/
LOCATION:Legacy Museum on Main\, 136 Main Street\, LaGrange\, GA\, 30241\, United States
CATEGORIES:Walking Tours
ATTACH;FMTTYPE=image/jpeg:https://www.trouphistory.org/wp-content/uploads/0119_VisitLaGrange_S5_4T2A4375-768x512-1.jpg
ORGANIZER;CN="Troup County Archives":MAILTO:info@trouphistory.org
END:VEVENT
END:VCALENDAR