BEGIN:VCALENDAR
VERSION:2.0
PRODID:-//Troup County Archives &amp; Legacy Museum on Main - ECPv6.15.20//NONSGML v1.0//EN
CALSCALE:GREGORIAN
METHOD:PUBLISH
X-ORIGINAL-URL:https://www.trouphistory.org
X-WR-CALDESC:Events for Troup County Archives &amp; Legacy Museum on Main
REFRESH-INTERVAL;VALUE=DURATION:PT1H
X-Robots-Tag:noindex
X-PUBLISHED-TTL:PT1H
BEGIN:VTIMEZONE
TZID:America/New_York
BEGIN:DAYLIGHT
TZOFFSETFROM:-0500
TZOFFSETTO:-0400
TZNAME:EDT
DTSTART:20200308T070000
END:DAYLIGHT
BEGIN:STANDARD
TZOFFSETFROM:-0400
TZOFFSETTO:-0500
TZNAME:EST
DTSTART:20201101T060000
END:STANDARD
BEGIN:DAYLIGHT
TZOFFSETFROM:-0500
TZOFFSETTO:-0400
TZNAME:EDT
DTSTART:20210314T070000
END:DAYLIGHT
BEGIN:STANDARD
TZOFFSETFROM:-0400
TZOFFSETTO:-0500
TZNAME:EST
DTSTART:20211107T060000
END:STANDARD
BEGIN:DAYLIGHT
TZOFFSETFROM:-0500
TZOFFSETTO:-0400
TZNAME:EDT
DTSTART:20220313T070000
END:DAYLIGHT
BEGIN:STANDARD
TZOFFSETFROM:-0400
TZOFFSETTO:-0500
TZNAME:EST
DTSTART:20221106T060000
END:STANDARD
BEGIN:DAYLIGHT
TZOFFSETFROM:-0500
TZOFFSETTO:-0400
TZNAME:EDT
DTSTART:20230312T070000
END:DAYLIGHT
BEGIN:STANDARD
TZOFFSETFROM:-0400
TZOFFSETTO:-0500
TZNAME:EST
DTSTART:20231105T060000
END:STANDARD
END:VTIMEZONE
BEGIN:VEVENT
DTSTART;VALUE=DATE:20210713
DTEND;VALUE=DATE:20220628
DTSTAMP:20260424T142907
CREATED:20220302T223930Z
LAST-MODIFIED:20220419T153248Z
UID:10000498-1626206400-1656359999@www.trouphistory.org
SUMMARY:Gather 'Round the Table: Culinary History of West Georgia
DESCRIPTION:Holidays\, celebrations\, funerals\, Sundays\, there are few occasions Southerners don’t celebrate around a table. Delve into the history of foods featured on that table.  On exhibit July 14\, 2021 – June 27\, 2022
URL:https://www.trouphistory.org/events/gather-round-the-table-culinary-history-of-west-georgia/
LOCATION:Legacy Museum on Main\, 136 Main Street\, LaGrange\, GA\, 30241\, United States
CATEGORIES:Exhibits
ATTACH;FMTTYPE=image/jpeg:https://www.trouphistory.org/wp-content/uploads/Gather-Round-the-Table-V2-01.jpg
ORGANIZER;CN="Troup County Archives":MAILTO:info@trouphistory.org
END:VEVENT
BEGIN:VEVENT
DTSTART;TZID=America/New_York:20220603T190000
DTEND;TZID=America/New_York:20220603T210000
DTSTAMP:20260424T142907
CREATED:20220415T225831Z
LAST-MODIFIED:20220415T230057Z
UID:10000441-1654282800-1654290000@www.trouphistory.org
SUMMARY:Strange LaGrange: Ghosts\, Legends\, and Spirited History - A Walking Tour
DESCRIPTION:A ghostly tour of downtown LaGrange to hear about the spirited history of Troup County and those who call it home.\n\n\n\n\n\nAbout this event\n\n\nJoin Troup County Historical Society staff member and Southern Spirit Guide\, Lewis Powell\, for a ghostly tour of downtown LaGrange to hear about the spirited history of Troup County and those who call it home. Tours will depart from the Legacy Museum on Main at 7 pm\, rain or shine\, and move through the downtown area. Be sure to wear comfortable shoes\, bring a water bottle\, and an umbrella if the weather calls for rain!
URL:https://www.trouphistory.org/events/strange-lagrange-ghosts-legends-and-spirited-history-a-walking-tour/2022-06-03/
LOCATION:Legacy Museum on Main\, 136 Main Street\, LaGrange\, GA\, 30241\, United States
CATEGORIES:Walking Tours
ATTACH;FMTTYPE=image/jpeg:https://www.trouphistory.org/wp-content/uploads/0119_VisitLaGrange_S5_4T2A4375-768x512-1.jpg
ORGANIZER;CN="Troup County Archives":MAILTO:info@trouphistory.org
END:VEVENT
BEGIN:VEVENT
DTSTART;TZID=America/New_York:20220604T130000
DTEND;TZID=America/New_York:20220604T160000
DTSTAMP:20260424T142907
CREATED:20220413T033759Z
LAST-MODIFIED:20220413T033759Z
UID:10000468-1654347600-1654358400@www.trouphistory.org
SUMMARY:Hands on History
DESCRIPTION:Every first Saturday\, kids and their families are welcome to enjoy story times\, hands-on activities\, or games specially designed to engage younger historians. \nDrop in every first Saturday of the month anytime between 1pm and 4pm for a craft and a little history on the side. \nAppropriate age is dependent on the family – all are welcome. For more information\, email info@trouparchives.org or call 706.884.1828.
URL:https://www.trouphistory.org/events/hands-on-history/2022-06-04/
LOCATION:Legacy Museum on Main\, 136 Main Street\, LaGrange\, GA\, 30241\, United States
CATEGORIES:Young Historians
ATTACH;FMTTYPE=image/gif:https://www.trouphistory.org/wp-content/uploads/Hands-on-History-e1649820307547.gif
ORGANIZER;CN="Troup County Archives":MAILTO:info@trouphistory.org
END:VEVENT
BEGIN:VEVENT
DTSTART;TZID=America/New_York:20220607T120000
DTEND;TZID=America/New_York:20220607T130000
DTSTAMP:20260424T142907
CREATED:20220216T020231Z
LAST-MODIFIED:20220303T201544Z
UID:10000485-1654603200-1654606800@www.trouphistory.org
SUMMARY:High Noon History: Lewis Powell
DESCRIPTION:Archivist Lewis Powell will take listeners on a proverbial walk around the block with the history of Downtown LaGrange. Pack a lunchbox (or order a boxed lunch from Mare Sol)\, bring a friend\, and enjoy some history on Lafayette Square. Talks will last about thirty minutes allowing plenty of time to get back to work and the rest of the day. \nTuesday\, April 21\, May 3\, and June 3 at 12:00 noon on the Northwestern corner of Lafayette Square\, Downtown LaGrange. Some chairs will be available on a first-come-first-serve basis. No reservations required unless ordering a boxed meal. To order a boxed lunch\, email info@trouparchives.org or call 706.884.1828 by the Monday before each event.
URL:https://www.trouphistory.org/events/highnoon-history-lewis-powell/
LOCATION:Lafayette Square\, 25 W Lafayette Square\, LaGrange\, Georgia\, 30240
CATEGORIES:Lecture
ATTACH;FMTTYPE=image/jpeg:https://www.trouphistory.org/wp-content/uploads/High-Noon-History.jpg
ORGANIZER;CN="Troup County Archives":MAILTO:info@trouphistory.org
END:VEVENT
BEGIN:VEVENT
DTSTART;TZID=America/New_York:20220610T190000
DTEND;TZID=America/New_York:20220610T210000
DTSTAMP:20260424T142907
CREATED:20220415T225831Z
LAST-MODIFIED:20220415T230057Z
UID:10000442-1654887600-1654894800@www.trouphistory.org
SUMMARY:Strange LaGrange: Ghosts\, Legends\, and Spirited History - A Walking Tour
DESCRIPTION:A ghostly tour of downtown LaGrange to hear about the spirited history of Troup County and those who call it home.\n\n\n\n\n\nAbout this event\n\n\nJoin Troup County Historical Society staff member and Southern Spirit Guide\, Lewis Powell\, for a ghostly tour of downtown LaGrange to hear about the spirited history of Troup County and those who call it home. Tours will depart from the Legacy Museum on Main at 7 pm\, rain or shine\, and move through the downtown area. Be sure to wear comfortable shoes\, bring a water bottle\, and an umbrella if the weather calls for rain!
URL:https://www.trouphistory.org/events/strange-lagrange-ghosts-legends-and-spirited-history-a-walking-tour/2022-06-10/
LOCATION:Legacy Museum on Main\, 136 Main Street\, LaGrange\, GA\, 30241\, United States
CATEGORIES:Walking Tours
ATTACH;FMTTYPE=image/jpeg:https://www.trouphistory.org/wp-content/uploads/0119_VisitLaGrange_S5_4T2A4375-768x512-1.jpg
ORGANIZER;CN="Troup County Archives":MAILTO:info@trouphistory.org
END:VEVENT
BEGIN:VEVENT
DTSTART;TZID=America/New_York:20220617T190000
DTEND;TZID=America/New_York:20220617T210000
DTSTAMP:20260424T142907
CREATED:20220415T225831Z
LAST-MODIFIED:20220415T230057Z
UID:10000443-1655492400-1655499600@www.trouphistory.org
SUMMARY:Strange LaGrange: Ghosts\, Legends\, and Spirited History - A Walking Tour
DESCRIPTION:A ghostly tour of downtown LaGrange to hear about the spirited history of Troup County and those who call it home.\n\n\n\n\n\nAbout this event\n\n\nJoin Troup County Historical Society staff member and Southern Spirit Guide\, Lewis Powell\, for a ghostly tour of downtown LaGrange to hear about the spirited history of Troup County and those who call it home. Tours will depart from the Legacy Museum on Main at 7 pm\, rain or shine\, and move through the downtown area. Be sure to wear comfortable shoes\, bring a water bottle\, and an umbrella if the weather calls for rain!
URL:https://www.trouphistory.org/events/strange-lagrange-ghosts-legends-and-spirited-history-a-walking-tour/2022-06-17/
LOCATION:Legacy Museum on Main\, 136 Main Street\, LaGrange\, GA\, 30241\, United States
CATEGORIES:Walking Tours
ATTACH;FMTTYPE=image/jpeg:https://www.trouphistory.org/wp-content/uploads/0119_VisitLaGrange_S5_4T2A4375-768x512-1.jpg
ORGANIZER;CN="Troup County Archives":MAILTO:info@trouphistory.org
END:VEVENT
BEGIN:VEVENT
DTSTART;TZID=America/New_York:20220624T190000
DTEND;TZID=America/New_York:20220624T210000
DTSTAMP:20260424T142907
CREATED:20220415T225831Z
LAST-MODIFIED:20220415T230057Z
UID:10000444-1656097200-1656104400@www.trouphistory.org
SUMMARY:Strange LaGrange: Ghosts\, Legends\, and Spirited History - A Walking Tour
DESCRIPTION:A ghostly tour of downtown LaGrange to hear about the spirited history of Troup County and those who call it home.\n\n\n\n\n\nAbout this event\n\n\nJoin Troup County Historical Society staff member and Southern Spirit Guide\, Lewis Powell\, for a ghostly tour of downtown LaGrange to hear about the spirited history of Troup County and those who call it home. Tours will depart from the Legacy Museum on Main at 7 pm\, rain or shine\, and move through the downtown area. Be sure to wear comfortable shoes\, bring a water bottle\, and an umbrella if the weather calls for rain!
URL:https://www.trouphistory.org/events/strange-lagrange-ghosts-legends-and-spirited-history-a-walking-tour/2022-06-24/
LOCATION:Legacy Museum on Main\, 136 Main Street\, LaGrange\, GA\, 30241\, United States
CATEGORIES:Walking Tours
ATTACH;FMTTYPE=image/jpeg:https://www.trouphistory.org/wp-content/uploads/0119_VisitLaGrange_S5_4T2A4375-768x512-1.jpg
ORGANIZER;CN="Troup County Archives":MAILTO:info@trouphistory.org
END:VEVENT
END:VCALENDAR