BEGIN:VCALENDAR
VERSION:2.0
PRODID:-//Troup County Archives &amp; Legacy Museum on Main - ECPv6.15.20//NONSGML v1.0//EN
CALSCALE:GREGORIAN
METHOD:PUBLISH
X-WR-CALNAME:Troup County Archives &amp; Legacy Museum on Main
X-ORIGINAL-URL:https://www.trouphistory.org
X-WR-CALDESC:Events for Troup County Archives &amp; Legacy Museum on Main
REFRESH-INTERVAL;VALUE=DURATION:PT1H
X-Robots-Tag:noindex
X-PUBLISHED-TTL:PT1H
BEGIN:VTIMEZONE
TZID:America/New_York
BEGIN:DAYLIGHT
TZOFFSETFROM:-0500
TZOFFSETTO:-0400
TZNAME:EDT
DTSTART:20200308T070000
END:DAYLIGHT
BEGIN:STANDARD
TZOFFSETFROM:-0400
TZOFFSETTO:-0500
TZNAME:EST
DTSTART:20201101T060000
END:STANDARD
BEGIN:DAYLIGHT
TZOFFSETFROM:-0500
TZOFFSETTO:-0400
TZNAME:EDT
DTSTART:20210314T070000
END:DAYLIGHT
BEGIN:STANDARD
TZOFFSETFROM:-0400
TZOFFSETTO:-0500
TZNAME:EST
DTSTART:20211107T060000
END:STANDARD
BEGIN:DAYLIGHT
TZOFFSETFROM:-0500
TZOFFSETTO:-0400
TZNAME:EDT
DTSTART:20220313T070000
END:DAYLIGHT
BEGIN:STANDARD
TZOFFSETFROM:-0400
TZOFFSETTO:-0500
TZNAME:EST
DTSTART:20221106T060000
END:STANDARD
BEGIN:DAYLIGHT
TZOFFSETFROM:-0500
TZOFFSETTO:-0400
TZNAME:EDT
DTSTART:20230312T070000
END:DAYLIGHT
BEGIN:STANDARD
TZOFFSETFROM:-0400
TZOFFSETTO:-0500
TZNAME:EST
DTSTART:20231105T060000
END:STANDARD
END:VTIMEZONE
BEGIN:VEVENT
DTSTART;VALUE=DATE:20210713
DTEND;VALUE=DATE:20220628
DTSTAMP:20260424T210752
CREATED:20220302T223930Z
LAST-MODIFIED:20220419T153248Z
UID:10000498-1626206400-1656359999@www.trouphistory.org
SUMMARY:Gather 'Round the Table: Culinary History of West Georgia
DESCRIPTION:Holidays\, celebrations\, funerals\, Sundays\, there are few occasions Southerners don’t celebrate around a table. Delve into the history of foods featured on that table.  On exhibit July 14\, 2021 – June 27\, 2022
URL:https://www.trouphistory.org/events/gather-round-the-table-culinary-history-of-west-georgia/
LOCATION:Legacy Museum on Main\, 136 Main Street\, LaGrange\, GA\, 30241\, United States
CATEGORIES:Exhibits
ATTACH;FMTTYPE=image/jpeg:https://www.trouphistory.org/wp-content/uploads/Gather-Round-the-Table-V2-01.jpg
ORGANIZER;CN="Troup County Archives":MAILTO:info@trouphistory.org
END:VEVENT
BEGIN:VEVENT
DTSTART;VALUE=DATE:20220101
DTEND;VALUE=DATE:20220302
DTSTAMP:20260424T210752
CREATED:20220419T201659Z
LAST-MODIFIED:20220727T183732Z
UID:10000251-1640995200-1646179199@www.trouphistory.org
SUMMARY:50th Anniversary Popup Exhibit
DESCRIPTION:
URL:https://www.trouphistory.org/events/50th-anniversary-popup-exhibit/
LOCATION:Legacy Museum on Main\, 136 Main Street\, LaGrange\, GA\, 30241\, United States
CATEGORIES:Exhibits
ATTACH;FMTTYPE=image/jpeg:https://www.trouphistory.org/wp-content/uploads/Logo-1-e1650399327428.jpg
ORGANIZER;CN="Troup County Archives":MAILTO:info@trouphistory.org
END:VEVENT
BEGIN:VEVENT
DTSTART;VALUE=DATE:20220217
DTEND;VALUE=DATE:20220402
DTSTAMP:20260424T210752
CREATED:20220302T232004Z
LAST-MODIFIED:20220303T153542Z
UID:10000429-1645124400-1648843199@www.trouphistory.org
SUMMARY:Popup Exhibit: Azalea Storytelling Festival
DESCRIPTION:In celebration of Azalea Storytelling Festival’s twenty-fifth anniversary\, Legacy Museum on Main will install a popup exhibit featuring the history of one of LaGrange’s most favorite events. On exhibit at Legacy Museum February 18 – April 1.
URL:https://www.trouphistory.org/events/popup-exhibit-azalea-storytelling-festival/
LOCATION:Legacy Museum on Main\, 136 Main Street\, LaGrange\, GA\, 30241\, United States
CATEGORIES:Exhibits
ATTACH;FMTTYPE=image/jpeg:https://www.trouphistory.org/wp-content/uploads/Azalea-Reception-Card_Page_1.jpg
ORGANIZER;CN="Troup County Archives":MAILTO:info@trouphistory.org
END:VEVENT
BEGIN:VEVENT
DTSTART;TZID=America/New_York:20220303T100000
DTEND;TZID=America/New_York:20220303T103000
DTSTAMP:20260424T210752
CREATED:20220302T223027Z
LAST-MODIFIED:20220519T170124Z
UID:10000487-1646301600-1646303400@www.trouphistory.org
SUMMARY:Baby History
DESCRIPTION:This weekly program is designed for the youngest historians! Kiddos ages 0-4\, and their grown-up\, enjoy stories\, songs\, and more.  Every Thursday\, 10:00 to 10:30 a.m.
URL:https://www.trouphistory.org/events/baby-history/2022-03-03/
LOCATION:Legacy Museum on Main\, 136 Main Street\, LaGrange\, GA\, 30241\, United States
CATEGORIES:Young Historians
ATTACH;FMTTYPE=image/jpeg:https://www.trouphistory.org/wp-content/uploads/baby-history.jpg
ORGANIZER;CN="Troup County Archives":MAILTO:info@trouphistory.org
END:VEVENT
BEGIN:VEVENT
DTSTART;TZID=America/New_York:20220310T100000
DTEND;TZID=America/New_York:20220310T103000
DTSTAMP:20260424T210752
CREATED:20220302T223027Z
LAST-MODIFIED:20220519T170124Z
UID:10000488-1646906400-1646908200@www.trouphistory.org
SUMMARY:Baby History
DESCRIPTION:This weekly program is designed for the youngest historians! Kiddos ages 0-4\, and their grown-up\, enjoy stories\, songs\, and more.  Every Thursday\, 10:00 to 10:30 a.m.
URL:https://www.trouphistory.org/events/baby-history/2022-03-10/
LOCATION:Legacy Museum on Main\, 136 Main Street\, LaGrange\, GA\, 30241\, United States
CATEGORIES:Young Historians
ATTACH;FMTTYPE=image/jpeg:https://www.trouphistory.org/wp-content/uploads/baby-history.jpg
ORGANIZER;CN="Troup County Archives":MAILTO:info@trouphistory.org
END:VEVENT
BEGIN:VEVENT
DTSTART;TZID=America/New_York:20220317T100000
DTEND;TZID=America/New_York:20220317T103000
DTSTAMP:20260424T210752
CREATED:20220302T223027Z
LAST-MODIFIED:20220519T170124Z
UID:10000489-1647511200-1647513000@www.trouphistory.org
SUMMARY:Baby History
DESCRIPTION:This weekly program is designed for the youngest historians! Kiddos ages 0-4\, and their grown-up\, enjoy stories\, songs\, and more.  Every Thursday\, 10:00 to 10:30 a.m.
URL:https://www.trouphistory.org/events/baby-history/2022-03-17/
LOCATION:Legacy Museum on Main\, 136 Main Street\, LaGrange\, GA\, 30241\, United States
CATEGORIES:Young Historians
ATTACH;FMTTYPE=image/jpeg:https://www.trouphistory.org/wp-content/uploads/baby-history.jpg
ORGANIZER;CN="Troup County Archives":MAILTO:info@trouphistory.org
END:VEVENT
BEGIN:VEVENT
DTSTART;TZID=America/New_York:20220324T100000
DTEND;TZID=America/New_York:20220324T103000
DTSTAMP:20260424T210752
CREATED:20220302T223027Z
LAST-MODIFIED:20220519T170124Z
UID:10000490-1648116000-1648117800@www.trouphistory.org
SUMMARY:Baby History
DESCRIPTION:This weekly program is designed for the youngest historians! Kiddos ages 0-4\, and their grown-up\, enjoy stories\, songs\, and more.  Every Thursday\, 10:00 to 10:30 a.m.
URL:https://www.trouphistory.org/events/baby-history/2022-03-24/
LOCATION:Legacy Museum on Main\, 136 Main Street\, LaGrange\, GA\, 30241\, United States
CATEGORIES:Young Historians
ATTACH;FMTTYPE=image/jpeg:https://www.trouphistory.org/wp-content/uploads/baby-history.jpg
ORGANIZER;CN="Troup County Archives":MAILTO:info@trouphistory.org
END:VEVENT
BEGIN:VEVENT
DTSTART;TZID=America/New_York:20220331T100000
DTEND;TZID=America/New_York:20220331T103000
DTSTAMP:20260424T210752
CREATED:20220302T223027Z
LAST-MODIFIED:20220519T170124Z
UID:10000491-1648720800-1648722600@www.trouphistory.org
SUMMARY:Baby History
DESCRIPTION:This weekly program is designed for the youngest historians! Kiddos ages 0-4\, and their grown-up\, enjoy stories\, songs\, and more.  Every Thursday\, 10:00 to 10:30 a.m.
URL:https://www.trouphistory.org/events/baby-history/2022-03-31/
LOCATION:Legacy Museum on Main\, 136 Main Street\, LaGrange\, GA\, 30241\, United States
CATEGORIES:Young Historians
ATTACH;FMTTYPE=image/jpeg:https://www.trouphistory.org/wp-content/uploads/baby-history.jpg
ORGANIZER;CN="Troup County Archives":MAILTO:info@trouphistory.org
END:VEVENT
END:VCALENDAR